BEGIN:VCALENDAR
VERSION:2.0
PRODID:-//Church of the Good Shepherd - ECPv6.15.20//NONSGML v1.0//EN
CALSCALE:GREGORIAN
METHOD:PUBLISH
X-ORIGINAL-URL:https://goodshepherdbinghamton.org
X-WR-CALDESC:Events for Church of the Good Shepherd
REFRESH-INTERVAL;VALUE=DURATION:PT1H
X-Robots-Tag:noindex
X-PUBLISHED-TTL:PT1H
BEGIN:VTIMEZONE
TZID:America/New_York
BEGIN:DAYLIGHT
TZOFFSETFROM:-0500
TZOFFSETTO:-0400
TZNAME:EDT
DTSTART:20230312T070000
END:DAYLIGHT
BEGIN:STANDARD
TZOFFSETFROM:-0400
TZOFFSETTO:-0500
TZNAME:EST
DTSTART:20231105T060000
END:STANDARD
BEGIN:DAYLIGHT
TZOFFSETFROM:-0500
TZOFFSETTO:-0400
TZNAME:EDT
DTSTART:20240310T070000
END:DAYLIGHT
BEGIN:STANDARD
TZOFFSETFROM:-0400
TZOFFSETTO:-0500
TZNAME:EST
DTSTART:20241103T060000
END:STANDARD
BEGIN:DAYLIGHT
TZOFFSETFROM:-0500
TZOFFSETTO:-0400
TZNAME:EDT
DTSTART:20250309T070000
END:DAYLIGHT
BEGIN:STANDARD
TZOFFSETFROM:-0400
TZOFFSETTO:-0500
TZNAME:EST
DTSTART:20251102T060000
END:STANDARD
END:VTIMEZONE
BEGIN:VEVENT
DTSTART;TZID=America/New_York:20240924T090000
DTEND;TZID=America/New_York:20240924T100000
DTSTAMP:20260425T081642
CREATED:20241007T195225Z
LAST-MODIFIED:20241028T185139Z
UID:32837-1727168400-1727172000@goodshepherdbinghamton.org
SUMMARY:Tuesday Morning Bible Study
DESCRIPTION:Tuesday Morning Bible Study meets at 9:05am to walk through different books of the bible\, verse by verse.  Taught by a member of the pastoral staff in the main room of the parish hall.  This class can be viewed in person or online each week by livestream.  \nThis class is currently working on a study focusing the book of 2 Samuel. \nThis class is meeting online and in person in the parish hall.  It can be viewed at https://www.facebook.com/groups/CoGSMedia/
URL:https://goodshepherdbinghamton.org/event/tuesday-morning-bible-study-63/
END:VEVENT
BEGIN:VEVENT
DTSTART;TZID=America/New_York:20240924T153000
DTEND;TZID=America/New_York:20240924T164500
DTSTAMP:20260425T081642
CREATED:20241014T181210Z
LAST-MODIFIED:20241014T183447Z
UID:33019-1727191800-1727196300@goodshepherdbinghamton.org
SUMMARY:Good Shepherd Choir Rehearsal
DESCRIPTION:If you would like more information about the music program at Good Shepherd\, please contact Michael Berman.
URL:https://goodshepherdbinghamton.org/event/good-shepherd-choir-rehearsal-17/
END:VEVENT
BEGIN:VEVENT
DTSTART;TZID=America/New_York:20240925T070000
DTEND;TZID=America/New_York:20240925T080000
DTSTAMP:20260425T081642
CREATED:20241014T181510Z
LAST-MODIFIED:20241028T191109Z
UID:33077-1727247600-1727251200@goodshepherdbinghamton.org
SUMMARY:Morning Prayer
DESCRIPTION:Morning Prayer meets online by Zoom at 7am Monday through Friday. Theliturgy and readings are available at www.dailyoffice2019.com.  \nJoin the parishemail list and look for a weekly email invitation in your inbox.
URL:https://goodshepherdbinghamton.org/event/morning-prayer-8/
CATEGORIES:Celebration
END:VEVENT
BEGIN:VEVENT
DTSTART;TZID=America/New_York:20240925T183000
DTEND;TZID=America/New_York:20240925T200000
DTSTAMP:20260425T081642
CREATED:20241014T181255Z
LAST-MODIFIED:20241014T183532Z
UID:33032-1727289000-1727294400@goodshepherdbinghamton.org
SUMMARY:Good Shepherd Choir Rehearsal
DESCRIPTION: If you would like more information about the music program at Good Shepherd\, please contact Michael Berman.
URL:https://goodshepherdbinghamton.org/event/good-shepherd-choir-rehearsal-30/
END:VEVENT
BEGIN:VEVENT
DTSTART;TZID=America/New_York:20240926T070000
DTEND;TZID=America/New_York:20240926T080000
DTSTAMP:20260425T081642
CREATED:20241014T181510Z
LAST-MODIFIED:20241028T191109Z
UID:33078-1727334000-1727337600@goodshepherdbinghamton.org
SUMMARY:Morning Prayer
DESCRIPTION:Morning Prayer meets online by Zoom at 7am Monday through Friday. Theliturgy and readings are available at www.dailyoffice2019.com.  \nJoin the parishemail list and look for a weekly email invitation in your inbox.
URL:https://goodshepherdbinghamton.org/event/morning-prayer-9/
CATEGORIES:Celebration
END:VEVENT
BEGIN:VEVENT
DTSTART;TZID=America/New_York:20240926T173000
DTEND;TZID=America/New_York:20240926T183000
DTSTAMP:20260425T081642
CREATED:20240702T181324Z
LAST-MODIFIED:20241014T183417Z
UID:32180-1727371800-1727375400@goodshepherdbinghamton.org
SUMMARY:Shepherd's Bowl Community Meal
DESCRIPTION:Each Thursday evening\, Good Shepherd offers a free nutritious meal to thepeople of Good Shepherd and the wider community. If you are able\, this is a great time to get to know others and enjoya free and delicious meal. \nThe Rev. Jonathan Groves leads a beginners Bible study at 6:00 and anyone is welcome to attend.  The study is currently working on the book of Judges. \nPlease find our page on Facebook\, Shepherd’s Bowl Free Community Meal\, and follow\, like and share posts\, and invite friends. 
URL:https://goodshepherdbinghamton.org/event/shepherds-bowl-community-meal-63/
END:VEVENT
BEGIN:VEVENT
DTSTART;TZID=America/New_York:20240926T180000
DTEND;TZID=America/New_York:20240926T190000
DTSTAMP:20260425T081642
CREATED:20241007T194621Z
LAST-MODIFIED:20241014T183332Z
UID:32820-1727373600-1727377200@goodshepherdbinghamton.org
SUMMARY:Beginner's Bible Study
DESCRIPTION:Every Thursday evening at 6pm\, there is a beginner’s bible study at Good Shepherd.  All are welcome! \nThis is a great place to connect with others and learn more about what God has to say to us through his word.  The class is taught by The Rev. Dcn. Warren Musselman\, and the class is currently studying the book of James. 
URL:https://goodshepherdbinghamton.org/event/beginners-bible-study-51/
END:VEVENT
BEGIN:VEVENT
DTSTART;TZID=America/New_York:20240927T063000
DTEND;TZID=America/New_York:20240927T080000
DTSTAMP:20260425T081642
CREATED:20240702T181743Z
LAST-MODIFIED:20241028T191111Z
UID:32197-1727418600-1727424000@goodshepherdbinghamton.org
SUMMARY:Men's Breakfast and Bible Study
DESCRIPTION:Every Friday morning at 6:30am men from Good Shepherd\, other area churches\, and the community gather to share a warm breakfast and study the bible. The study is expositional\, moving verse by verse through one book of the bible at a time\, with the purpose of coming to a better understanding of God and his word. \nThere is plenty of discussion\, question and answer time\, prayer\, and fellowship. You do not have to be a member of Good Shepherd or any other church to attend. The study meets at Good Shepherd\, downstairs in the parish hall. It usually ends at 8:00am but men come and go during the study according to their work schedules. Men of all ages are welcome to come\, eat\, and learn from the scriptures.This class is currently studying the book of Revelation.If you’d like more information\, please contact Jonathan Groves for a link to access the class @ jg.arrowhead@gmail.com
URL:https://goodshepherdbinghamton.org/event/mens-breakfast-and-bible-study-62/
CATEGORIES:Celebration
END:VEVENT
BEGIN:VEVENT
DTSTART;TZID=America/New_York:20240927T070000
DTEND;TZID=America/New_York:20240927T080000
DTSTAMP:20260425T081642
CREATED:20241014T181510Z
LAST-MODIFIED:20241028T191109Z
UID:33079-1727420400-1727424000@goodshepherdbinghamton.org
SUMMARY:Morning Prayer
DESCRIPTION:Morning Prayer meets online by Zoom at 7am Monday through Friday. Theliturgy and readings are available at www.dailyoffice2019.com.  \nJoin the parishemail list and look for a weekly email invitation in your inbox.
URL:https://goodshepherdbinghamton.org/event/morning-prayer-10/
CATEGORIES:Celebration
END:VEVENT
BEGIN:VEVENT
DTSTART;TZID=America/New_York:20240927T163000
DTEND;TZID=America/New_York:20240927T173000
DTSTAMP:20260425T081642
CREATED:20241007T200359Z
LAST-MODIFIED:20241014T183648Z
UID:32853-1727454600-1727458200@goodshepherdbinghamton.org
SUMMARY:Women's Bible Study
DESCRIPTION:This study meets at 4:30 pm on Friday afternoons in the Parish Hall (lower level).   \nAnne Kennedy is leading and we are currently studying the book of Luke. \nChildren are welcome—as in\, we hope to have some childcare available. Often\, some of the families will come early and the children will play while the mothers visit.   \nPlease contact the office at (607)723-8032 for more information.
URL:https://goodshepherdbinghamton.org/event/womens-bible-study-7/
END:VEVENT
BEGIN:VEVENT
DTSTART;TZID=America/New_York:20240929T080000
DTEND;TZID=America/New_York:20240929T090000
DTSTAMP:20260425T081642
CREATED:20240702T184646Z
LAST-MODIFIED:20241014T182916Z
UID:32237-1727596800-1727600400@goodshepherdbinghamton.org
SUMMARY:First Service
DESCRIPTION:This is an early\, more quiet version of the service at 10:30. \nThe 8am service is not currently being live-streamed. \nThis service involves readings from the Bible\, a sermon\, offering\, confession\, and communion.  There is no music during this service.
URL:https://goodshepherdbinghamton.org/event/first-service-62/
END:VEVENT
BEGIN:VEVENT
DTSTART;TZID=America/New_York:20240929T091500
DTEND;TZID=America/New_York:20240929T101500
DTSTAMP:20260425T081642
CREATED:20241007T193813Z
LAST-MODIFIED:20241014T182817Z
UID:32732-1727601300-1727604900@goodshepherdbinghamton.org
SUMMARY:Christian Education for All
DESCRIPTION:Christian Education for All  \nChildren \nChildren aged 2-11 are invited to pray\, worship\, and learn in specially prepared Montessori-style rooms—The Vineyard (2-3)\, The Pasture (3-6)\, and The Tabernacle (7-11). They study the Bible\, engage with liturgy\, and gradually are oriented to a full life in the church.  \n  \nTeens \nTeens aged12 to 14 cover a range of topics—the Bible\, Liturgy\, Church History\, Apologetics\, the 39 Articles—in a three-year cycle. This is a discussion-style class that prepares kids for confirmation. \n  \nAdult Class  \nEach Sunday a member of the pastoral staff or a guest speakerfacilitates a discussion on topics ranging from Christian literature\, to socialtopics\, the 39 articles\, church history\, and more.     \nThis class meets online and in person in the parish hall of the church.  It can be viewed at https://www.facebook.com/groups/CoGSMedia/
URL:https://goodshepherdbinghamton.org/event/christian-education-for-all-18/
END:VEVENT
BEGIN:VEVENT
DTSTART;TZID=America/New_York:20240929T103000
DTEND;TZID=America/New_York:20240929T120000
DTSTAMP:20260425T081642
CREATED:20240702T183841Z
LAST-MODIFIED:20241014T183002Z
UID:32215-1727605800-1727611200@goodshepherdbinghamton.org
SUMMARY:2nd Service
DESCRIPTION:This is the main service at Good Shepherd.   \nAt this service\, there is a blend of both contemporary and traditional worship music\, bible readings\, a sermon\, confession\, and communion.   \nAt Good Shepherd you will find friendly people\,engaging sermons\, joyful worship\, practical teaching\, and lots of kids. All are welcome! \nThe bulletin is available as a digital download at www.goodshepherdbinghamton.org.   \nThe service is currently open to the public and is being livestreamed at https://www.facebook.com/groups/CoGSMedia/ 
URL:https://goodshepherdbinghamton.org/event/2nd-service-62/
END:VEVENT
BEGIN:VEVENT
DTSTART;TZID=America/New_York:20240929T163000
DTEND;TZID=America/New_York:20240929T180000
DTSTAMP:20260425T081642
CREATED:20241014T180810Z
LAST-MODIFIED:20241014T183047Z
UID:32943-1727627400-1727632800@goodshepherdbinghamton.org
SUMMARY:Good Shepherd Choir Rehearsal
DESCRIPTION:The Good Shepherd Choir gathers to rehearse three times a week on Sunday\, Tuesday\, and Wednesday.   \nIf you would like more information about the music program at Good Shepherd\, please contact Michael Berman.
URL:https://goodshepherdbinghamton.org/event/good-shepherd-choir-rehearsal-2/
END:VEVENT
BEGIN:VEVENT
DTSTART;TZID=America/New_York:20240929T180000
DTEND;TZID=America/New_York:20240929T193000
DTSTAMP:20260425T081642
CREATED:20241014T180855Z
LAST-MODIFIED:20241014T183132Z
UID:32958-1727632800-1727638200@goodshepherdbinghamton.org
SUMMARY:Good Shepherd Youth Group
DESCRIPTION:Good Shepherd Youth Group meets Sundays at 6pm. This is an engagingcontext for kids to grow in: \n1) Knowledge of scripture and doctrine \n2) Faithfulness to Christ \n3) Service to others
URL:https://goodshepherdbinghamton.org/event/good-shepherd-youth-group-2/
END:VEVENT
BEGIN:VEVENT
DTSTART;TZID=America/New_York:20240929T180000
DTEND;TZID=America/New_York:20240929T193000
DTSTAMP:20260425T081642
CREATED:20241014T180940Z
LAST-MODIFIED:20241014T183217Z
UID:32973-1727632800-1727638200@goodshepherdbinghamton.org
SUMMARY:Holy Group Squad
DESCRIPTION:Holy Group Squad is a meeting of college aged young adults. They read and discuss literature through a Christian worldview. \nIf you would like more information about Holy Group Squad\, please contact Jonathan Groves.
URL:https://goodshepherdbinghamton.org/event/holy-group-squad-2/
END:VEVENT
BEGIN:VEVENT
DTSTART;TZID=America/New_York:20240930T070000
DTEND;TZID=America/New_York:20240930T080000
DTSTAMP:20260425T081642
CREATED:20241014T181525Z
LAST-MODIFIED:20241028T191109Z
UID:33080-1727679600-1727683200@goodshepherdbinghamton.org
SUMMARY:Morning Prayer
DESCRIPTION:Morning Prayer meets online by Zoom at 7am Monday through Friday. Theliturgy and readings are available at www.dailyoffice2019.com.  \nJoin the parishemail list and look for a weekly email invitation in your inbox.
URL:https://goodshepherdbinghamton.org/event/morning-prayer-11/
CATEGORIES:Celebration
END:VEVENT
BEGIN:VEVENT
DTSTART;TZID=America/New_York:20241001T070000
DTEND;TZID=America/New_York:20241001T080000
DTSTAMP:20260425T081642
CREATED:20241014T181525Z
LAST-MODIFIED:20241028T191109Z
UID:33081-1727766000-1727769600@goodshepherdbinghamton.org
SUMMARY:Morning Prayer
DESCRIPTION:Morning Prayer meets online by Zoom at 7am Monday through Friday. Theliturgy and readings are available at www.dailyoffice2019.com.  \nJoin the parishemail list and look for a weekly email invitation in your inbox.
URL:https://goodshepherdbinghamton.org/event/morning-prayer-12/
CATEGORIES:Celebration
END:VEVENT
BEGIN:VEVENT
DTSTART;TZID=America/New_York:20241001T090000
DTEND;TZID=America/New_York:20241001T100000
DTSTAMP:20260425T081642
CREATED:20241007T195757Z
LAST-MODIFIED:20241028T185139Z
UID:32838-1727773200-1727776800@goodshepherdbinghamton.org
SUMMARY:Tuesday Morning Bible Study
DESCRIPTION:Tuesday Morning Bible Study meets at 9:05am to walk through different books of the bible\, verse by verse.  Taught by a member of the pastoral staff in the main room of the parish hall.  This class can be viewed in person or online each week by livestream.  \nThis class is currently working on a study focusing the book of 2 Samuel. \nThis class is meeting online and in person in the parish hall.  It can be viewed at https://www.facebook.com/groups/CoGSMedia/
URL:https://goodshepherdbinghamton.org/event/tuesday-morning-bible-study-64/
END:VEVENT
BEGIN:VEVENT
DTSTART;TZID=America/New_York:20241001T153000
DTEND;TZID=America/New_York:20241001T164500
DTSTAMP:20260425T081642
CREATED:20241014T181210Z
LAST-MODIFIED:20241014T183447Z
UID:33020-1727796600-1727801100@goodshepherdbinghamton.org
SUMMARY:Good Shepherd Choir Rehearsal
DESCRIPTION:If you would like more information about the music program at Good Shepherd\, please contact Michael Berman.
URL:https://goodshepherdbinghamton.org/event/good-shepherd-choir-rehearsal-18/
END:VEVENT
BEGIN:VEVENT
DTSTART;TZID=America/New_York:20241002T070000
DTEND;TZID=America/New_York:20241002T080000
DTSTAMP:20260425T081642
CREATED:20241014T181525Z
LAST-MODIFIED:20241028T191109Z
UID:33082-1727852400-1727856000@goodshepherdbinghamton.org
SUMMARY:Morning Prayer
DESCRIPTION:Morning Prayer meets online by Zoom at 7am Monday through Friday. Theliturgy and readings are available at www.dailyoffice2019.com.  \nJoin the parishemail list and look for a weekly email invitation in your inbox.
URL:https://goodshepherdbinghamton.org/event/morning-prayer-13/
CATEGORIES:Celebration
END:VEVENT
BEGIN:VEVENT
DTSTART;TZID=America/New_York:20241002T183000
DTEND;TZID=America/New_York:20241002T200000
DTSTAMP:20260425T081642
CREATED:20241014T181255Z
LAST-MODIFIED:20241014T183532Z
UID:33033-1727893800-1727899200@goodshepherdbinghamton.org
SUMMARY:Good Shepherd Choir Rehearsal
DESCRIPTION: If you would like more information about the music program at Good Shepherd\, please contact Michael Berman.
URL:https://goodshepherdbinghamton.org/event/good-shepherd-choir-rehearsal-31/
END:VEVENT
BEGIN:VEVENT
DTSTART;TZID=America/New_York:20241003T070000
DTEND;TZID=America/New_York:20241003T080000
DTSTAMP:20260425T081642
CREATED:20241014T181525Z
LAST-MODIFIED:20241028T191109Z
UID:33083-1727938800-1727942400@goodshepherdbinghamton.org
SUMMARY:Morning Prayer
DESCRIPTION:Morning Prayer meets online by Zoom at 7am Monday through Friday. Theliturgy and readings are available at www.dailyoffice2019.com.  \nJoin the parishemail list and look for a weekly email invitation in your inbox.
URL:https://goodshepherdbinghamton.org/event/morning-prayer-14/
CATEGORIES:Celebration
END:VEVENT
BEGIN:VEVENT
DTSTART;TZID=America/New_York:20241003T173000
DTEND;TZID=America/New_York:20241003T183000
DTSTAMP:20260425T081642
CREATED:20241007T194001Z
LAST-MODIFIED:20241028T175728Z
UID:32772-1727976600-1727980200@goodshepherdbinghamton.org
SUMMARY:Shepherd's Bowl Community Meal
DESCRIPTION:Each Thursday evening\, Good Shepherd offers a free nutritious meal to thepeople of Good Shepherd and the wider community. If you are able\, this is a great time to get to know others and enjoya free and delicious meal.The Rev. Jonathan Groves leads a beginners Bible study at 6:00 and anyone is welcome to attend.  The study is currently working on the book of Judges.Please find our page on Facebook\, Shepherd’s Bowl Free Community Meal\, and follow\, like and share posts\, and invite friends. 
URL:https://goodshepherdbinghamton.org/event/shepherds-bowl-community-meal-64/
ATTACH;FMTTYPE=image/png:https://goodshepherdbinghamton.org/wp-content/uploads/2024/10/Shepherds-Bowl.png
END:VEVENT
BEGIN:VEVENT
DTSTART;TZID=America/New_York:20241003T180000
DTEND;TZID=America/New_York:20241003T190000
DTSTAMP:20260425T081642
CREATED:20241007T194622Z
LAST-MODIFIED:20241014T183332Z
UID:32821-1727978400-1727982000@goodshepherdbinghamton.org
SUMMARY:Beginner's Bible Study
DESCRIPTION:Every Thursday evening at 6pm\, there is a beginner’s bible study at Good Shepherd.  All are welcome! \nThis is a great place to connect with others and learn more about what God has to say to us through his word.  The class is taught by The Rev. Dcn. Warren Musselman\, and the class is currently studying the book of James. 
URL:https://goodshepherdbinghamton.org/event/beginners-bible-study-52/
END:VEVENT
BEGIN:VEVENT
DTSTART;TZID=America/New_York:20241004T063000
DTEND;TZID=America/New_York:20241004T080000
DTSTAMP:20260425T081642
CREATED:20241007T194118Z
LAST-MODIFIED:20241028T191111Z
UID:32789-1728023400-1728028800@goodshepherdbinghamton.org
SUMMARY:Men's Breakfast and Bible Study
DESCRIPTION:Every Friday morning at 6:30am men from Good Shepherd\, other area churches\, and the community gather to share a warm breakfast and study the bible. The study is expositional\, moving verse by verse through one book of the bible at a time\, with the purpose of coming to a better understanding of God and his word. \nThere is plenty of discussion\, question and answer time\, prayer\, and fellowship. You do not have to be a member of Good Shepherd or any other church to attend. The study meets at Good Shepherd\, downstairs in the parish hall. It usually ends at 8:00am but men come and go during the study according to their work schedules. Men of all ages are welcome to come\, eat\, and learn from the scriptures.This class is currently studying the book of Revelation.If you’d like more information\, please contact Jonathan Groves for a link to access the class @ jg.arrowhead@gmail.com
URL:https://goodshepherdbinghamton.org/event/mens-breakfast-and-bible-study-63/
CATEGORIES:Celebration
END:VEVENT
BEGIN:VEVENT
DTSTART;TZID=America/New_York:20241004T070000
DTEND;TZID=America/New_York:20241004T080000
DTSTAMP:20260425T081642
CREATED:20241014T181526Z
LAST-MODIFIED:20241028T191108Z
UID:33084-1728025200-1728028800@goodshepherdbinghamton.org
SUMMARY:Morning Prayer
DESCRIPTION:Morning Prayer meets online by Zoom at 7am Monday through Friday. Theliturgy and readings are available at www.dailyoffice2019.com.  \nJoin the parishemail list and look for a weekly email invitation in your inbox.
URL:https://goodshepherdbinghamton.org/event/morning-prayer-15/
CATEGORIES:Celebration
END:VEVENT
BEGIN:VEVENT
DTSTART;TZID=America/New_York:20241004T163000
DTEND;TZID=America/New_York:20241004T173000
DTSTAMP:20260425T081642
CREATED:20241007T200359Z
LAST-MODIFIED:20241014T183702Z
UID:32854-1728059400-1728063000@goodshepherdbinghamton.org
SUMMARY:Women's Bible Study
DESCRIPTION:This study meets at 4:30 pm on Friday afternoons in the Parish Hall (lower level).   \nAnne Kennedy is leading and we are currently studying the book of Luke. \nChildren are welcome—as in\, we hope to have some childcare available. Often\, some of the families will come early and the children will play while the mothers visit.   \nPlease contact the office at (607)723-8032 for more information.
URL:https://goodshepherdbinghamton.org/event/womens-bible-study-8/
END:VEVENT
BEGIN:VEVENT
DTSTART;TZID=America/New_York:20241006T080000
DTEND;TZID=America/New_York:20241006T090000
DTSTAMP:20260425T081642
CREATED:20241007T193915Z
LAST-MODIFIED:20241014T182917Z
UID:32755-1728201600-1728205200@goodshepherdbinghamton.org
SUMMARY:First Service
DESCRIPTION:This is an early\, more quiet version of the service at 10:30. \nThe 8am service is not currently being live-streamed. \nThis service involves readings from the Bible\, a sermon\, offering\, confession\, and communion.  There is no music during this service.
URL:https://goodshepherdbinghamton.org/event/first-service-63/
END:VEVENT
BEGIN:VEVENT
DTSTART;TZID=America/New_York:20241006T091500
DTEND;TZID=America/New_York:20241006T101500
DTSTAMP:20260425T081642
CREATED:20241007T193813Z
LAST-MODIFIED:20241014T182817Z
UID:32733-1728206100-1728209700@goodshepherdbinghamton.org
SUMMARY:Christian Education for All
DESCRIPTION:Christian Education for All  \nChildren \nChildren aged 2-11 are invited to pray\, worship\, and learn in specially prepared Montessori-style rooms—The Vineyard (2-3)\, The Pasture (3-6)\, and The Tabernacle (7-11). They study the Bible\, engage with liturgy\, and gradually are oriented to a full life in the church.  \n  \nTeens \nTeens aged12 to 14 cover a range of topics—the Bible\, Liturgy\, Church History\, Apologetics\, the 39 Articles—in a three-year cycle. This is a discussion-style class that prepares kids for confirmation. \n  \nAdult Class  \nEach Sunday a member of the pastoral staff or a guest speakerfacilitates a discussion on topics ranging from Christian literature\, to socialtopics\, the 39 articles\, church history\, and more.     \nThis class meets online and in person in the parish hall of the church.  It can be viewed at https://www.facebook.com/groups/CoGSMedia/
URL:https://goodshepherdbinghamton.org/event/christian-education-for-all-19/
END:VEVENT
END:VCALENDAR