BEGIN:VCALENDAR
VERSION:2.0
PRODID:-//Church of the Good Shepherd - ECPv6.15.20//NONSGML v1.0//EN
CALSCALE:GREGORIAN
METHOD:PUBLISH
X-WR-CALNAME:Church of the Good Shepherd
X-ORIGINAL-URL:https://goodshepherdbinghamton.org
X-WR-CALDESC:Events for Church of the Good Shepherd
REFRESH-INTERVAL;VALUE=DURATION:PT1H
X-Robots-Tag:noindex
X-PUBLISHED-TTL:PT1H
BEGIN:VTIMEZONE
TZID:America/New_York
BEGIN:DAYLIGHT
TZOFFSETFROM:-0500
TZOFFSETTO:-0400
TZNAME:EDT
DTSTART:20230312T070000
END:DAYLIGHT
BEGIN:STANDARD
TZOFFSETFROM:-0400
TZOFFSETTO:-0500
TZNAME:EST
DTSTART:20231105T060000
END:STANDARD
BEGIN:DAYLIGHT
TZOFFSETFROM:-0500
TZOFFSETTO:-0400
TZNAME:EDT
DTSTART:20240310T070000
END:DAYLIGHT
BEGIN:STANDARD
TZOFFSETFROM:-0400
TZOFFSETTO:-0500
TZNAME:EST
DTSTART:20241103T060000
END:STANDARD
BEGIN:DAYLIGHT
TZOFFSETFROM:-0500
TZOFFSETTO:-0400
TZNAME:EDT
DTSTART:20250309T070000
END:DAYLIGHT
BEGIN:STANDARD
TZOFFSETFROM:-0400
TZOFFSETTO:-0500
TZNAME:EST
DTSTART:20251102T060000
END:STANDARD
END:VTIMEZONE
BEGIN:VEVENT
DTSTART;TZID=America/New_York:20240315T063000
DTEND;TZID=America/New_York:20240315T080000
DTSTAMP:20260425T101835
CREATED:20230905T135318Z
LAST-MODIFIED:20230905T135318Z
UID:24985-1710484200-1710489600@goodshepherdbinghamton.org
SUMMARY:Men's Breakfast and Bible Study
DESCRIPTION:Every Friday morning at 6:30am men from Good Shepherd\, other area churches\, and the community gather to share a warm breakfast and study the bible. The study is expositional\, moving verse by verse through one book of the bible at a time\, with the purpose of coming to a better understanding of God and his word. \nThere is plenty of discussion\, question and answer time\, prayer\, and fellowship. You do not have to be a member of Good Shepherd or any other church to attend. The study meets at Good Shepherd\, downstairs in the parish hall. It usually ends at 8:00am but men come and go during the study according to their work schedules. Men of all ages are welcome to come\, eat\, and learn from the scriptures. \nThis class is currently studying the book ofJeremiah.If you’d like more information\, please contact Jonathan Groves for a link to access the class @ jg.arrowhead@gmail.com
URL:https://goodshepherdbinghamton.org/event/mens-breakfast-and-bible-study-34/
END:VEVENT
BEGIN:VEVENT
DTSTART;TZID=America/New_York:20240314T180000
DTEND;TZID=America/New_York:20240314T190000
DTSTAMP:20260425T101835
CREATED:20230905T154432Z
LAST-MODIFIED:20230905T154432Z
UID:25310-1710439200-1710442800@goodshepherdbinghamton.org
SUMMARY:Beginner's Bible Study
DESCRIPTION:Every Thursday evening directly following the Shepherd’s Bowl Community Dinner\, there is a beginner’s bible study at Good Shepherd.  All are welcome! \nThis is a great place to connect with others and learn more about what God has to say to us through his word.  The class is taught by The Rev. Jonathan Groves\, and the class is currently studying the book of Mark. 
URL:https://goodshepherdbinghamton.org/event/beginners-bible-study-34/
END:VEVENT
BEGIN:VEVENT
DTSTART;TZID=America/New_York:20240314T173000
DTEND;TZID=America/New_York:20240314T183000
DTSTAMP:20260425T101835
CREATED:20230905T135157Z
LAST-MODIFIED:20230905T135157Z
UID:24941-1710437400-1710441000@goodshepherdbinghamton.org
SUMMARY:Shepherd's Bowl Community Meal
DESCRIPTION:Each Thursday evening\, Good Shepherd offers a free nutritious meal to thepeople of Good Shepherd and the wider community. If you are able\, this is a great time to get to know others and enjoya free and delicious meal. \nThe Rev. Jonathan Groves leads a beginners Bible study at 6:00 and anyone is welcome to attend.  The study is currently working on the book of Judges. \nPlease find our page on Facebook\, Shepherd’s Bowl Free Community Meal\, and follow\, like and share posts\, and invite friends. 
URL:https://goodshepherdbinghamton.org/event/shepherds-bowl-community-meal/
END:VEVENT
BEGIN:VEVENT
DTSTART;TZID=America/New_York:20240312T183000
DTEND;TZID=America/New_York:20240312T193000
DTSTAMP:20260425T101835
CREATED:20230905T135623Z
LAST-MODIFIED:20230905T135623Z
UID:25052-1710268200-1710271800@goodshepherdbinghamton.org
SUMMARY:Vestry Meeting
DESCRIPTION:
URL:https://goodshepherdbinghamton.org/event/vestry-meeting-9/
END:VEVENT
BEGIN:VEVENT
DTSTART;TZID=America/New_York:20240312T090000
DTEND;TZID=America/New_York:20240312T100000
DTSTAMP:20260425T101835
CREATED:20230905T154103Z
LAST-MODIFIED:20230905T154103Z
UID:25177-1710234000-1710237600@goodshepherdbinghamton.org
SUMMARY:Tuesday Morning Bible Study
DESCRIPTION:Tuesday Morning Bible Study meets at 9:05am to walk through different books of the bible\, verse by verse.  Taught by a member of the pastoral staff in the main room of the parish hall.  This class can be viewed in person or online each week by livestream.  \nThis class is currently working on a study focusing the book of 1 Samuel. \nThis class is meeting online and in person in the parish hall.  It can be viewed at https://www.facebook.com/groups/CoGSMedia/
URL:https://goodshepherdbinghamton.org/event/tuesday-morning-bible-study-34/
END:VEVENT
BEGIN:VEVENT
DTSTART;TZID=America/New_York:20240310T180000
DTEND;TZID=America/New_York:20240310T193000
DTSTAMP:20260425T101835
CREATED:20230905T154332Z
LAST-MODIFIED:20230905T154332Z
UID:25265-1710093600-1710099000@goodshepherdbinghamton.org
SUMMARY:Youth Group
DESCRIPTION:The Good Shepherd Youth Group serves high school aged young adultsby providing an engaging context for them to grow in: \n1) Maturity in doctrine \n2) Faithfulness to Christ \n3) Service to others \nYouth Group meets Sunday evenings from 6-7:30pm\, and is led by The Rev. Jonathan Groves\, with assistance from William (Bill) Lane\, and Katie Whaley. \nThe youth group is currently finishing up a study on the book of Hebrews.
URL:https://goodshepherdbinghamton.org/event/youth-group-28/
END:VEVENT
BEGIN:VEVENT
DTSTART;TZID=America/New_York:20240310T163000
DTEND;TZID=America/New_York:20240310T180000
DTSTAMP:20260425T101835
CREATED:20230905T154223Z
LAST-MODIFIED:20230905T154223Z
UID:25221-1710088200-1710093600@goodshepherdbinghamton.org
SUMMARY:Choir Rehearsal
DESCRIPTION:All choir members are welcome to come for an additional rehearsal on Sunday evenings.
URL:https://goodshepherdbinghamton.org/event/choir-rehearsal-28/
END:VEVENT
BEGIN:VEVENT
DTSTART;TZID=America/New_York:20240310T103000
DTEND;TZID=America/New_York:20240310T120000
DTSTAMP:20260425T101835
CREATED:20230905T135533Z
LAST-MODIFIED:20230905T135533Z
UID:25031-1710066600-1710072000@goodshepherdbinghamton.org
SUMMARY:2nd Service
DESCRIPTION:This is the main service at Good Shepherd.   \nAt this service\, there is a blend of both contemporary and traditional worship music\, bible readings\, a sermon\, confession\, and communion.   \nAt Good Shepherd you will find friendly people\,engaging sermons\, joyful worship\, practical teaching\, and lots of kids. All are welcome! \nThe bulletin is available as a digital download at www.goodshepherdbinghamton.org.   \nThe service is currently open to the public and is being livestreamed at https://www.facebook.com/groups/CoGSMedia/ 
URL:https://goodshepherdbinghamton.org/event/2nd-service-33/
END:VEVENT
BEGIN:VEVENT
DTSTART;TZID=America/New_York:20240310T091500
DTEND;TZID=America/New_York:20240310T101500
DTSTAMP:20260425T101835
CREATED:20230905T153721Z
LAST-MODIFIED:20230905T153721Z
UID:25131-1710062100-1710065700@goodshepherdbinghamton.org
SUMMARY:Christian Ed
DESCRIPTION:Christian education is a class taught mainly by Matt Kennedy with occasional guest teachers.   \nWe are currently working on a series of discussions on Carl Trueman’s ‘The Rise and Triumph of the Modern Self’. \nThis class meets online and in person in the parish hall of the church.  It can be viewed at https://www.facebook.com/groups/CoGSMedia/  
URL:https://goodshepherdbinghamton.org/event/christian-ed-33/
END:VEVENT
BEGIN:VEVENT
DTSTART;TZID=America/New_York:20240310T080000
DTEND;TZID=America/New_York:20240310T090000
DTSTAMP:20260425T101835
CREATED:20230905T140410Z
LAST-MODIFIED:20230905T140410Z
UID:25087-1710057600-1710061200@goodshepherdbinghamton.org
SUMMARY:First Service
DESCRIPTION:This is an early\, more quiet version of the service at 10:30. \nThe 8am service is not currently being live-streamed. \nThis service involves readings from the Bible\, a sermon\, offering\, confession\, and communion.  There is no music during this service.
URL:https://goodshepherdbinghamton.org/event/first-service-33/
END:VEVENT
BEGIN:VEVENT
DTSTART;TZID=America/New_York:20240308T063000
DTEND;TZID=America/New_York:20240308T080000
DTSTAMP:20260425T101835
CREATED:20230905T135318Z
LAST-MODIFIED:20230905T135318Z
UID:24984-1709879400-1709884800@goodshepherdbinghamton.org
SUMMARY:Men's Breakfast and Bible Study
DESCRIPTION:Every Friday morning at 6:30am men from Good Shepherd\, other area churches\, and the community gather to share a warm breakfast and study the bible. The study is expositional\, moving verse by verse through one book of the bible at a time\, with the purpose of coming to a better understanding of God and his word. \nThere is plenty of discussion\, question and answer time\, prayer\, and fellowship. You do not have to be a member of Good Shepherd or any other church to attend. The study meets at Good Shepherd\, downstairs in the parish hall. It usually ends at 8:00am but men come and go during the study according to their work schedules. Men of all ages are welcome to come\, eat\, and learn from the scriptures. \nThis class is currently studying the book ofJeremiah.If you’d like more information\, please contact Jonathan Groves for a link to access the class @ jg.arrowhead@gmail.com
URL:https://goodshepherdbinghamton.org/event/mens-breakfast-and-bible-study-33/
END:VEVENT
BEGIN:VEVENT
DTSTART;TZID=America/New_York:20240307T180000
DTEND;TZID=America/New_York:20240307T190000
DTSTAMP:20260425T101835
CREATED:20230905T154432Z
LAST-MODIFIED:20230905T154432Z
UID:25309-1709834400-1709838000@goodshepherdbinghamton.org
SUMMARY:Beginner's Bible Study
DESCRIPTION:Every Thursday evening directly following the Shepherd’s Bowl Community Dinner\, there is a beginner’s bible study at Good Shepherd.  All are welcome! \nThis is a great place to connect with others and learn more about what God has to say to us through his word.  The class is taught by The Rev. Jonathan Groves\, and the class is currently studying the book of Mark. 
URL:https://goodshepherdbinghamton.org/event/beginners-bible-study-33/
END:VEVENT
BEGIN:VEVENT
DTSTART;TZID=America/New_York:20240307T173000
DTEND;TZID=America/New_York:20240307T183000
DTSTAMP:20260425T101835
CREATED:20230905T135141Z
LAST-MODIFIED:20230905T135141Z
UID:24940-1709832600-1709836200@goodshepherdbinghamton.org
SUMMARY:Shepherd's Bowl Community Meal
DESCRIPTION:Each Thursday evening\, Good Shepherd offers a free nutritious meal to thepeople of Good Shepherd and the wider community. If you are able\, this is a great time to get to know others and enjoya free and delicious meal. \nThe Rev. Jonathan Groves leads a beginners Bible study at 6:00 and anyone is welcome to attend.  The study is currently working on the book of Judges. \nPlease find our page on Facebook\, Shepherd’s Bowl Free Community Meal\, and follow\, like and share posts\, and invite friends. 
URL:https://goodshepherdbinghamton.org/event/shepherds-bowl-community-meal-46/
END:VEVENT
BEGIN:VEVENT
DTSTART;TZID=America/New_York:20240305T090000
DTEND;TZID=America/New_York:20240305T100000
DTSTAMP:20260425T101835
CREATED:20230905T154102Z
LAST-MODIFIED:20230905T154102Z
UID:25176-1709629200-1709632800@goodshepherdbinghamton.org
SUMMARY:Tuesday Morning Bible Study
DESCRIPTION:Tuesday Morning Bible Study meets at 9:05am to walk through different books of the bible\, verse by verse.  Taught by a member of the pastoral staff in the main room of the parish hall.  This class can be viewed in person or online each week by livestream.  \nThis class is currently working on a study focusing the book of 1 Samuel. \nThis class is meeting online and in person in the parish hall.  It can be viewed at https://www.facebook.com/groups/CoGSMedia/
URL:https://goodshepherdbinghamton.org/event/tuesday-morning-bible-study-33/
END:VEVENT
BEGIN:VEVENT
DTSTART;TZID=America/New_York:20240303T180000
DTEND;TZID=America/New_York:20240303T193000
DTSTAMP:20260425T101835
CREATED:20230905T154332Z
LAST-MODIFIED:20230905T154332Z
UID:25264-1709488800-1709494200@goodshepherdbinghamton.org
SUMMARY:Youth Group
DESCRIPTION:The Good Shepherd Youth Group serves high school aged young adultsby providing an engaging context for them to grow in: \n1) Maturity in doctrine \n2) Faithfulness to Christ \n3) Service to others \nYouth Group meets Sunday evenings from 6-7:30pm\, and is led by The Rev. Jonathan Groves\, with assistance from William (Bill) Lane\, and Katie Whaley. \nThe youth group is currently finishing up a study on the book of Hebrews.
URL:https://goodshepherdbinghamton.org/event/youth-group-27/
END:VEVENT
BEGIN:VEVENT
DTSTART;TZID=America/New_York:20240303T163000
DTEND;TZID=America/New_York:20240303T180000
DTSTAMP:20260425T101835
CREATED:20230905T154205Z
LAST-MODIFIED:20230905T154207Z
UID:25215-1709483400-1709488800@goodshepherdbinghamton.org
SUMMARY:Choir Rehearsal
DESCRIPTION:All choir members are welcome to come for an additional rehearsal on Sunday evenings.
URL:https://goodshepherdbinghamton.org/event/choir-rehearsal-27/
END:VEVENT
BEGIN:VEVENT
DTSTART;TZID=America/New_York:20240303T103000
DTEND;TZID=America/New_York:20240303T120000
DTSTAMP:20260425T101835
CREATED:20230905T135533Z
LAST-MODIFIED:20230905T135533Z
UID:25030-1709461800-1709467200@goodshepherdbinghamton.org
SUMMARY:2nd Service
DESCRIPTION:This is the main service at Good Shepherd.   \nAt this service\, there is a blend of both contemporary and traditional worship music\, bible readings\, a sermon\, confession\, and communion.   \nAt Good Shepherd you will find friendly people\,engaging sermons\, joyful worship\, practical teaching\, and lots of kids. All are welcome! \nThe bulletin is available as a digital download at www.goodshepherdbinghamton.org.   \nThe service is currently open to the public and is being livestreamed at https://www.facebook.com/groups/CoGSMedia/ 
URL:https://goodshepherdbinghamton.org/event/2nd-service-32/
END:VEVENT
BEGIN:VEVENT
DTSTART;TZID=America/New_York:20240303T091500
DTEND;TZID=America/New_York:20240303T101500
DTSTAMP:20260425T101835
CREATED:20230905T153721Z
LAST-MODIFIED:20230905T153721Z
UID:25130-1709457300-1709460900@goodshepherdbinghamton.org
SUMMARY:Christian Ed
DESCRIPTION:Christian education is a class taught mainly by Matt Kennedy with occasional guest teachers.   \nWe are currently working on a series of discussions on Carl Trueman’s ‘The Rise and Triumph of the Modern Self’. \nThis class meets online and in person in the parish hall of the church.  It can be viewed at https://www.facebook.com/groups/CoGSMedia/  
URL:https://goodshepherdbinghamton.org/event/christian-ed-32/
END:VEVENT
BEGIN:VEVENT
DTSTART;TZID=America/New_York:20240303T080000
DTEND;TZID=America/New_York:20240303T090000
DTSTAMP:20260425T101835
CREATED:20230905T140410Z
LAST-MODIFIED:20230905T140410Z
UID:25086-1709452800-1709456400@goodshepherdbinghamton.org
SUMMARY:First Service
DESCRIPTION:This is an early\, more quiet version of the service at 10:30. \nThe 8am service is not currently being live-streamed. \nThis service involves readings from the Bible\, a sermon\, offering\, confession\, and communion.  There is no music during this service.
URL:https://goodshepherdbinghamton.org/event/first-service-32/
END:VEVENT
BEGIN:VEVENT
DTSTART;TZID=America/New_York:20240301T063000
DTEND;TZID=America/New_York:20240301T080000
DTSTAMP:20260425T101835
CREATED:20230905T135318Z
LAST-MODIFIED:20230905T135318Z
UID:24983-1709274600-1709280000@goodshepherdbinghamton.org
SUMMARY:Men's Breakfast and Bible Study
DESCRIPTION:Every Friday morning at 6:30am men from Good Shepherd\, other area churches\, and the community gather to share a warm breakfast and study the bible. The study is expositional\, moving verse by verse through one book of the bible at a time\, with the purpose of coming to a better understanding of God and his word. \nThere is plenty of discussion\, question and answer time\, prayer\, and fellowship. You do not have to be a member of Good Shepherd or any other church to attend. The study meets at Good Shepherd\, downstairs in the parish hall. It usually ends at 8:00am but men come and go during the study according to their work schedules. Men of all ages are welcome to come\, eat\, and learn from the scriptures. \nThis class is currently studying the book ofJeremiah.If you’d like more information\, please contact Jonathan Groves for a link to access the class @ jg.arrowhead@gmail.com
URL:https://goodshepherdbinghamton.org/event/mens-breakfast-and-bible-study-32/
END:VEVENT
BEGIN:VEVENT
DTSTART;TZID=America/New_York:20240229T180000
DTEND;TZID=America/New_York:20240229T190000
DTSTAMP:20260425T101835
CREATED:20230905T154432Z
LAST-MODIFIED:20230905T154432Z
UID:25308-1709229600-1709233200@goodshepherdbinghamton.org
SUMMARY:Beginner's Bible Study
DESCRIPTION:Every Thursday evening directly following the Shepherd’s Bowl Community Dinner\, there is a beginner’s bible study at Good Shepherd.  All are welcome! \nThis is a great place to connect with others and learn more about what God has to say to us through his word.  The class is taught by The Rev. Jonathan Groves\, and the class is currently studying the book of Mark. 
URL:https://goodshepherdbinghamton.org/event/beginners-bible-study-32/
END:VEVENT
BEGIN:VEVENT
DTSTART;TZID=America/New_York:20240229T173000
DTEND;TZID=America/New_York:20240229T183000
DTSTAMP:20260425T101835
CREATED:20230905T135141Z
LAST-MODIFIED:20230905T135141Z
UID:24939-1709227800-1709231400@goodshepherdbinghamton.org
SUMMARY:Shepherd's Bowl Community Meal
DESCRIPTION:Each Thursday evening\, Good Shepherd offers a free nutritious meal to thepeople of Good Shepherd and the wider community. If you are able\, this is a great time to get to know others and enjoya free and delicious meal. \nThe Rev. Jonathan Groves leads a beginners Bible study at 6:00 and anyone is welcome to attend.  The study is currently working on the book of Judges. \nPlease find our page on Facebook\, Shepherd’s Bowl Free Community Meal\, and follow\, like and share posts\, and invite friends. 
URL:https://goodshepherdbinghamton.org/event/shepherds-bowl-community-meal-45/
END:VEVENT
BEGIN:VEVENT
DTSTART;TZID=America/New_York:20240227T090000
DTEND;TZID=America/New_York:20240227T100000
DTSTAMP:20260425T101835
CREATED:20230905T154101Z
LAST-MODIFIED:20230905T154101Z
UID:25175-1709024400-1709028000@goodshepherdbinghamton.org
SUMMARY:Tuesday Morning Bible Study
DESCRIPTION:Tuesday Morning Bible Study meets at 9:05am to walk through different books of the bible\, verse by verse.  Taught by a member of the pastoral staff in the main room of the parish hall.  This class can be viewed in person or online each week by livestream.  \nThis class is currently working on a study focusing the book of 1 Samuel. \nThis class is meeting online and in person in the parish hall.  It can be viewed at https://www.facebook.com/groups/CoGSMedia/
URL:https://goodshepherdbinghamton.org/event/tuesday-morning-bible-study-32/
END:VEVENT
BEGIN:VEVENT
DTSTART;TZID=America/New_York:20240225T180000
DTEND;TZID=America/New_York:20240225T193000
DTSTAMP:20260425T101835
CREATED:20230905T154332Z
LAST-MODIFIED:20230905T154332Z
UID:25263-1708884000-1708889400@goodshepherdbinghamton.org
SUMMARY:Youth Group
DESCRIPTION:The Good Shepherd Youth Group serves high school aged young adultsby providing an engaging context for them to grow in: \n1) Maturity in doctrine \n2) Faithfulness to Christ \n3) Service to others \nYouth Group meets Sunday evenings from 6-7:30pm\, and is led by The Rev. Jonathan Groves\, with assistance from William (Bill) Lane\, and Katie Whaley. \nThe youth group is currently finishing up a study on the book of Hebrews.
URL:https://goodshepherdbinghamton.org/event/youth-group-26/
END:VEVENT
BEGIN:VEVENT
DTSTART;TZID=America/New_York:20240225T163000
DTEND;TZID=America/New_York:20240225T180000
DTSTAMP:20260425T101835
CREATED:20230905T154205Z
LAST-MODIFIED:20230905T154207Z
UID:25214-1708878600-1708884000@goodshepherdbinghamton.org
SUMMARY:Choir Rehearsal
DESCRIPTION:All choir members are welcome to come for an additional rehearsal on Sunday evenings.
URL:https://goodshepherdbinghamton.org/event/choir-rehearsal-26/
END:VEVENT
BEGIN:VEVENT
DTSTART;TZID=America/New_York:20240225T103000
DTEND;TZID=America/New_York:20240225T120000
DTSTAMP:20260425T101835
CREATED:20230905T135533Z
LAST-MODIFIED:20230905T135533Z
UID:25029-1708857000-1708862400@goodshepherdbinghamton.org
SUMMARY:2nd Service
DESCRIPTION:This is the main service at Good Shepherd.   \nAt this service\, there is a blend of both contemporary and traditional worship music\, bible readings\, a sermon\, confession\, and communion.   \nAt Good Shepherd you will find friendly people\,engaging sermons\, joyful worship\, practical teaching\, and lots of kids. All are welcome! \nThe bulletin is available as a digital download at www.goodshepherdbinghamton.org.   \nThe service is currently open to the public and is being livestreamed at https://www.facebook.com/groups/CoGSMedia/ 
URL:https://goodshepherdbinghamton.org/event/2nd-service-31/
END:VEVENT
BEGIN:VEVENT
DTSTART;TZID=America/New_York:20240225T091500
DTEND;TZID=America/New_York:20240225T101500
DTSTAMP:20260425T101835
CREATED:20230905T143931Z
LAST-MODIFIED:20230905T143931Z
UID:25129-1708852500-1708856100@goodshepherdbinghamton.org
SUMMARY:Christian Ed
DESCRIPTION:Christian education is a class taught mainly by Matt Kennedy with occasional guest teachers.   \nWe are currently working on a series of discussions on Carl Trueman’s ‘The Rise and Triumph of the Modern Self’. \nThis class meets online and in person in the parish hall of the church.  It can be viewed at https://www.facebook.com/groups/CoGSMedia/  
URL:https://goodshepherdbinghamton.org/event/christian-ed-31/
END:VEVENT
BEGIN:VEVENT
DTSTART;TZID=America/New_York:20240225T080000
DTEND;TZID=America/New_York:20240225T090000
DTSTAMP:20260425T101835
CREATED:20230905T140409Z
LAST-MODIFIED:20230905T140409Z
UID:25085-1708848000-1708851600@goodshepherdbinghamton.org
SUMMARY:First Service
DESCRIPTION:This is an early\, more quiet version of the service at 10:30. \nThe 8am service is not currently being live-streamed. \nThis service involves readings from the Bible\, a sermon\, offering\, confession\, and communion.  There is no music during this service.
URL:https://goodshepherdbinghamton.org/event/first-service-31/
END:VEVENT
BEGIN:VEVENT
DTSTART;TZID=America/New_York:20240223T063000
DTEND;TZID=America/New_York:20240223T080000
DTSTAMP:20260425T101835
CREATED:20230905T135318Z
LAST-MODIFIED:20230905T135318Z
UID:24982-1708669800-1708675200@goodshepherdbinghamton.org
SUMMARY:Men's Breakfast and Bible Study
DESCRIPTION:Every Friday morning at 6:30am men from Good Shepherd\, other area churches\, and the community gather to share a warm breakfast and study the bible. The study is expositional\, moving verse by verse through one book of the bible at a time\, with the purpose of coming to a better understanding of God and his word. \nThere is plenty of discussion\, question and answer time\, prayer\, and fellowship. You do not have to be a member of Good Shepherd or any other church to attend. The study meets at Good Shepherd\, downstairs in the parish hall. It usually ends at 8:00am but men come and go during the study according to their work schedules. Men of all ages are welcome to come\, eat\, and learn from the scriptures. \nThis class is currently studying the book ofJeremiah.If you’d like more information\, please contact Jonathan Groves for a link to access the class @ jg.arrowhead@gmail.com
URL:https://goodshepherdbinghamton.org/event/mens-breakfast-and-bible-study-31/
END:VEVENT
BEGIN:VEVENT
DTSTART;TZID=America/New_York:20240222T180000
DTEND;TZID=America/New_York:20240222T190000
DTSTAMP:20260425T101835
CREATED:20230905T154431Z
LAST-MODIFIED:20230905T154431Z
UID:25307-1708624800-1708628400@goodshepherdbinghamton.org
SUMMARY:Beginner's Bible Study
DESCRIPTION:Every Thursday evening directly following the Shepherd’s Bowl Community Dinner\, there is a beginner’s bible study at Good Shepherd.  All are welcome! \nThis is a great place to connect with others and learn more about what God has to say to us through his word.  The class is taught by The Rev. Jonathan Groves\, and the class is currently studying the book of Mark. 
URL:https://goodshepherdbinghamton.org/event/beginners-bible-study-31/
END:VEVENT
END:VCALENDAR