BEGIN:VCALENDAR
VERSION:2.0
PRODID:-//Church of the Good Shepherd - ECPv6.15.20//NONSGML v1.0//EN
CALSCALE:GREGORIAN
METHOD:PUBLISH
X-ORIGINAL-URL:https://goodshepherdbinghamton.org
X-WR-CALDESC:Events for Church of the Good Shepherd
REFRESH-INTERVAL;VALUE=DURATION:PT1H
X-Robots-Tag:noindex
X-PUBLISHED-TTL:PT1H
BEGIN:VTIMEZONE
TZID:America/New_York
BEGIN:DAYLIGHT
TZOFFSETFROM:-0500
TZOFFSETTO:-0400
TZNAME:EDT
DTSTART:20230312T070000
END:DAYLIGHT
BEGIN:STANDARD
TZOFFSETFROM:-0400
TZOFFSETTO:-0500
TZNAME:EST
DTSTART:20231105T060000
END:STANDARD
BEGIN:DAYLIGHT
TZOFFSETFROM:-0500
TZOFFSETTO:-0400
TZNAME:EDT
DTSTART:20240310T070000
END:DAYLIGHT
BEGIN:STANDARD
TZOFFSETFROM:-0400
TZOFFSETTO:-0500
TZNAME:EST
DTSTART:20241103T060000
END:STANDARD
BEGIN:DAYLIGHT
TZOFFSETFROM:-0500
TZOFFSETTO:-0400
TZNAME:EDT
DTSTART:20250309T070000
END:DAYLIGHT
BEGIN:STANDARD
TZOFFSETFROM:-0400
TZOFFSETTO:-0500
TZNAME:EST
DTSTART:20251102T060000
END:STANDARD
END:VTIMEZONE
BEGIN:VEVENT
DTSTART;TZID=America/New_York:20240604T090000
DTEND;TZID=America/New_York:20240604T100000
DTSTAMP:20260425T081141
CREATED:20230905T154112Z
LAST-MODIFIED:20240708T183010Z
UID:25189-1717491600-1717495200@goodshepherdbinghamton.org
SUMMARY:Tuesday Morning Bible Study
DESCRIPTION:Tuesday Morning Bible Study meets at 9:05am to walk through different books of the bible\, verse by verse.  Taught by a member of the pastoral staff in the main room of the parish hall.  This class can be viewed in person or online each week by livestream.  \nThis class is currently working on a study focusing the book of 1 Samuel. \nThis class is meeting online and in person in the parish hall.  It can be viewed at https://www.facebook.com/groups/CoGSMedia/
URL:https://goodshepherdbinghamton.org/event/tuesday-morning-bible-study-46/
END:VEVENT
BEGIN:VEVENT
DTSTART;TZID=America/New_York:20240606T173000
DTEND;TZID=America/New_York:20240606T183000
DTSTAMP:20260425T081141
CREATED:20240702T181241Z
LAST-MODIFIED:20240708T183137Z
UID:32159-1717695000-1717698600@goodshepherdbinghamton.org
SUMMARY:Shepherd's Bowl Community Meal
DESCRIPTION:Each Thursday evening\, Good Shepherd offers a free nutritious meal to thepeople of Good Shepherd and the wider community. If you are able\, this is a great time to get to know others and enjoya free and delicious meal. \nThe Rev. Jonathan Groves leads a beginners Bible study at 6:00 and anyone is welcome to attend.  The study is currently working on the book of Judges. \nPlease find our page on Facebook\, Shepherd’s Bowl Free Community Meal\, and follow\, like and share posts\, and invite friends. 
URL:https://goodshepherdbinghamton.org/event/shepherds-bowl-community-meal-47/
END:VEVENT
BEGIN:VEVENT
DTSTART;TZID=America/New_York:20240606T180000
DTEND;TZID=America/New_York:20240606T190000
DTSTAMP:20260425T081141
CREATED:20240708T183341Z
LAST-MODIFIED:20240708T183341Z
UID:32379-1717696800-1717700400@goodshepherdbinghamton.org
SUMMARY:Beginner's Bible Study
DESCRIPTION:Every Thursday evening directly following the Shepherd’s Bowl Community Dinner\, there is a beginner’s bible study at Good Shepherd.  All are welcome! \nThis is a great place to connect with others and learn more about what God has to say to us through his word.  The class is taught by The Rev. Jonathan Groves\, and the class is currently studying the book of Mark. 
URL:https://goodshepherdbinghamton.org/event/beginners-bible-study-45/
END:VEVENT
BEGIN:VEVENT
DTSTART;TZID=America/New_York:20240607T063000
DTEND;TZID=America/New_York:20240607T080000
DTSTAMP:20260425T081141
CREATED:20240702T181324Z
LAST-MODIFIED:20240708T183211Z
UID:32181-1717741800-1717747200@goodshepherdbinghamton.org
SUMMARY:Men's Breakfast and Bible Study
DESCRIPTION:Every Friday morning at 6:30am men from Good Shepherd\, other area churches\, and the community gather to share a warm breakfast and study the bible. The study is expositional\, moving verse by verse through one book of the bible at a time\, with the purpose of coming to a better understanding of God and his word. \nThere is plenty of discussion\, question and answer time\, prayer\, and fellowship. You do not have to be a member of Good Shepherd or any other church to attend. The study meets at Good Shepherd\, downstairs in the parish hall. It usually ends at 8:00am but men come and go during the study according to their work schedules. Men of all ages are welcome to come\, eat\, and learn from the scriptures.This class is currently studying the book of Revelation.If you’d like more information\, please contact Jonathan Groves for a link to access the class @ jg.arrowhead@gmail.com
URL:https://goodshepherdbinghamton.org/event/mens-breakfast-and-bible-study-46/
END:VEVENT
BEGIN:VEVENT
DTSTART;TZID=America/New_York:20240607T163000
DTEND;TZID=America/New_York:20240607T173000
DTSTAMP:20260425T081141
CREATED:20240708T183331Z
LAST-MODIFIED:20240708T183331Z
UID:32374-1717777800-1717781400@goodshepherdbinghamton.org
SUMMARY:Women's Bible Study
DESCRIPTION:Women’s Bible Study is back at a new time.  \nThis study meets at 4:30 pm on Friday afternoons in the Parish Hall (lower level).   \nAnne Kennedy is leading and we are currently studying the book of Luke. \nChildren are welcome—as in\, we hope to have some childcare available. Often\, some of the families will come early and the children will play while the mothers visit.   \nPlease contact the office at (607)723-8032 for more information.
URL:https://goodshepherdbinghamton.org/event/womens-bible-study/
END:VEVENT
BEGIN:VEVENT
DTSTART;TZID=America/New_York:20240609T080000
DTEND;TZID=America/New_York:20240609T090000
DTSTAMP:20260425T081141
CREATED:20240702T184043Z
LAST-MODIFIED:20240708T183053Z
UID:32221-1717920000-1717923600@goodshepherdbinghamton.org
SUMMARY:First Service
DESCRIPTION:This is an early\, more quiet version of the service at 10:30. \nThe 8am service is not currently being live-streamed. \nThis service involves readings from the Bible\, a sermon\, offering\, confession\, and communion.  There is no music during this service.
URL:https://goodshepherdbinghamton.org/event/first-service-46/
END:VEVENT
BEGIN:VEVENT
DTSTART;TZID=America/New_York:20240609T091500
DTEND;TZID=America/New_York:20240609T101500
DTSTAMP:20260425T081141
CREATED:20240708T182737Z
LAST-MODIFIED:20240708T182737Z
UID:32302-1717924500-1717928100@goodshepherdbinghamton.org
SUMMARY:Christian Education for All
DESCRIPTION:Christian Education for All  \nChildren \nChildren aged 2-11 are invited to pray\, worship\, and learn in specially prepared Montessori-style rooms—The Vineyard (2-3)\, The Pasture (3-6)\, and The Tabernacle (7-11). They study the Bible\, engage with liturgy\, and gradually are oriented to a full life in the church.  \n  \nTeens \nTeens aged12 to 14 cover a range of topics—the Bible\, Liturgy\, Church History\, Apologetics\, the 39 Articles—in a three-year cycle. This is a discussion-style class that prepares kids for confirmation. \n  \nAdult Class  \nEach Sunday a member of the pastoral staff or a guest speakerfacilitates a discussion on topics ranging from Christian literature\, to socialtopics\, the 39 articles\, church history\, and more.     \nThis class meets online and in person in the parish hall of the church.  It can be viewed at https://www.facebook.com/groups/CoGSMedia/
URL:https://goodshepherdbinghamton.org/event/christian-education-for-all-2/
END:VEVENT
BEGIN:VEVENT
DTSTART;TZID=America/New_York:20240609T103000
DTEND;TZID=America/New_York:20240609T120000
DTSTAMP:20260425T081141
CREATED:20240702T181943Z
LAST-MODIFIED:20240708T182444Z
UID:32199-1717929000-1717934400@goodshepherdbinghamton.org
SUMMARY:2nd Service
DESCRIPTION:This is the main service at Good Shepherd.   \nAt this service\, there is a blend of both contemporary and traditional worship music\, bible readings\, a sermon\, confession\, and communion.   \nAt Good Shepherd you will find friendly people\,engaging sermons\, joyful worship\, practical teaching\, and lots of kids. All are welcome! \nThe bulletin is available as a digital download at www.goodshepherdbinghamton.org.   \nThe service is currently open to the public and is being livestreamed at https://www.facebook.com/groups/CoGSMedia/ 
URL:https://goodshepherdbinghamton.org/event/2nd-service-46/
END:VEVENT
BEGIN:VEVENT
DTSTART;TZID=America/New_York:20240609T163000
DTEND;TZID=America/New_York:20240609T180000
DTSTAMP:20260425T081141
CREATED:20240708T183257Z
LAST-MODIFIED:20240708T183257Z
UID:32363-1717950600-1717956000@goodshepherdbinghamton.org
SUMMARY:Choir Rehearsal
DESCRIPTION:All choir members are welcome to come for an additional rehearsal on Sunday evenings.
URL:https://goodshepherdbinghamton.org/event/choir-rehearsal-41/
END:VEVENT
BEGIN:VEVENT
DTSTART;TZID=America/New_York:20240609T180000
DTEND;TZID=America/New_York:20240609T193000
DTSTAMP:20260425T081141
CREATED:20240708T183308Z
LAST-MODIFIED:20240708T183308Z
UID:32369-1717956000-1717961400@goodshepherdbinghamton.org
SUMMARY:Youth Group
DESCRIPTION:The Good Shepherd Youth Group serves high school aged young adultsby providing an engaging context for them to grow in: \n1) Maturity in doctrine \n2) Faithfulness to Christ \n3) Service to others \nYouth Group meets Sunday evenings from 6-7:30pm\, and is led by The Rev. Jonathan Groves\, with assistance from William (Bill) Lane\, and Katie Whaley. \nThe youth group is currently finishing up a study on the book of Hebrews.
URL:https://goodshepherdbinghamton.org/event/youth-group-41/
END:VEVENT
BEGIN:VEVENT
DTSTART;TZID=America/New_York:20240611T090000
DTEND;TZID=America/New_York:20240611T100000
DTSTAMP:20260425T081141
CREATED:20240708T183011Z
LAST-MODIFIED:20241028T184926Z
UID:32316-1718096400-1718100000@goodshepherdbinghamton.org
SUMMARY:Tuesday Morning Bible Study
DESCRIPTION:Tuesday Morning Bible Study meets at 9:05am to walk through different books of the bible\, verse by verse.  Taught by a member of the pastoral staff in the main room of the parish hall.  This class can be viewed in person or online each week by livestream.  \nThis class is currently working on a study focusing the book of 1 Samuel. \nThis class is meeting online and in person in the parish hall.  It can be viewed at https://www.facebook.com/groups/CoGSMedia/
URL:https://goodshepherdbinghamton.org/event/tuesday-morning-bible-study-48/
END:VEVENT
BEGIN:VEVENT
DTSTART;TZID=America/New_York:20240611T183000
DTEND;TZID=America/New_York:20240611T193000
DTSTAMP:20260425T081141
CREATED:20240702T183841Z
LAST-MODIFIED:20240702T183841Z
UID:32216-1718130600-1718134200@goodshepherdbinghamton.org
SUMMARY:Vestry Meeting
DESCRIPTION:
URL:https://goodshepherdbinghamton.org/event/vestry-meeting-12/
END:VEVENT
BEGIN:VEVENT
DTSTART;TZID=America/New_York:20240613T173000
DTEND;TZID=America/New_York:20240613T183000
DTSTAMP:20260425T081141
CREATED:20240702T181242Z
LAST-MODIFIED:20240708T183138Z
UID:32160-1718299800-1718303400@goodshepherdbinghamton.org
SUMMARY:Shepherd's Bowl Community Meal
DESCRIPTION:Each Thursday evening\, Good Shepherd offers a free nutritious meal to thepeople of Good Shepherd and the wider community. If you are able\, this is a great time to get to know others and enjoya free and delicious meal. \nThe Rev. Jonathan Groves leads a beginners Bible study at 6:00 and anyone is welcome to attend.  The study is currently working on the book of Judges. \nPlease find our page on Facebook\, Shepherd’s Bowl Free Community Meal\, and follow\, like and share posts\, and invite friends. 
URL:https://goodshepherdbinghamton.org/event/shepherds-bowl-community-meal-48/
END:VEVENT
BEGIN:VEVENT
DTSTART;TZID=America/New_York:20240613T180000
DTEND;TZID=America/New_York:20240613T190000
DTSTAMP:20260425T081141
CREATED:20240708T183342Z
LAST-MODIFIED:20240708T183342Z
UID:32380-1718301600-1718305200@goodshepherdbinghamton.org
SUMMARY:Beginner's Bible Study
DESCRIPTION:Every Thursday evening directly following the Shepherd’s Bowl Community Dinner\, there is a beginner’s bible study at Good Shepherd.  All are welcome! \nThis is a great place to connect with others and learn more about what God has to say to us through his word.  The class is taught by The Rev. Jonathan Groves\, and the class is currently studying the book of Mark. 
URL:https://goodshepherdbinghamton.org/event/beginners-bible-study-46/
END:VEVENT
BEGIN:VEVENT
DTSTART;TZID=America/New_York:20240614T063000
DTEND;TZID=America/New_York:20240614T080000
DTSTAMP:20260425T081141
CREATED:20240702T181325Z
LAST-MODIFIED:20241028T191112Z
UID:32182-1718346600-1718352000@goodshepherdbinghamton.org
SUMMARY:Men's Breakfast and Bible Study
DESCRIPTION:Every Friday morning at 6:30am men from Good Shepherd\, other area churches\, and the community gather to share a warm breakfast and study the bible. The study is expositional\, moving verse by verse through one book of the bible at a time\, with the purpose of coming to a better understanding of God and his word. \nThere is plenty of discussion\, question and answer time\, prayer\, and fellowship. You do not have to be a member of Good Shepherd or any other church to attend. The study meets at Good Shepherd\, downstairs in the parish hall. It usually ends at 8:00am but men come and go during the study according to their work schedules. Men of all ages are welcome to come\, eat\, and learn from the scriptures.This class is currently studying the book of Revelation.If you’d like more information\, please contact Jonathan Groves for a link to access the class @ jg.arrowhead@gmail.com
URL:https://goodshepherdbinghamton.org/event/mens-breakfast-and-bible-study-47/
CATEGORIES:Celebration
END:VEVENT
BEGIN:VEVENT
DTSTART;TZID=America/New_York:20240614T163000
DTEND;TZID=America/New_York:20240614T173000
DTSTAMP:20260425T081141
CREATED:20240708T183331Z
LAST-MODIFIED:20240708T183331Z
UID:32375-1718382600-1718386200@goodshepherdbinghamton.org
SUMMARY:Women's Bible Study
DESCRIPTION:Women’s Bible Study is back at a new time.  \nThis study meets at 4:30 pm on Friday afternoons in the Parish Hall (lower level).   \nAnne Kennedy is leading and we are currently studying the book of Luke. \nChildren are welcome—as in\, we hope to have some childcare available. Often\, some of the families will come early and the children will play while the mothers visit.   \nPlease contact the office at (607)723-8032 for more information.
URL:https://goodshepherdbinghamton.org/event/womens-bible-study-2/
END:VEVENT
BEGIN:VEVENT
DTSTART;TZID=America/New_York:20240616T080000
DTEND;TZID=America/New_York:20240616T090000
DTSTAMP:20260425T081141
CREATED:20240702T184043Z
LAST-MODIFIED:20240708T183053Z
UID:32222-1718524800-1718528400@goodshepherdbinghamton.org
SUMMARY:First Service
DESCRIPTION:This is an early\, more quiet version of the service at 10:30. \nThe 8am service is not currently being live-streamed. \nThis service involves readings from the Bible\, a sermon\, offering\, confession\, and communion.  There is no music during this service.
URL:https://goodshepherdbinghamton.org/event/first-service-47/
END:VEVENT
BEGIN:VEVENT
DTSTART;TZID=America/New_York:20240616T091500
DTEND;TZID=America/New_York:20240616T101500
DTSTAMP:20260425T081141
CREATED:20240708T182742Z
LAST-MODIFIED:20240708T182742Z
UID:32303-1718529300-1718532900@goodshepherdbinghamton.org
SUMMARY:Christian Education for All
DESCRIPTION:Christian Education for All  \nChildren \nChildren aged 2-11 are invited to pray\, worship\, and learn in specially prepared Montessori-style rooms—The Vineyard (2-3)\, The Pasture (3-6)\, and The Tabernacle (7-11). They study the Bible\, engage with liturgy\, and gradually are oriented to a full life in the church.  \n  \nTeens \nTeens aged12 to 14 cover a range of topics—the Bible\, Liturgy\, Church History\, Apologetics\, the 39 Articles—in a three-year cycle. This is a discussion-style class that prepares kids for confirmation. \n  \nAdult Class  \nEach Sunday a member of the pastoral staff or a guest speakerfacilitates a discussion on topics ranging from Christian literature\, to socialtopics\, the 39 articles\, church history\, and more.     \nThis class meets online and in person in the parish hall of the church.  It can be viewed at https://www.facebook.com/groups/CoGSMedia/
URL:https://goodshepherdbinghamton.org/event/christian-education-for-all-3/
END:VEVENT
BEGIN:VEVENT
DTSTART;TZID=America/New_York:20240616T103000
DTEND;TZID=America/New_York:20240616T120000
DTSTAMP:20260425T081141
CREATED:20240702T181943Z
LAST-MODIFIED:20240708T182444Z
UID:32200-1718533800-1718539200@goodshepherdbinghamton.org
SUMMARY:2nd Service
DESCRIPTION:This is the main service at Good Shepherd.   \nAt this service\, there is a blend of both contemporary and traditional worship music\, bible readings\, a sermon\, confession\, and communion.   \nAt Good Shepherd you will find friendly people\,engaging sermons\, joyful worship\, practical teaching\, and lots of kids. All are welcome! \nThe bulletin is available as a digital download at www.goodshepherdbinghamton.org.   \nThe service is currently open to the public and is being livestreamed at https://www.facebook.com/groups/CoGSMedia/ 
URL:https://goodshepherdbinghamton.org/event/2nd-service-47/
END:VEVENT
BEGIN:VEVENT
DTSTART;TZID=America/New_York:20240616T163000
DTEND;TZID=America/New_York:20240616T180000
DTSTAMP:20260425T081141
CREATED:20240708T183259Z
LAST-MODIFIED:20240708T183259Z
UID:32364-1718555400-1718560800@goodshepherdbinghamton.org
SUMMARY:Choir Rehearsal
DESCRIPTION:All choir members are welcome to come for an additional rehearsal on Sunday evenings.
URL:https://goodshepherdbinghamton.org/event/choir-rehearsal-42/
END:VEVENT
BEGIN:VEVENT
DTSTART;TZID=America/New_York:20240616T180000
DTEND;TZID=America/New_York:20240616T193000
DTSTAMP:20260425T081141
CREATED:20240708T183310Z
LAST-MODIFIED:20240708T183310Z
UID:32370-1718560800-1718566200@goodshepherdbinghamton.org
SUMMARY:Youth Group
DESCRIPTION:The Good Shepherd Youth Group serves high school aged young adultsby providing an engaging context for them to grow in: \n1) Maturity in doctrine \n2) Faithfulness to Christ \n3) Service to others \nYouth Group meets Sunday evenings from 6-7:30pm\, and is led by The Rev. Jonathan Groves\, with assistance from William (Bill) Lane\, and Katie Whaley. \nThe youth group is currently finishing up a study on the book of Hebrews.
URL:https://goodshepherdbinghamton.org/event/youth-group-42/
END:VEVENT
BEGIN:VEVENT
DTSTART;TZID=America/New_York:20240618T090000
DTEND;TZID=America/New_York:20240618T100000
DTSTAMP:20260425T081141
CREATED:20240708T183022Z
LAST-MODIFIED:20241028T184925Z
UID:32317-1718701200-1718704800@goodshepherdbinghamton.org
SUMMARY:Tuesday Morning Bible Study
DESCRIPTION:Tuesday Morning Bible Study meets at 9:05am to walk through different books of the bible\, verse by verse.  Taught by a member of the pastoral staff in the main room of the parish hall.  This class can be viewed in person or online each week by livestream.  \nThis class is currently working on a study focusing the book of 1 Samuel. \nThis class is meeting online and in person in the parish hall.  It can be viewed at https://www.facebook.com/groups/CoGSMedia/
URL:https://goodshepherdbinghamton.org/event/tuesday-morning-bible-study-49/
END:VEVENT
BEGIN:VEVENT
DTSTART;TZID=America/New_York:20240620T173000
DTEND;TZID=America/New_York:20240620T183000
DTSTAMP:20260425T081141
CREATED:20240702T181242Z
LAST-MODIFIED:20240708T183139Z
UID:32161-1718904600-1718908200@goodshepherdbinghamton.org
SUMMARY:Shepherd's Bowl Community Meal
DESCRIPTION:Each Thursday evening\, Good Shepherd offers a free nutritious meal to thepeople of Good Shepherd and the wider community. If you are able\, this is a great time to get to know others and enjoya free and delicious meal. \nThe Rev. Jonathan Groves leads a beginners Bible study at 6:00 and anyone is welcome to attend.  The study is currently working on the book of Judges. \nPlease find our page on Facebook\, Shepherd’s Bowl Free Community Meal\, and follow\, like and share posts\, and invite friends. 
URL:https://goodshepherdbinghamton.org/event/shepherds-bowl-community-meal-49/
END:VEVENT
BEGIN:VEVENT
DTSTART;TZID=America/New_York:20240620T180000
DTEND;TZID=America/New_York:20240620T190000
DTSTAMP:20260425T081141
CREATED:20240708T183352Z
LAST-MODIFIED:20240708T183352Z
UID:32381-1718906400-1718910000@goodshepherdbinghamton.org
SUMMARY:Beginner's Bible Study
DESCRIPTION:Every Thursday evening directly following the Shepherd’s Bowl Community Dinner\, there is a beginner’s bible study at Good Shepherd.  All are welcome! \nThis is a great place to connect with others and learn more about what God has to say to us through his word.  The class is taught by The Rev. Jonathan Groves\, and the class is currently studying the book of Mark. 
URL:https://goodshepherdbinghamton.org/event/beginners-bible-study-47/
END:VEVENT
BEGIN:VEVENT
DTSTART;TZID=America/New_York:20240621T063000
DTEND;TZID=America/New_York:20240621T080000
DTSTAMP:20260425T081141
CREATED:20240702T181325Z
LAST-MODIFIED:20241028T191112Z
UID:32183-1718951400-1718956800@goodshepherdbinghamton.org
SUMMARY:Men's Breakfast and Bible Study
DESCRIPTION:Every Friday morning at 6:30am men from Good Shepherd\, other area churches\, and the community gather to share a warm breakfast and study the bible. The study is expositional\, moving verse by verse through one book of the bible at a time\, with the purpose of coming to a better understanding of God and his word. \nThere is plenty of discussion\, question and answer time\, prayer\, and fellowship. You do not have to be a member of Good Shepherd or any other church to attend. The study meets at Good Shepherd\, downstairs in the parish hall. It usually ends at 8:00am but men come and go during the study according to their work schedules. Men of all ages are welcome to come\, eat\, and learn from the scriptures.This class is currently studying the book of Revelation.If you’d like more information\, please contact Jonathan Groves for a link to access the class @ jg.arrowhead@gmail.com
URL:https://goodshepherdbinghamton.org/event/mens-breakfast-and-bible-study-48/
CATEGORIES:Celebration
END:VEVENT
BEGIN:VEVENT
DTSTART;TZID=America/New_York:20240621T163000
DTEND;TZID=America/New_York:20240621T173000
DTSTAMP:20260425T081141
CREATED:20240708T183337Z
LAST-MODIFIED:20240708T183337Z
UID:32376-1718987400-1718991000@goodshepherdbinghamton.org
SUMMARY:Women's Bible Study
DESCRIPTION:Women’s Bible Study is back at a new time.  \nThis study meets at 4:30 pm on Friday afternoons in the Parish Hall (lower level).   \nAnne Kennedy is leading and we are currently studying the book of Luke. \nChildren are welcome—as in\, we hope to have some childcare available. Often\, some of the families will come early and the children will play while the mothers visit.   \nPlease contact the office at (607)723-8032 for more information.
URL:https://goodshepherdbinghamton.org/event/womens-bible-study-3/
END:VEVENT
BEGIN:VEVENT
DTSTART;TZID=America/New_York:20240623T080000
DTEND;TZID=America/New_York:20240623T090000
DTSTAMP:20260425T081141
CREATED:20240702T184043Z
LAST-MODIFIED:20240708T183056Z
UID:32223-1719129600-1719133200@goodshepherdbinghamton.org
SUMMARY:First Service
DESCRIPTION:This is an early\, more quiet version of the service at 10:30. \nThe 8am service is not currently being live-streamed. \nThis service involves readings from the Bible\, a sermon\, offering\, confession\, and communion.  There is no music during this service.
URL:https://goodshepherdbinghamton.org/event/first-service-48/
END:VEVENT
BEGIN:VEVENT
DTSTART;TZID=America/New_York:20240623T091500
DTEND;TZID=America/New_York:20240623T101500
DTSTAMP:20260425T081141
CREATED:20240708T182742Z
LAST-MODIFIED:20240708T182742Z
UID:32304-1719134100-1719137700@goodshepherdbinghamton.org
SUMMARY:Christian Education for All
DESCRIPTION:Christian Education for All  \nChildren \nChildren aged 2-11 are invited to pray\, worship\, and learn in specially prepared Montessori-style rooms—The Vineyard (2-3)\, The Pasture (3-6)\, and The Tabernacle (7-11). They study the Bible\, engage with liturgy\, and gradually are oriented to a full life in the church.  \n  \nTeens \nTeens aged12 to 14 cover a range of topics—the Bible\, Liturgy\, Church History\, Apologetics\, the 39 Articles—in a three-year cycle. This is a discussion-style class that prepares kids for confirmation. \n  \nAdult Class  \nEach Sunday a member of the pastoral staff or a guest speakerfacilitates a discussion on topics ranging from Christian literature\, to socialtopics\, the 39 articles\, church history\, and more.     \nThis class meets online and in person in the parish hall of the church.  It can be viewed at https://www.facebook.com/groups/CoGSMedia/
URL:https://goodshepherdbinghamton.org/event/christian-education-for-all-4/
END:VEVENT
BEGIN:VEVENT
DTSTART;TZID=America/New_York:20240623T103000
DTEND;TZID=America/New_York:20240623T120000
DTSTAMP:20260425T081141
CREATED:20240702T181944Z
LAST-MODIFIED:20240708T182447Z
UID:32201-1719138600-1719144000@goodshepherdbinghamton.org
SUMMARY:2nd Service
DESCRIPTION:This is the main service at Good Shepherd.   \nAt this service\, there is a blend of both contemporary and traditional worship music\, bible readings\, a sermon\, confession\, and communion.   \nAt Good Shepherd you will find friendly people\,engaging sermons\, joyful worship\, practical teaching\, and lots of kids. All are welcome! \nThe bulletin is available as a digital download at www.goodshepherdbinghamton.org.   \nThe service is currently open to the public and is being livestreamed at https://www.facebook.com/groups/CoGSMedia/ 
URL:https://goodshepherdbinghamton.org/event/2nd-service-48/
END:VEVENT
BEGIN:VEVENT
DTSTART;TZID=America/New_York:20240623T163000
DTEND;TZID=America/New_York:20240623T180000
DTSTAMP:20260425T081141
CREATED:20240708T183300Z
LAST-MODIFIED:20240708T183300Z
UID:32365-1719160200-1719165600@goodshepherdbinghamton.org
SUMMARY:Choir Rehearsal
DESCRIPTION:All choir members are welcome to come for an additional rehearsal on Sunday evenings.
URL:https://goodshepherdbinghamton.org/event/choir-rehearsal-43/
END:VEVENT
END:VCALENDAR