BEGIN:VCALENDAR
VERSION:2.0
PRODID:-//Church of the Good Shepherd - ECPv6.15.20//NONSGML v1.0//EN
CALSCALE:GREGORIAN
METHOD:PUBLISH
X-WR-CALNAME:Church of the Good Shepherd
X-ORIGINAL-URL:https://goodshepherdbinghamton.org
X-WR-CALDESC:Events for Church of the Good Shepherd
REFRESH-INTERVAL;VALUE=DURATION:PT1H
X-Robots-Tag:noindex
X-PUBLISHED-TTL:PT1H
BEGIN:VTIMEZONE
TZID:America/New_York
BEGIN:DAYLIGHT
TZOFFSETFROM:-0500
TZOFFSETTO:-0400
TZNAME:EDT
DTSTART:20240310T070000
END:DAYLIGHT
BEGIN:STANDARD
TZOFFSETFROM:-0400
TZOFFSETTO:-0500
TZNAME:EST
DTSTART:20241103T060000
END:STANDARD
BEGIN:DAYLIGHT
TZOFFSETFROM:-0500
TZOFFSETTO:-0400
TZNAME:EDT
DTSTART:20250309T070000
END:DAYLIGHT
BEGIN:STANDARD
TZOFFSETFROM:-0400
TZOFFSETTO:-0500
TZNAME:EST
DTSTART:20251102T060000
END:STANDARD
BEGIN:DAYLIGHT
TZOFFSETFROM:-0500
TZOFFSETTO:-0400
TZNAME:EDT
DTSTART:20260308T070000
END:DAYLIGHT
BEGIN:STANDARD
TZOFFSETFROM:-0400
TZOFFSETTO:-0500
TZNAME:EST
DTSTART:20261101T060000
END:STANDARD
END:VTIMEZONE
BEGIN:VEVENT
DTSTART;TZID=America/New_York:20250427T103000
DTEND;TZID=America/New_York:20250427T120000
DTSTAMP:20260424T104134
CREATED:20250225T151101Z
LAST-MODIFIED:20250225T151101Z
UID:33974-1745749800-1745755200@goodshepherdbinghamton.org
SUMMARY:2nd Service
DESCRIPTION:This is the main service at Good Shepherd.   \nAt this service\, there is a blend of both contemporary and traditional worship music\, Bible readings\, a sermon\, confession\, and communion.   \nAt Good Shepherd you will find friendly people\, engaging sermons\, joyful worship\, practical teaching\, and lots of kids. All are welcome! \nThe bulletin is available as a digital download at www.goodshepherdbinghamton.org.   \nThe service is currently open to the public and is being livestreamed at https://www.facebook.com/groups/CoGSMedia/
URL:https://goodshepherdbinghamton.org/event/2nd-service-88/
END:VEVENT
BEGIN:VEVENT
DTSTART;TZID=America/New_York:20250427T091500
DTEND;TZID=America/New_York:20250427T101500
DTSTAMP:20260424T104134
CREATED:20250225T151145Z
LAST-MODIFIED:20250225T151145Z
UID:33987-1745745300-1745748900@goodshepherdbinghamton.org
SUMMARY:Christian Education for Everyone
DESCRIPTION:Children \nFor children aged 1-12. Good Shepherd offers Catechesis of the Good Shepherd—a program of prayer\, worship\, and scripture in specially prepared Montessori-style rooms—The Pen (1-3)\,The Pasture (3-6)\, The Vineyard (6-9)\, and The Tabernacle (9-12).  \n  \nTeens \nTeens aged 12 to 14 cover a range of topics—the Bible\, Liturgy\, Church History\, Apologetics\, the 39 Articles—in a three-year cycle. This is a discussion-style class that prepares kids for confirmation. \n  \nAdult Class  \nDiscussion and study on topics ranging from Christian literature\, the 39 articles\, church history\, difficult passages of the bible\, and more.     \nPlease contact the Good Shepherd office for more information.
URL:https://goodshepherdbinghamton.org/event/christian-education-for-everyone-14/
END:VEVENT
BEGIN:VEVENT
DTSTART;TZID=America/New_York:20250427T091500
DTEND;TZID=America/New_York:20250427T101500
DTSTAMP:20260424T104134
CREATED:20250224T182739Z
LAST-MODIFIED:20250225T145846Z
UID:33772-1745745300-1745748900@goodshepherdbinghamton.org
SUMMARY:Christian Education for All
DESCRIPTION:Christian Education for All  \nChildren \nChildren aged 2-11 are invited to pray\, worship\, and learn in specially prepared Montessori-style rooms—The Vineyard (2-3)\, The Pasture (3-6)\, and The Tabernacle (7-11). They study the Bible\, engage with liturgy\, and gradually are oriented to a full life in the church.  \n  \nTeens \nTeens aged12 to 14 cover a range of topics—the Bible\, Liturgy\, Church History\, Apologetics\, the 39 Articles—in a three-year cycle. This is a discussion-style class that prepares kids for confirmation. \n  \nAdult Class  \nEach Sunday a member of the pastoral staff or a guest speakerfacilitates a discussion on topics ranging from Christian literature\, to socialtopics\, the 39 articles\, church history\, and more.     \nThis class meets online and in person in the parish hall of the church.  It can be viewed at https://www.facebook.com/groups/CoGSMedia/
URL:https://goodshepherdbinghamton.org/event/christian-education-for-all-48/
END:VEVENT
BEGIN:VEVENT
DTSTART;TZID=America/New_York:20250427T080000
DTEND;TZID=America/New_York:20250427T090000
DTSTAMP:20260424T104134
CREATED:20250224T182825Z
LAST-MODIFIED:20250225T150205Z
UID:33789-1745740800-1745744400@goodshepherdbinghamton.org
SUMMARY:First Service
DESCRIPTION:This is an early\, more quiet version of the service at 10:30. \nThe 8am service is not currently being live-streamed. \nThis service involves readings from the Bible\, a sermon\, offering\, confession\, and communion.  There is no music during this service.
URL:https://goodshepherdbinghamton.org/event/first-service-92/
END:VEVENT
BEGIN:VEVENT
DTSTART;TZID=America/New_York:20250425T163000
DTEND;TZID=America/New_York:20250425T173000
DTSTAMP:20260424T104134
CREATED:20250225T150945Z
LAST-MODIFIED:20250225T150945Z
UID:33948-1745598600-1745602200@goodshepherdbinghamton.org
SUMMARY:Women's Bible Study
DESCRIPTION:This study meets at 4:30 pm on Friday afternoons in the Parish Hall (lower level).   \nAnne Kennedy is leading and we are currently studying the book of Luke. \nChildren are welcome—as in\, we hope to have some childcare available. Often\, some of the families will come early and the children will play while the mothers visit.   \nPlease contact the office at (607)723-8032 for more information.
URL:https://goodshepherdbinghamton.org/event/womens-bible-study-32/
END:VEVENT
BEGIN:VEVENT
DTSTART;TZID=America/New_York:20250425T070000
DTEND;TZID=America/New_York:20250425T080000
DTSTAMP:20260424T104134
CREATED:20250225T151516Z
LAST-MODIFIED:20250225T151516Z
UID:34060-1745564400-1745568000@goodshepherdbinghamton.org
SUMMARY:Morning Prayer
DESCRIPTION:Morning Prayer meets online by Zoom at 7am Monday through Friday. Theliturgy and readings are available at www.dailyoffice2019.com.  \nJoin the parishemail list and look for a weekly email invitation in your inbox.
URL:https://goodshepherdbinghamton.org/event/morning-prayer-131/
END:VEVENT
BEGIN:VEVENT
DTSTART;TZID=America/New_York:20250425T063000
DTEND;TZID=America/New_York:20250425T080000
DTSTAMP:20260424T104134
CREATED:20250225T150915Z
LAST-MODIFIED:20250327T193803Z
UID:33936-1745562600-1745568000@goodshepherdbinghamton.org
SUMMARY:Men's Breakfast and Bible Study
DESCRIPTION:Every Friday morning at 6:30am men from Good Shepherd\, other area churches\, and the community gather to share a warm breakfast and study the bible. The study is expositional\, moving verse by verse through one book of the bible at a time\, with the purpose of coming to a better understanding of God and his word.There is plenty of discussion\, question and answer time\, prayer\, and fellowship. You do not have to be a member of Good Shepherd or any other church to attend. The study meets at Good Shepherd\, downstairs in the parish hall. It usually ends at 8:00am but men come and go during the study according to their work schedules. Men of all ages are welcome to come\, eat\, and learn from the scriptures.This class is currently studying the book of Revelation.If you’d like more information\, please contact Jonathan Groves for a link to access the class @ jg.arrowhead@gmail.com
URL:https://goodshepherdbinghamton.org/event/mens-breakfast-and-bible-study-87/
END:VEVENT
BEGIN:VEVENT
DTSTART;TZID=America/New_York:20250424T181500
DTEND;TZID=America/New_York:20250424T191500
DTSTAMP:20260424T104134
CREATED:20250225T151216Z
LAST-MODIFIED:20250225T151216Z
UID:33999-1745518500-1745522100@goodshepherdbinghamton.org
SUMMARY:Beginner's Bible Study
DESCRIPTION:Every Thursday evening at 6pm\, there is a beginner’s bible study at Good Shepherd.  All are welcome! \nThis is a great place to connect with others and learn more about what God has to say to us through his word.  The class is taught by The Rev. Dcn. Warren Musselman\, and the class is currently studying the book of James. 
URL:https://goodshepherdbinghamton.org/event/beginners-bible-study-76/
END:VEVENT
BEGIN:VEVENT
DTSTART;TZID=America/New_York:20250424T173000
DTEND;TZID=America/New_York:20250424T183000
DTSTAMP:20260424T104134
CREATED:20250225T150715Z
LAST-MODIFIED:20250225T150715Z
UID:33897-1745515800-1745519400@goodshepherdbinghamton.org
SUMMARY:Shepherd's Bowl Community Meal
DESCRIPTION:Each Thursday evening\, Good Shepherd offers a free nutritious meal to thepeople of Good Shepherd and the wider community. If you are able\, this is a great time to get to know others and enjoya free and delicious meal. \nThe Rev. Jonathan Groves leads a beginners Bible study at 6:00 and anyone is welcome to attend.  The study is currently working on the book of Judges. \nPlease find our page on Facebook\, Shepherd’s Bowl Free Community Meal\, and follow\, like and share posts\, and invite friends. 
URL:https://goodshepherdbinghamton.org/event/shepherds-bowl-community-meal-88/
END:VEVENT
BEGIN:VEVENT
DTSTART;TZID=America/New_York:20250424T070000
DTEND;TZID=America/New_York:20250424T080000
DTSTAMP:20260424T104134
CREATED:20250225T151516Z
LAST-MODIFIED:20250225T151516Z
UID:34059-1745478000-1745481600@goodshepherdbinghamton.org
SUMMARY:Morning Prayer
DESCRIPTION:Morning Prayer meets online by Zoom at 7am Monday through Friday. Theliturgy and readings are available at www.dailyoffice2019.com.  \nJoin the parishemail list and look for a weekly email invitation in your inbox.
URL:https://goodshepherdbinghamton.org/event/morning-prayer-130/
END:VEVENT
BEGIN:VEVENT
DTSTART;TZID=America/New_York:20250423T183000
DTEND;TZID=America/New_York:20250423T200000
DTSTAMP:20260424T104134
CREATED:20250225T150830Z
LAST-MODIFIED:20250225T150830Z
UID:33923-1745433000-1745438400@goodshepherdbinghamton.org
SUMMARY:Good Shepherd Choir Rehearsal
DESCRIPTION: If you would like more information about the music program at Good Shepherd\, please contact Michael Berman.
URL:https://goodshepherdbinghamton.org/event/good-shepherd-choir-rehearsal-83/
END:VEVENT
BEGIN:VEVENT
DTSTART;TZID=America/New_York:20250423T070000
DTEND;TZID=America/New_York:20250423T080000
DTSTAMP:20260424T104134
CREATED:20250225T151516Z
LAST-MODIFIED:20250225T151516Z
UID:34058-1745391600-1745395200@goodshepherdbinghamton.org
SUMMARY:Morning Prayer
DESCRIPTION:Morning Prayer meets online by Zoom at 7am Monday through Friday. Theliturgy and readings are available at www.dailyoffice2019.com.  \nJoin the parishemail list and look for a weekly email invitation in your inbox.
URL:https://goodshepherdbinghamton.org/event/morning-prayer-129/
END:VEVENT
BEGIN:VEVENT
DTSTART;TZID=America/New_York:20250422T153000
DTEND;TZID=America/New_York:20250422T164500
DTSTAMP:20260424T104134
CREATED:20250225T150745Z
LAST-MODIFIED:20250225T150745Z
UID:33910-1745335800-1745340300@goodshepherdbinghamton.org
SUMMARY:Good Shepherd Choir Rehearsal
DESCRIPTION:If you would like more information about the music program at Good Shepherd\, please contact Michael Berman.
URL:https://goodshepherdbinghamton.org/event/good-shepherd-choir-rehearsal-70/
END:VEVENT
BEGIN:VEVENT
DTSTART;TZID=America/New_York:20250422T090000
DTEND;TZID=America/New_York:20250422T100000
DTSTAMP:20260424T104134
CREATED:20250225T151016Z
LAST-MODIFIED:20250225T151016Z
UID:33960-1745312400-1745316000@goodshepherdbinghamton.org
SUMMARY:Tuesday Morning Bible Study
DESCRIPTION:Tuesday Morning Bible Study meets at 9:05am to walk through different books of the bible\, verse by verse.  Taught by a member of the pastoral staff in the main room of the parish hall.  This class can be viewed in person or online each week by livestream.  \nThis class is currently working on a study focusing the book of 2 Samuel. \nThis class is meeting online and in person in the parish hall.  It can be viewed at https://www.facebook.com/groups/CoGSMedia/
URL:https://goodshepherdbinghamton.org/event/tuesday-morning-bible-study-89/
END:VEVENT
BEGIN:VEVENT
DTSTART;TZID=America/New_York:20250422T070000
DTEND;TZID=America/New_York:20250422T080000
DTSTAMP:20260424T104134
CREATED:20250225T151515Z
LAST-MODIFIED:20250225T151515Z
UID:34057-1745305200-1745308800@goodshepherdbinghamton.org
SUMMARY:Morning Prayer
DESCRIPTION:Morning Prayer meets online by Zoom at 7am Monday through Friday. Theliturgy and readings are available at www.dailyoffice2019.com.  \nJoin the parishemail list and look for a weekly email invitation in your inbox.
URL:https://goodshepherdbinghamton.org/event/morning-prayer-128/
END:VEVENT
BEGIN:VEVENT
DTSTART;TZID=America/New_York:20250421T070000
DTEND;TZID=America/New_York:20250421T080000
DTSTAMP:20260424T104134
CREATED:20250225T151515Z
LAST-MODIFIED:20250225T151515Z
UID:34056-1745218800-1745222400@goodshepherdbinghamton.org
SUMMARY:Morning Prayer
DESCRIPTION:Morning Prayer meets online by Zoom at 7am Monday through Friday. Theliturgy and readings are available at www.dailyoffice2019.com.  \nJoin the parishemail list and look for a weekly email invitation in your inbox.
URL:https://goodshepherdbinghamton.org/event/morning-prayer-127/
END:VEVENT
BEGIN:VEVENT
DTSTART;TZID=America/New_York:20250420T180000
DTEND;TZID=America/New_York:20250420T193000
DTSTAMP:20260424T104134
CREATED:20250225T150630Z
LAST-MODIFIED:20250225T150630Z
UID:33884-1745172000-1745177400@goodshepherdbinghamton.org
SUMMARY:Holy Group Squad
DESCRIPTION:Holy Group Squad is a meeting of college aged young adults. They read and discuss literature through a Christian worldview. \nIf you would like more information about Holy Group Squad\, please contact Jonathan Groves.
URL:https://goodshepherdbinghamton.org/event/holy-group-squad-27/
END:VEVENT
BEGIN:VEVENT
DTSTART;TZID=America/New_York:20250420T180000
DTEND;TZID=America/New_York:20250420T193000
DTSTAMP:20260424T104134
CREATED:20250225T150559Z
LAST-MODIFIED:20250225T150559Z
UID:33871-1745172000-1745177400@goodshepherdbinghamton.org
SUMMARY:Good Shepherd Youth Group
DESCRIPTION:Good Shepherd Youth Group meets Sundays at 6pm. This is an engagingcontext for kids to grow in: \n1) Knowledge of scripture and doctrine \n2) Faithfulness to Christ \n3) Service to others
URL:https://goodshepherdbinghamton.org/event/good-shepherd-youth-group-31/
END:VEVENT
BEGIN:VEVENT
DTSTART;TZID=America/New_York:20250420T163000
DTEND;TZID=America/New_York:20250420T180000
DTSTAMP:20260424T104134
CREATED:20250224T183255Z
LAST-MODIFIED:20250225T150515Z
UID:33805-1745166600-1745172000@goodshepherdbinghamton.org
SUMMARY:Good Shepherd Choir Rehearsal
DESCRIPTION:The Good Shepherd Choir gathers to rehearse three times a week on Sunday\, Tuesday\, and Wednesday.   \nIf you would like more information about the music program at Good Shepherd\, please contact Michael Berman.
URL:https://goodshepherdbinghamton.org/event/good-shepherd-choir-rehearsal-57/
END:VEVENT
BEGIN:VEVENT
DTSTART;TZID=America/New_York:20250420T103000
DTEND;TZID=America/New_York:20250420T120000
DTSTAMP:20260424T104134
CREATED:20250225T151100Z
LAST-MODIFIED:20250225T151100Z
UID:33973-1745145000-1745150400@goodshepherdbinghamton.org
SUMMARY:2nd Service
DESCRIPTION:This is the main service at Good Shepherd.   \nAt this service\, there is a blend of both contemporary and traditional worship music\, Bible readings\, a sermon\, confession\, and communion.   \nAt Good Shepherd you will find friendly people\, engaging sermons\, joyful worship\, practical teaching\, and lots of kids. All are welcome! \nThe bulletin is available as a digital download at www.goodshepherdbinghamton.org.   \nThe service is currently open to the public and is being livestreamed at https://www.facebook.com/groups/CoGSMedia/
URL:https://goodshepherdbinghamton.org/event/2nd-service-87/
END:VEVENT
BEGIN:VEVENT
DTSTART;TZID=America/New_York:20250420T091500
DTEND;TZID=America/New_York:20250420T101500
DTSTAMP:20260424T104134
CREATED:20250225T151145Z
LAST-MODIFIED:20250225T151145Z
UID:33986-1745140500-1745144100@goodshepherdbinghamton.org
SUMMARY:Christian Education for Everyone
DESCRIPTION:Children \nFor children aged 1-12. Good Shepherd offers Catechesis of the Good Shepherd—a program of prayer\, worship\, and scripture in specially prepared Montessori-style rooms—The Pen (1-3)\,The Pasture (3-6)\, The Vineyard (6-9)\, and The Tabernacle (9-12).  \n  \nTeens \nTeens aged 12 to 14 cover a range of topics—the Bible\, Liturgy\, Church History\, Apologetics\, the 39 Articles—in a three-year cycle. This is a discussion-style class that prepares kids for confirmation. \n  \nAdult Class  \nDiscussion and study on topics ranging from Christian literature\, the 39 articles\, church history\, difficult passages of the bible\, and more.     \nPlease contact the Good Shepherd office for more information.
URL:https://goodshepherdbinghamton.org/event/christian-education-for-everyone-13/
END:VEVENT
BEGIN:VEVENT
DTSTART;TZID=America/New_York:20250420T091500
DTEND;TZID=America/New_York:20250420T101500
DTSTAMP:20260424T104134
CREATED:20250224T182739Z
LAST-MODIFIED:20250225T145845Z
UID:33771-1745140500-1745144100@goodshepherdbinghamton.org
SUMMARY:Christian Education for All
DESCRIPTION:Christian Education for All  \nChildren \nChildren aged 2-11 are invited to pray\, worship\, and learn in specially prepared Montessori-style rooms—The Vineyard (2-3)\, The Pasture (3-6)\, and The Tabernacle (7-11). They study the Bible\, engage with liturgy\, and gradually are oriented to a full life in the church.  \n  \nTeens \nTeens aged12 to 14 cover a range of topics—the Bible\, Liturgy\, Church History\, Apologetics\, the 39 Articles—in a three-year cycle. This is a discussion-style class that prepares kids for confirmation. \n  \nAdult Class  \nEach Sunday a member of the pastoral staff or a guest speakerfacilitates a discussion on topics ranging from Christian literature\, to socialtopics\, the 39 articles\, church history\, and more.     \nThis class meets online and in person in the parish hall of the church.  It can be viewed at https://www.facebook.com/groups/CoGSMedia/
URL:https://goodshepherdbinghamton.org/event/christian-education-for-all-47/
END:VEVENT
BEGIN:VEVENT
DTSTART;TZID=America/New_York:20250420T080000
DTEND;TZID=America/New_York:20250420T090000
DTSTAMP:20260424T104134
CREATED:20250224T182824Z
LAST-MODIFIED:20250225T150037Z
UID:33788-1745136000-1745139600@goodshepherdbinghamton.org
SUMMARY:First Service
DESCRIPTION:This is an early\, more quiet version of the service at 10:30. \nThe 8am service is not currently being live-streamed. \nThis service involves readings from the Bible\, a sermon\, offering\, confession\, and communion.  There is no music during this service.
URL:https://goodshepherdbinghamton.org/event/first-service-91/
END:VEVENT
BEGIN:VEVENT
DTSTART;TZID=America/New_York:20250419T200000
DTEND;TZID=America/New_York:20250419T220000
DTSTAMP:20260424T104134
CREATED:20250409T022715Z
LAST-MODIFIED:20250409T022717Z
UID:34233-1745092800-1745100000@goodshepherdbinghamton.org
SUMMARY:The Great Vigil of Easter
DESCRIPTION:Along with Tenebrae\, the Easter Vigil is one of the most ancient services of the Church. It is the most important service of the entire year and it is the first service of Easter. The service begins in total darkness—the lights of the sanctuary are out and not a candle is burning. Then a fire is lit in a firepot at the center of the nave and from that flame all the candles in the sanctuary and the hand-candles in the congregation are lit. Then come readings and psalms\, said and sung\, by singers and by the whole congregation. The sermon follows and then the first Communion of Easter. The Great Vigil begins at 8:00pm in the sanctuary.
URL:https://goodshepherdbinghamton.org/event/the-great-vigil-of-easter/
END:VEVENT
BEGIN:VEVENT
DTSTART;TZID=America/New_York:20250418T200000
DTEND;TZID=America/New_York:20250418T210000
DTSTAMP:20260424T104134
CREATED:20250409T022414Z
LAST-MODIFIED:20250412T171000Z
UID:34231-1745006400-1745010000@goodshepherdbinghamton.org
SUMMARY:Stations of the Cross
DESCRIPTION:The Stations of the Cross is a solemn service. The participants walk through the sanctuary by candlelight\, stopping to pray and listen to biblical readings at the fourteen different stations marked (at Good Shepherd) by engravings hung on the walls of the sanctuary. Each station depicts a moment in the suffering of Christ\, from the trial where he was condemned\, to his procession through Jerusalem carrying his cross\, to the hill called Golgotha where he was crucified\, ending at the final station\, his burial in a tomb. \n\n\n\nThe gathering exits the sanctuary in silence.
URL:https://goodshepherdbinghamton.org/event/stations-of-the-cross/
END:VEVENT
BEGIN:VEVENT
DTSTART;TZID=America/New_York:20250418T120000
DTEND;TZID=America/New_York:20250418T130000
DTSTAMP:20260424T104134
CREATED:20250409T020934Z
LAST-MODIFIED:20250409T020938Z
UID:34229-1744977600-1744981200@goodshepherdbinghamton.org
SUMMARY:Good Friday
DESCRIPTION:At about 3pm on Friday of Holy Week he lifted his eyes up to heaven from the cross and breathed out his last. “It is finished” he said. He was not only referring to his life\, but he was also referring to his mission to deal with and defeat once and for all sin\, death\, and Satan.
URL:https://goodshepherdbinghamton.org/event/good-friday/
END:VEVENT
BEGIN:VEVENT
DTSTART;TZID=America/New_York:20250418T070000
DTEND;TZID=America/New_York:20250418T080000
DTSTAMP:20260424T104134
CREATED:20250225T151501Z
LAST-MODIFIED:20250225T151501Z
UID:34055-1744959600-1744963200@goodshepherdbinghamton.org
SUMMARY:Morning Prayer
DESCRIPTION:Morning Prayer meets online by Zoom at 7am Monday through Friday. Theliturgy and readings are available at www.dailyoffice2019.com.  \nJoin the parishemail list and look for a weekly email invitation in your inbox.
URL:https://goodshepherdbinghamton.org/event/morning-prayer-126/
END:VEVENT
BEGIN:VEVENT
DTSTART;TZID=America/New_York:20250417T190000
DTEND;TZID=America/New_York:20250417T203000
DTSTAMP:20260424T104134
CREATED:20250409T020748Z
LAST-MODIFIED:20250409T020751Z
UID:34227-1744916400-1744921800@goodshepherdbinghamton.org
SUMMARY:Maundy Thursday
DESCRIPTION:Maundy Thursday communion celebrates the humility of Jesus with a ceremonial foot washing.  Jesus is the King of Kings and Lord of Lord’s and yet on the night before he died\, during the Last Supper\, he knelt down and one by one washed his disciples’ feet. He did this to show his disciples\, and to show you and me\, how to serve one another with humility and love\, being willing even to stoop to the most menial tasks. Maundy Thursday is the last chance for communion until the Great Vigil.
URL:https://goodshepherdbinghamton.org/event/maundy-thursday/
END:VEVENT
BEGIN:VEVENT
DTSTART;TZID=America/New_York:20250417T173000
DTEND;TZID=America/New_York:20250417T183000
DTSTAMP:20260424T104134
CREATED:20250225T150714Z
LAST-MODIFIED:20250225T150714Z
UID:33896-1744911000-1744914600@goodshepherdbinghamton.org
SUMMARY:Shepherd's Bowl Community Meal
DESCRIPTION:Each Thursday evening\, Good Shepherd offers a free nutritious meal to thepeople of Good Shepherd and the wider community. If you are able\, this is a great time to get to know others and enjoya free and delicious meal. \nThe Rev. Jonathan Groves leads a beginners Bible study at 6:00 and anyone is welcome to attend.  The study is currently working on the book of Judges. \nPlease find our page on Facebook\, Shepherd’s Bowl Free Community Meal\, and follow\, like and share posts\, and invite friends. 
URL:https://goodshepherdbinghamton.org/event/shepherds-bowl-community-meal-87/
END:VEVENT
BEGIN:VEVENT
DTSTART;TZID=America/New_York:20250417T070000
DTEND;TZID=America/New_York:20250417T080000
DTSTAMP:20260424T104134
CREATED:20250225T151501Z
LAST-MODIFIED:20250225T151501Z
UID:34054-1744873200-1744876800@goodshepherdbinghamton.org
SUMMARY:Morning Prayer
DESCRIPTION:Morning Prayer meets online by Zoom at 7am Monday through Friday. Theliturgy and readings are available at www.dailyoffice2019.com.  \nJoin the parishemail list and look for a weekly email invitation in your inbox.
URL:https://goodshepherdbinghamton.org/event/morning-prayer-125/
END:VEVENT
END:VCALENDAR