BEGIN:VCALENDAR
VERSION:2.0
PRODID:-//Church of the Good Shepherd - ECPv6.15.20//NONSGML v1.0//EN
CALSCALE:GREGORIAN
METHOD:PUBLISH
X-WR-CALNAME:Church of the Good Shepherd
X-ORIGINAL-URL:https://goodshepherdbinghamton.org
X-WR-CALDESC:Events for Church of the Good Shepherd
REFRESH-INTERVAL;VALUE=DURATION:PT1H
X-Robots-Tag:noindex
X-PUBLISHED-TTL:PT1H
BEGIN:VTIMEZONE
TZID:America/New_York
BEGIN:DAYLIGHT
TZOFFSETFROM:-0500
TZOFFSETTO:-0400
TZNAME:EDT
DTSTART:20240310T070000
END:DAYLIGHT
BEGIN:STANDARD
TZOFFSETFROM:-0400
TZOFFSETTO:-0500
TZNAME:EST
DTSTART:20241103T060000
END:STANDARD
BEGIN:DAYLIGHT
TZOFFSETFROM:-0500
TZOFFSETTO:-0400
TZNAME:EDT
DTSTART:20250309T070000
END:DAYLIGHT
BEGIN:STANDARD
TZOFFSETFROM:-0400
TZOFFSETTO:-0500
TZNAME:EST
DTSTART:20251102T060000
END:STANDARD
BEGIN:DAYLIGHT
TZOFFSETFROM:-0500
TZOFFSETTO:-0400
TZNAME:EDT
DTSTART:20260308T070000
END:DAYLIGHT
BEGIN:STANDARD
TZOFFSETFROM:-0400
TZOFFSETTO:-0500
TZNAME:EST
DTSTART:20261101T060000
END:STANDARD
END:VTIMEZONE
BEGIN:VEVENT
DTSTART;TZID=America/New_York:20251028T183000
DTEND;TZID=America/New_York:20251028T200000
DTSTAMP:20260423T192440
CREATED:20251027T193406Z
LAST-MODIFIED:20251027T193411Z
UID:34881-1761676200-1761681600@goodshepherdbinghamton.org
SUMMARY:Allhallowtide Service
DESCRIPTION:Allhallowtide This year we are going to be holding a service in preparation for Allhallowtide on Tuesday\, October 28th at 6:30pm\, in place of our usual Trunk-or-Treat event. It will be a somber candlelit service in remembrance of those we have lost personally\, collectively\, and the saints who have gone before us. \n\n\n\nAllhallowtide encompasses the observance of All Hallow’s Eve\, All Saint’s Day\, and All Soul’s Day. These days are set apart in the midst of Ordinary Time to reflect on our mortality and the end of life here on earth\, and how Christ has conquered death to bring us life everlasting. We mourn those we have lost\, while we praise God for their time here on earth\, and look forward to the day we will see them again. \n\n\n\nWe will be including a Necrology\, honoring and reading out the names of those we have lost as a community. If there is anyone dear to you you’d like to be included in this reading\, please contact Angel Groves in person or by text/phone. Please include the name of the deceased as well as their connection to you or our church. (Ex. John Smith\, cousin of Jonathan Groves).
URL:https://goodshepherdbinghamton.org/event/allhallowtide-service/
END:VEVENT
BEGIN:VEVENT
DTSTART;TZID=America/New_York:20251028T090000
DTEND;TZID=America/New_York:20251028T100000
DTSTAMP:20260423T192440
CREATED:20250805T153051Z
LAST-MODIFIED:20250805T153051Z
UID:34618-1761642000-1761645600@goodshepherdbinghamton.org
SUMMARY:Tuesday Morning Bible Study
DESCRIPTION:Tuesday Morning Bible Study meets at 9:05am to walk through different books of the bible\, verse by verse.  Taught by a member of the pastoral staff in the main room of the parish hall.  This class can be viewed in person or online each week by livestream.  \nThis class is currently working on a study focusing the book of Proverbs. \nThis class is meeting online and in person in the parish hall.  It can be viewed at https://www.facebook.com/groups/CoGSMedia/
URL:https://goodshepherdbinghamton.org/event/tuesday-morning-bible-study-108/
END:VEVENT
BEGIN:VEVENT
DTSTART;TZID=America/New_York:20251028T070000
DTEND;TZID=America/New_York:20251028T080000
DTSTAMP:20260423T192440
CREATED:20250805T153353Z
LAST-MODIFIED:20250805T153353Z
UID:34713-1761634800-1761638400@goodshepherdbinghamton.org
SUMMARY:Morning Prayer
DESCRIPTION:Morning Prayer meets online by Zoom at 7am Monday through Friday. The liturgy and readings are available at www.dailyoffice2019.com.  \nJoin the parish email list and look for a weekly email invitation in your inbox.
URL:https://goodshepherdbinghamton.org/event/morning-prayer-201/
END:VEVENT
BEGIN:VEVENT
DTSTART;TZID=America/New_York:20251027T070000
DTEND;TZID=America/New_York:20251027T080000
DTSTAMP:20260423T192440
CREATED:20250805T153352Z
LAST-MODIFIED:20250805T153352Z
UID:34712-1761548400-1761552000@goodshepherdbinghamton.org
SUMMARY:Morning Prayer
DESCRIPTION:Morning Prayer meets online by Zoom at 7am Monday through Friday. The liturgy and readings are available at www.dailyoffice2019.com.  \nJoin the parish email list and look for a weekly email invitation in your inbox.
URL:https://goodshepherdbinghamton.org/event/morning-prayer-200/
END:VEVENT
BEGIN:VEVENT
DTSTART;TZID=America/New_York:20251026T103000
DTEND;TZID=America/New_York:20251026T120000
DTSTAMP:20260423T192440
CREATED:20250805T152938Z
LAST-MODIFIED:20250805T152938Z
UID:34583-1761474600-1761480000@goodshepherdbinghamton.org
SUMMARY:2nd Service
DESCRIPTION:This is the main service at Good Shepherd.   \nAt this service\, there is a blend of both contemporary and traditional worship music\, Bible readings\, a sermon\, confession\, and communion.   \nAt Good Shepherd you will find friendly people\, engaging sermons\, joyful worship\, practical teaching\, and lots of kids. All are welcome! \nThe bulletin is available as a digital download at www.goodshepherdbinghamton.org.   \nThe service is currently open to the public and is being livestreamed at https://www.facebook.com/groups/CoGSMedia/
URL:https://goodshepherdbinghamton.org/event/2nd-service-105/
END:VEVENT
BEGIN:VEVENT
DTSTART;TZID=America/New_York:20251026T091500
DTEND;TZID=America/New_York:20251026T101500
DTSTAMP:20260423T192440
CREATED:20250805T153015Z
LAST-MODIFIED:20250805T153015Z
UID:34600-1761470100-1761473700@goodshepherdbinghamton.org
SUMMARY:Christian Education for Everyone
DESCRIPTION:Children \nFor children aged 1-12. Good Shepherd offers Catechesis of the Good Shepherd—a program of prayer\, worship\, and scripture in specially prepared Montessori-style rooms—The Pen (1-3)\,The Pasture (3-6)\, The Vineyard (6-9)\, and The Tabernacle (9-12).  \n  \nTeens \nTeens aged 12 to 14 cover a range of topics—the Bible\, Liturgy\, Church History\, Apologetics\, the 39 Articles—in a three-year cycle. This is a discussion-style class that prepares kids for confirmation. \n  \nAdult Class  \nDiscussion and study on topics ranging from Christian literature\, the 39 articles\, church history\, difficult passages of the bible\, and more.     \nPlease contact the Good Shepherd office for more information.
URL:https://goodshepherdbinghamton.org/event/christian-education-for-everyone-31/
END:VEVENT
BEGIN:VEVENT
DTSTART;TZID=America/New_York:20251026T080000
DTEND;TZID=America/New_York:20251026T090000
DTSTAMP:20260423T192440
CREATED:20250805T152747Z
LAST-MODIFIED:20250805T152747Z
UID:34548-1761465600-1761469200@goodshepherdbinghamton.org
SUMMARY:First Service
DESCRIPTION:This is an early\, more quiet version of the service at 10:30. \nThe 8am service is not currently being live-streamed. \nThis service involves readings from the Bible\, a sermon\, offering\, confession\, and communion.  There is no music during this service.
URL:https://goodshepherdbinghamton.org/event/first-service-109/
END:VEVENT
BEGIN:VEVENT
DTSTART;TZID=America/New_York:20251026T090000
DTEND;TZID=America/New_York:20251026T120000
DTSTAMP:20260423T192440
CREATED:20250805T153132Z
LAST-MODIFIED:20251027T193618Z
UID:34642-1761469200-1761480000@goodshepherdbinghamton.org
SUMMARY:Espiscopal Visit with Bishop Dobbs
DESCRIPTION:Bishop Dobbs will be visiting Good Shepherd on October 26th. Preceding that\, Matt will be running a Christian Ed series on the 39 Articles\, the Anglican articles of faith.  If you would like to be confirmed in the Anglican tradition and formally become a member of the Anglican Church of North America\, you must complete these classes.  Bishop Dobbs will perform the confirmations during his visit.  If you would like to be confirmed\, please talk with Matt or Jon.
URL:https://goodshepherdbinghamton.org/event/espiscopal-visit-with-bishop-dobbs/
END:VEVENT
BEGIN:VEVENT
DTSTART;TZID=America/New_York:20251024T070000
DTEND;TZID=America/New_York:20251024T080000
DTSTAMP:20260423T192440
CREATED:20250805T153352Z
LAST-MODIFIED:20250805T153352Z
UID:34711-1761289200-1761292800@goodshepherdbinghamton.org
SUMMARY:Morning Prayer
DESCRIPTION:Morning Prayer meets online by Zoom at 7am Monday through Friday. The liturgy and readings are available at www.dailyoffice2019.com.  \nJoin the parish email list and look for a weekly email invitation in your inbox.
URL:https://goodshepherdbinghamton.org/event/morning-prayer-199/
END:VEVENT
BEGIN:VEVENT
DTSTART;TZID=America/New_York:20251024T063000
DTEND;TZID=America/New_York:20251024T080000
DTSTAMP:20260423T192440
CREATED:20250805T153117Z
LAST-MODIFIED:20250805T153117Z
UID:34635-1761287400-1761292800@goodshepherdbinghamton.org
SUMMARY:Men's Breakfast and Bible Study
DESCRIPTION:Every Friday morning at 6:30am men from Good Shepherd\, other area churches\, and the community gather to share a warm breakfast and study the bible. The study is expositional\, moving verse by verse through one book of the bible at a time\, with the purpose of coming to a better understanding of God and his word. \nThere is plenty of discussion\, question and answer time\, prayer\, and fellowship. You do not have to be a member of Good Shepherd or any other church to attend. The study meets at Good Shepherd\, downstairs in the parish hall. It usually ends at 8:00am but men come and go during the study according to their work schedules. Men of all ages are welcome to come\, eat\, and learn from the scriptures.This class is currently studying the book of Genesis.If you’d like more information\, please contact Jonathan Groves for a link to access the class @ jg.arrowhead@gmail.com
URL:https://goodshepherdbinghamton.org/event/mens-breakfast-and-bible-study-104/
END:VEVENT
BEGIN:VEVENT
DTSTART;TZID=America/New_York:20251023T173000
DTEND;TZID=America/New_York:20251023T183000
DTSTAMP:20260423T192440
CREATED:20250805T152844Z
LAST-MODIFIED:20250805T152844Z
UID:34565-1761240600-1761244200@goodshepherdbinghamton.org
SUMMARY:Shepherd's Bowl Community Meal
DESCRIPTION:Each Thursday evening\, Good Shepherd offers a free nutritious meal to thepeople of Good Shepherd and the wider community. If you are able\, this is a great time to get to know others and enjoya free and delicious meal. \nThe Rev. Jonathan Groves leads a beginners Bible study at 6:00 and anyone is welcome to attend.  The study is currently working on the book of Judges. \nPlease find our page on Facebook\, Shepherd’s Bowl Free Community Meal\, and follow\, like and share posts\, and invite friends. 
URL:https://goodshepherdbinghamton.org/event/shepherds-bowl-community-meal-106/
END:VEVENT
BEGIN:VEVENT
DTSTART;TZID=America/New_York:20251023T070000
DTEND;TZID=America/New_York:20251023T080000
DTSTAMP:20260423T192440
CREATED:20250805T153342Z
LAST-MODIFIED:20250805T153342Z
UID:34710-1761202800-1761206400@goodshepherdbinghamton.org
SUMMARY:Morning Prayer
DESCRIPTION:Morning Prayer meets online by Zoom at 7am Monday through Friday. The liturgy and readings are available at www.dailyoffice2019.com.  \nJoin the parish email list and look for a weekly email invitation in your inbox.
URL:https://goodshepherdbinghamton.org/event/morning-prayer-198/
END:VEVENT
BEGIN:VEVENT
DTSTART;TZID=America/New_York:20251022T070000
DTEND;TZID=America/New_York:20251022T080000
DTSTAMP:20260423T192440
CREATED:20250805T153341Z
LAST-MODIFIED:20250805T153341Z
UID:34709-1761116400-1761120000@goodshepherdbinghamton.org
SUMMARY:Morning Prayer
DESCRIPTION:Morning Prayer meets online by Zoom at 7am Monday through Friday. The liturgy and readings are available at www.dailyoffice2019.com.  \nJoin the parish email list and look for a weekly email invitation in your inbox.
URL:https://goodshepherdbinghamton.org/event/morning-prayer-197/
END:VEVENT
BEGIN:VEVENT
DTSTART;TZID=America/New_York:20251021T090000
DTEND;TZID=America/New_York:20251021T100000
DTSTAMP:20260423T192440
CREATED:20250805T153050Z
LAST-MODIFIED:20250805T153050Z
UID:34617-1761037200-1761040800@goodshepherdbinghamton.org
SUMMARY:Tuesday Morning Bible Study
DESCRIPTION:Tuesday Morning Bible Study meets at 9:05am to walk through different books of the bible\, verse by verse.  Taught by a member of the pastoral staff in the main room of the parish hall.  This class can be viewed in person or online each week by livestream.  \nThis class is currently working on a study focusing the book of Proverbs. \nThis class is meeting online and in person in the parish hall.  It can be viewed at https://www.facebook.com/groups/CoGSMedia/
URL:https://goodshepherdbinghamton.org/event/tuesday-morning-bible-study-107/
END:VEVENT
BEGIN:VEVENT
DTSTART;TZID=America/New_York:20251021T070000
DTEND;TZID=America/New_York:20251021T080000
DTSTAMP:20260423T192440
CREATED:20250805T153341Z
LAST-MODIFIED:20250805T153341Z
UID:34708-1761030000-1761033600@goodshepherdbinghamton.org
SUMMARY:Morning Prayer
DESCRIPTION:Morning Prayer meets online by Zoom at 7am Monday through Friday. The liturgy and readings are available at www.dailyoffice2019.com.  \nJoin the parish email list and look for a weekly email invitation in your inbox.
URL:https://goodshepherdbinghamton.org/event/morning-prayer-196/
END:VEVENT
BEGIN:VEVENT
DTSTART;TZID=America/New_York:20251020T070000
DTEND;TZID=America/New_York:20251020T080000
DTSTAMP:20260423T192440
CREATED:20250805T153340Z
LAST-MODIFIED:20250805T153340Z
UID:34707-1760943600-1760947200@goodshepherdbinghamton.org
SUMMARY:Morning Prayer
DESCRIPTION:Morning Prayer meets online by Zoom at 7am Monday through Friday. The liturgy and readings are available at www.dailyoffice2019.com.  \nJoin the parish email list and look for a weekly email invitation in your inbox.
URL:https://goodshepherdbinghamton.org/event/morning-prayer-195/
END:VEVENT
BEGIN:VEVENT
DTSTART;TZID=America/New_York:20251019T103000
DTEND;TZID=America/New_York:20251019T120000
DTSTAMP:20260423T192440
CREATED:20250805T152938Z
LAST-MODIFIED:20250805T152938Z
UID:34582-1760869800-1760875200@goodshepherdbinghamton.org
SUMMARY:2nd Service
DESCRIPTION:This is the main service at Good Shepherd.   \nAt this service\, there is a blend of both contemporary and traditional worship music\, Bible readings\, a sermon\, confession\, and communion.   \nAt Good Shepherd you will find friendly people\, engaging sermons\, joyful worship\, practical teaching\, and lots of kids. All are welcome! \nThe bulletin is available as a digital download at www.goodshepherdbinghamton.org.   \nThe service is currently open to the public and is being livestreamed at https://www.facebook.com/groups/CoGSMedia/
URL:https://goodshepherdbinghamton.org/event/2nd-service-104/
END:VEVENT
BEGIN:VEVENT
DTSTART;TZID=America/New_York:20251019T091500
DTEND;TZID=America/New_York:20251019T101500
DTSTAMP:20260423T192440
CREATED:20250805T153014Z
LAST-MODIFIED:20250805T153014Z
UID:34599-1760865300-1760868900@goodshepherdbinghamton.org
SUMMARY:Christian Education for Everyone
DESCRIPTION:Children \nFor children aged 1-12. Good Shepherd offers Catechesis of the Good Shepherd—a program of prayer\, worship\, and scripture in specially prepared Montessori-style rooms—The Pen (1-3)\,The Pasture (3-6)\, The Vineyard (6-9)\, and The Tabernacle (9-12).  \n  \nTeens \nTeens aged 12 to 14 cover a range of topics—the Bible\, Liturgy\, Church History\, Apologetics\, the 39 Articles—in a three-year cycle. This is a discussion-style class that prepares kids for confirmation. \n  \nAdult Class  \nDiscussion and study on topics ranging from Christian literature\, the 39 articles\, church history\, difficult passages of the bible\, and more.     \nPlease contact the Good Shepherd office for more information.
URL:https://goodshepherdbinghamton.org/event/christian-education-for-everyone-30/
END:VEVENT
BEGIN:VEVENT
DTSTART;TZID=America/New_York:20251019T080000
DTEND;TZID=America/New_York:20251019T090000
DTSTAMP:20260423T192440
CREATED:20250805T152746Z
LAST-MODIFIED:20250805T152746Z
UID:34547-1760860800-1760864400@goodshepherdbinghamton.org
SUMMARY:First Service
DESCRIPTION:This is an early\, more quiet version of the service at 10:30. \nThe 8am service is not currently being live-streamed. \nThis service involves readings from the Bible\, a sermon\, offering\, confession\, and communion.  There is no music during this service.
URL:https://goodshepherdbinghamton.org/event/first-service-108/
END:VEVENT
BEGIN:VEVENT
DTSTART;TZID=America/New_York:20251017T070000
DTEND;TZID=America/New_York:20251017T080000
DTSTAMP:20260423T192440
CREATED:20250805T153340Z
LAST-MODIFIED:20250805T153340Z
UID:34706-1760684400-1760688000@goodshepherdbinghamton.org
SUMMARY:Morning Prayer
DESCRIPTION:Morning Prayer meets online by Zoom at 7am Monday through Friday. The liturgy and readings are available at www.dailyoffice2019.com.  \nJoin the parish email list and look for a weekly email invitation in your inbox.
URL:https://goodshepherdbinghamton.org/event/morning-prayer-194/
END:VEVENT
BEGIN:VEVENT
DTSTART;TZID=America/New_York:20251017T063000
DTEND;TZID=America/New_York:20251017T080000
DTSTAMP:20260423T192440
CREATED:20250805T153117Z
LAST-MODIFIED:20250805T153117Z
UID:34634-1760682600-1760688000@goodshepherdbinghamton.org
SUMMARY:Men's Breakfast and Bible Study
DESCRIPTION:Every Friday morning at 6:30am men from Good Shepherd\, other area churches\, and the community gather to share a warm breakfast and study the bible. The study is expositional\, moving verse by verse through one book of the bible at a time\, with the purpose of coming to a better understanding of God and his word. \nThere is plenty of discussion\, question and answer time\, prayer\, and fellowship. You do not have to be a member of Good Shepherd or any other church to attend. The study meets at Good Shepherd\, downstairs in the parish hall. It usually ends at 8:00am but men come and go during the study according to their work schedules. Men of all ages are welcome to come\, eat\, and learn from the scriptures.This class is currently studying the book of Genesis.If you’d like more information\, please contact Jonathan Groves for a link to access the class @ jg.arrowhead@gmail.com
URL:https://goodshepherdbinghamton.org/event/mens-breakfast-and-bible-study-103/
END:VEVENT
BEGIN:VEVENT
DTSTART;TZID=America/New_York:20251016T173000
DTEND;TZID=America/New_York:20251016T183000
DTSTAMP:20260423T192440
CREATED:20250805T152844Z
LAST-MODIFIED:20250805T152844Z
UID:34564-1760635800-1760639400@goodshepherdbinghamton.org
SUMMARY:Shepherd's Bowl Community Meal
DESCRIPTION:Each Thursday evening\, Good Shepherd offers a free nutritious meal to thepeople of Good Shepherd and the wider community. If you are able\, this is a great time to get to know others and enjoya free and delicious meal. \nThe Rev. Jonathan Groves leads a beginners Bible study at 6:00 and anyone is welcome to attend.  The study is currently working on the book of Judges. \nPlease find our page on Facebook\, Shepherd’s Bowl Free Community Meal\, and follow\, like and share posts\, and invite friends. 
URL:https://goodshepherdbinghamton.org/event/shepherds-bowl-community-meal-105/
END:VEVENT
BEGIN:VEVENT
DTSTART;TZID=America/New_York:20251016T070000
DTEND;TZID=America/New_York:20251016T080000
DTSTAMP:20260423T192440
CREATED:20250805T153331Z
LAST-MODIFIED:20250805T153331Z
UID:34705-1760598000-1760601600@goodshepherdbinghamton.org
SUMMARY:Morning Prayer
DESCRIPTION:Morning Prayer meets online by Zoom at 7am Monday through Friday. The liturgy and readings are available at www.dailyoffice2019.com.  \nJoin the parish email list and look for a weekly email invitation in your inbox.
URL:https://goodshepherdbinghamton.org/event/morning-prayer-193/
END:VEVENT
BEGIN:VEVENT
DTSTART;TZID=America/New_York:20251015T070000
DTEND;TZID=America/New_York:20251015T080000
DTSTAMP:20260423T192440
CREATED:20250805T153331Z
LAST-MODIFIED:20250805T153331Z
UID:34704-1760511600-1760515200@goodshepherdbinghamton.org
SUMMARY:Morning Prayer
DESCRIPTION:Morning Prayer meets online by Zoom at 7am Monday through Friday. The liturgy and readings are available at www.dailyoffice2019.com.  \nJoin the parish email list and look for a weekly email invitation in your inbox.
URL:https://goodshepherdbinghamton.org/event/morning-prayer-192/
END:VEVENT
BEGIN:VEVENT
DTSTART;TZID=America/New_York:20251014T090000
DTEND;TZID=America/New_York:20251014T100000
DTSTAMP:20260423T192440
CREATED:20250805T153050Z
LAST-MODIFIED:20250805T153050Z
UID:34616-1760432400-1760436000@goodshepherdbinghamton.org
SUMMARY:Tuesday Morning Bible Study
DESCRIPTION:Tuesday Morning Bible Study meets at 9:05am to walk through different books of the bible\, verse by verse.  Taught by a member of the pastoral staff in the main room of the parish hall.  This class can be viewed in person or online each week by livestream.  \nThis class is currently working on a study focusing the book of Proverbs. \nThis class is meeting online and in person in the parish hall.  It can be viewed at https://www.facebook.com/groups/CoGSMedia/
URL:https://goodshepherdbinghamton.org/event/tuesday-morning-bible-study-106/
END:VEVENT
BEGIN:VEVENT
DTSTART;TZID=America/New_York:20251014T070000
DTEND;TZID=America/New_York:20251014T080000
DTSTAMP:20260423T192440
CREATED:20250805T153330Z
LAST-MODIFIED:20250805T153330Z
UID:34703-1760425200-1760428800@goodshepherdbinghamton.org
SUMMARY:Morning Prayer
DESCRIPTION:Morning Prayer meets online by Zoom at 7am Monday through Friday. The liturgy and readings are available at www.dailyoffice2019.com.  \nJoin the parish email list and look for a weekly email invitation in your inbox.
URL:https://goodshepherdbinghamton.org/event/morning-prayer-191/
END:VEVENT
BEGIN:VEVENT
DTSTART;TZID=America/New_York:20251013T070000
DTEND;TZID=America/New_York:20251013T080000
DTSTAMP:20260423T192440
CREATED:20250805T153330Z
LAST-MODIFIED:20250805T153330Z
UID:34702-1760338800-1760342400@goodshepherdbinghamton.org
SUMMARY:Morning Prayer
DESCRIPTION:Morning Prayer meets online by Zoom at 7am Monday through Friday. The liturgy and readings are available at www.dailyoffice2019.com.  \nJoin the parish email list and look for a weekly email invitation in your inbox.
URL:https://goodshepherdbinghamton.org/event/morning-prayer-190/
END:VEVENT
BEGIN:VEVENT
DTSTART;TZID=America/New_York:20251012T103000
DTEND;TZID=America/New_York:20251012T120000
DTSTAMP:20260423T192440
CREATED:20250805T152938Z
LAST-MODIFIED:20250805T152938Z
UID:34581-1760265000-1760270400@goodshepherdbinghamton.org
SUMMARY:2nd Service
DESCRIPTION:This is the main service at Good Shepherd.   \nAt this service\, there is a blend of both contemporary and traditional worship music\, Bible readings\, a sermon\, confession\, and communion.   \nAt Good Shepherd you will find friendly people\, engaging sermons\, joyful worship\, practical teaching\, and lots of kids. All are welcome! \nThe bulletin is available as a digital download at www.goodshepherdbinghamton.org.   \nThe service is currently open to the public and is being livestreamed at https://www.facebook.com/groups/CoGSMedia/
URL:https://goodshepherdbinghamton.org/event/2nd-service-103/
END:VEVENT
BEGIN:VEVENT
DTSTART;TZID=America/New_York:20251012T091500
DTEND;TZID=America/New_York:20251012T101500
DTSTAMP:20260423T192440
CREATED:20250805T153014Z
LAST-MODIFIED:20250805T153014Z
UID:34598-1760260500-1760264100@goodshepherdbinghamton.org
SUMMARY:Christian Education for Everyone
DESCRIPTION:Children \nFor children aged 1-12. Good Shepherd offers Catechesis of the Good Shepherd—a program of prayer\, worship\, and scripture in specially prepared Montessori-style rooms—The Pen (1-3)\,The Pasture (3-6)\, The Vineyard (6-9)\, and The Tabernacle (9-12).  \n  \nTeens \nTeens aged 12 to 14 cover a range of topics—the Bible\, Liturgy\, Church History\, Apologetics\, the 39 Articles—in a three-year cycle. This is a discussion-style class that prepares kids for confirmation. \n  \nAdult Class  \nDiscussion and study on topics ranging from Christian literature\, the 39 articles\, church history\, difficult passages of the bible\, and more.     \nPlease contact the Good Shepherd office for more information.
URL:https://goodshepherdbinghamton.org/event/christian-education-for-everyone-29/
END:VEVENT
BEGIN:VEVENT
DTSTART;TZID=America/New_York:20251012T080000
DTEND;TZID=America/New_York:20251012T090000
DTSTAMP:20260423T192440
CREATED:20250805T152746Z
LAST-MODIFIED:20250805T152746Z
UID:34546-1760256000-1760259600@goodshepherdbinghamton.org
SUMMARY:First Service
DESCRIPTION:This is an early\, more quiet version of the service at 10:30. \nThe 8am service is not currently being live-streamed. \nThis service involves readings from the Bible\, a sermon\, offering\, confession\, and communion.  There is no music during this service.
URL:https://goodshepherdbinghamton.org/event/first-service-107/
END:VEVENT
END:VCALENDAR