BEGIN:VCALENDAR
VERSION:2.0
PRODID:-//Church of the Good Shepherd - ECPv6.15.20//NONSGML v1.0//EN
CALSCALE:GREGORIAN
METHOD:PUBLISH
X-WR-CALNAME:Church of the Good Shepherd
X-ORIGINAL-URL:https://goodshepherdbinghamton.org
X-WR-CALDESC:Events for Church of the Good Shepherd
REFRESH-INTERVAL;VALUE=DURATION:PT1H
X-Robots-Tag:noindex
X-PUBLISHED-TTL:PT1H
BEGIN:VTIMEZONE
TZID:America/New_York
BEGIN:DAYLIGHT
TZOFFSETFROM:-0500
TZOFFSETTO:-0400
TZNAME:EDT
DTSTART:20230312T070000
END:DAYLIGHT
BEGIN:STANDARD
TZOFFSETFROM:-0400
TZOFFSETTO:-0500
TZNAME:EST
DTSTART:20231105T060000
END:STANDARD
BEGIN:DAYLIGHT
TZOFFSETFROM:-0500
TZOFFSETTO:-0400
TZNAME:EDT
DTSTART:20240310T070000
END:DAYLIGHT
BEGIN:STANDARD
TZOFFSETFROM:-0400
TZOFFSETTO:-0500
TZNAME:EST
DTSTART:20241103T060000
END:STANDARD
BEGIN:DAYLIGHT
TZOFFSETFROM:-0500
TZOFFSETTO:-0400
TZNAME:EDT
DTSTART:20250309T070000
END:DAYLIGHT
BEGIN:STANDARD
TZOFFSETFROM:-0400
TZOFFSETTO:-0500
TZNAME:EST
DTSTART:20251102T060000
END:STANDARD
END:VTIMEZONE
BEGIN:VEVENT
DTSTART;TZID=America/New_York:20241114T180000
DTEND;TZID=America/New_York:20241114T190000
DTSTAMP:20260425T081100
CREATED:20241007T194822Z
LAST-MODIFIED:20241014T194637Z
UID:32827-1731607200-1731610800@goodshepherdbinghamton.org
SUMMARY:Beginner's Bible Study
DESCRIPTION:Every Thursday evening at 6pm\, there is a beginner’s bible study at Good Shepherd.  All are welcome! \nThis is a great place to connect with others and learn more about what God has to say to us through his word.  The class is taught by The Rev. Dcn. Warren Musselman\, and the class is currently studying the book of James. 
URL:https://goodshepherdbinghamton.org/event/beginners-bible-study-58/
END:VEVENT
BEGIN:VEVENT
DTSTART;TZID=America/New_York:20241115T063000
DTEND;TZID=America/New_York:20241115T080000
DTSTAMP:20260425T081100
CREATED:20241007T194133Z
LAST-MODIFIED:20241028T191110Z
UID:32795-1731652200-1731657600@goodshepherdbinghamton.org
SUMMARY:Men's Breakfast and Bible Study
DESCRIPTION:Every Friday morning at 6:30am men from Good Shepherd\, other area churches\, and the community gather to share a warm breakfast and study the bible. The study is expositional\, moving verse by verse through one book of the bible at a time\, with the purpose of coming to a better understanding of God and his word. \nThere is plenty of discussion\, question and answer time\, prayer\, and fellowship. You do not have to be a member of Good Shepherd or any other church to attend. The study meets at Good Shepherd\, downstairs in the parish hall. It usually ends at 8:00am but men come and go during the study according to their work schedules. Men of all ages are welcome to come\, eat\, and learn from the scriptures.This class is currently studying the book of Revelation.If you’d like more information\, please contact Jonathan Groves for a link to access the class @ jg.arrowhead@gmail.com
URL:https://goodshepherdbinghamton.org/event/mens-breakfast-and-bible-study-69/
CATEGORIES:Celebration
END:VEVENT
BEGIN:VEVENT
DTSTART;TZID=America/New_York:20241115T070000
DTEND;TZID=America/New_York:20241115T080000
DTSTAMP:20260425T081100
CREATED:20241014T181655Z
LAST-MODIFIED:20241028T191106Z
UID:33117-1731654000-1731657600@goodshepherdbinghamton.org
SUMMARY:Morning Prayer
DESCRIPTION:Morning Prayer meets online by Zoom at 7am Monday through Friday. Theliturgy and readings are available at www.dailyoffice2019.com.  \nJoin the parishemail list and look for a weekly email invitation in your inbox.
URL:https://goodshepherdbinghamton.org/event/morning-prayer-45/
CATEGORIES:Celebration
END:VEVENT
BEGIN:VEVENT
DTSTART;TZID=America/New_York:20241115T163000
DTEND;TZID=America/New_York:20241115T173000
DTSTAMP:20260425T081100
CREATED:20241007T200602Z
LAST-MODIFIED:20241014T183717Z
UID:32860-1731688200-1731691800@goodshepherdbinghamton.org
SUMMARY:Women's Bible Study
DESCRIPTION:This study meets at 4:30 pm on Friday afternoons in the Parish Hall (lower level).   \nAnne Kennedy is leading and we are currently studying the book of Luke. \nChildren are welcome—as in\, we hope to have some childcare available. Often\, some of the families will come early and the children will play while the mothers visit.   \nPlease contact the office at (607)723-8032 for more information.
URL:https://goodshepherdbinghamton.org/event/womens-bible-study-14/
END:VEVENT
BEGIN:VEVENT
DTSTART;TZID=America/New_York:20241116T110000
DTEND;TZID=America/New_York:20241116T140000
DTSTAMP:20260425T081100
CREATED:20241014T181040Z
LAST-MODIFIED:20241014T194436Z
UID:32993-1731754800-1731765600@goodshepherdbinghamton.org
SUMMARY:EAW Meeting
DESCRIPTION:The Excellent Anglican Women \nEach month\, the ladies of Good Shepherd gather to discuss upcoming projects\, learn new skills\, share a meal\, and put their many talents to use.   \nFor more information about the EAW\, please see Jenn Fowler or Anne Kennedy.
URL:https://goodshepherdbinghamton.org/event/eaw-meeting-3/
END:VEVENT
BEGIN:VEVENT
DTSTART;TZID=America/New_York:20241117T080000
DTEND;TZID=America/New_York:20241117T090000
DTSTAMP:20260425T081100
CREATED:20241007T193931Z
LAST-MODIFIED:20241014T191952Z
UID:32761-1731830400-1731834000@goodshepherdbinghamton.org
SUMMARY:First Service
DESCRIPTION:This is an early\, more quiet version of the service at 10:30. \nThe 8am service is not currently being live-streamed. \nThis service involves readings from the Bible\, a sermon\, offering\, confession\, and communion.  There is no music during this service.
URL:https://goodshepherdbinghamton.org/event/first-service-69/
END:VEVENT
BEGIN:VEVENT
DTSTART;TZID=America/New_York:20241117T091500
DTEND;TZID=America/New_York:20241117T101500
DTSTAMP:20260425T081100
CREATED:20241007T193831Z
LAST-MODIFIED:20241014T191922Z
UID:32744-1731834900-1731838500@goodshepherdbinghamton.org
SUMMARY:Christian Education for All
DESCRIPTION:Christian Education for All  \nChildren \nChildren aged 2-11 are invited to pray\, worship\, and learn in specially prepared Montessori-style rooms—The Vineyard (2-3)\, The Pasture (3-6)\, and The Tabernacle (7-11). They study the Bible\, engage with liturgy\, and gradually are oriented to a full life in the church.  \n  \nTeens \nTeens aged12 to 14 cover a range of topics—the Bible\, Liturgy\, Church History\, Apologetics\, the 39 Articles—in a three-year cycle. This is a discussion-style class that prepares kids for confirmation. \n  \nAdult Class  \nEach Sunday a member of the pastoral staff or a guest speakerfacilitates a discussion on topics ranging from Christian literature\, to socialtopics\, the 39 articles\, church history\, and more.     \nThis class meets online and in person in the parish hall of the church.  It can be viewed at https://www.facebook.com/groups/CoGSMedia/
URL:https://goodshepherdbinghamton.org/event/christian-education-for-all-25/
END:VEVENT
BEGIN:VEVENT
DTSTART;TZID=America/New_York:20241117T103000
DTEND;TZID=America/New_York:20241117T120000
DTSTAMP:20260425T081100
CREATED:20241007T194219Z
LAST-MODIFIED:20241014T192025Z
UID:32812-1731839400-1731844800@goodshepherdbinghamton.org
SUMMARY:2nd Service
DESCRIPTION:This is the main service at Good Shepherd.   \nAt this service\, there is a blend of both contemporary and traditional worship music\, bible readings\, a sermon\, confession\, and communion.   \nAt Good Shepherd you will find friendly people\,engaging sermons\, joyful worship\, practical teaching\, and lots of kids. All are welcome! \nThe bulletin is available as a digital download at www.goodshepherdbinghamton.org.   \nThe service is currently open to the public and is being livestreamed at https://www.facebook.com/groups/CoGSMedia/ 
URL:https://goodshepherdbinghamton.org/event/2nd-service-69/
END:VEVENT
BEGIN:VEVENT
DTSTART;TZID=America/New_York:20241117T163000
DTEND;TZID=America/New_York:20241117T180000
DTSTAMP:20260425T081100
CREATED:20241014T180839Z
LAST-MODIFIED:20241014T192438Z
UID:32950-1731861000-1731866400@goodshepherdbinghamton.org
SUMMARY:Good Shepherd Choir Rehearsal
DESCRIPTION:The Good Shepherd Choir gathers to rehearse three times a week on Sunday\, Tuesday\, and Wednesday.   \nIf you would like more information about the music program at Good Shepherd\, please contact Michael Berman.
URL:https://goodshepherdbinghamton.org/event/good-shepherd-choir-rehearsal-9/
END:VEVENT
BEGIN:VEVENT
DTSTART;TZID=America/New_York:20241117T180000
DTEND;TZID=America/New_York:20241117T193000
DTSTAMP:20260425T081100
CREATED:20241014T180924Z
LAST-MODIFIED:20241014T192840Z
UID:32965-1731866400-1731871800@goodshepherdbinghamton.org
SUMMARY:Good Shepherd Youth Group
DESCRIPTION:Good Shepherd Youth Group meets Sundays at 6pm. This is an engagingcontext for kids to grow in: \n1) Knowledge of scripture and doctrine \n2) Faithfulness to Christ \n3) Service to others
URL:https://goodshepherdbinghamton.org/event/good-shepherd-youth-group-9/
END:VEVENT
BEGIN:VEVENT
DTSTART;TZID=America/New_York:20241117T180000
DTEND;TZID=America/New_York:20241117T193000
DTSTAMP:20260425T081100
CREATED:20241014T181009Z
LAST-MODIFIED:20241014T193242Z
UID:32980-1731866400-1731871800@goodshepherdbinghamton.org
SUMMARY:Holy Group Squad
DESCRIPTION:Holy Group Squad is a meeting of college aged young adults. They read and discuss literature through a Christian worldview. \nIf you would like more information about Holy Group Squad\, please contact Jonathan Groves.
URL:https://goodshepherdbinghamton.org/event/holy-group-squad-9/
END:VEVENT
BEGIN:VEVENT
DTSTART;TZID=America/New_York:20241118T070000
DTEND;TZID=America/New_York:20241118T080000
DTSTAMP:20260425T081100
CREATED:20241014T181710Z
LAST-MODIFIED:20241028T191106Z
UID:33118-1731913200-1731916800@goodshepherdbinghamton.org
SUMMARY:Morning Prayer
DESCRIPTION:Morning Prayer meets online by Zoom at 7am Monday through Friday. Theliturgy and readings are available at www.dailyoffice2019.com.  \nJoin the parishemail list and look for a weekly email invitation in your inbox.
URL:https://goodshepherdbinghamton.org/event/morning-prayer-46/
CATEGORIES:Celebration
END:VEVENT
BEGIN:VEVENT
DTSTART;TZID=America/New_York:20241119T070000
DTEND;TZID=America/New_York:20241119T080000
DTSTAMP:20260425T081100
CREATED:20241014T181710Z
LAST-MODIFIED:20241028T191106Z
UID:33119-1731999600-1732003200@goodshepherdbinghamton.org
SUMMARY:Morning Prayer
DESCRIPTION:Morning Prayer meets online by Zoom at 7am Monday through Friday. Theliturgy and readings are available at www.dailyoffice2019.com.  \nJoin the parishemail list and look for a weekly email invitation in your inbox.
URL:https://goodshepherdbinghamton.org/event/morning-prayer-47/
CATEGORIES:Celebration
END:VEVENT
BEGIN:VEVENT
DTSTART;TZID=America/New_York:20241119T090000
DTEND;TZID=America/New_York:20241119T100000
DTSTAMP:20260425T081100
CREATED:20241007T195958Z
LAST-MODIFIED:20241028T185138Z
UID:32845-1732006800-1732010400@goodshepherdbinghamton.org
SUMMARY:Tuesday Morning Bible Study
DESCRIPTION:Tuesday Morning Bible Study meets at 9:05am to walk through different books of the bible\, verse by verse.  Taught by a member of the pastoral staff in the main room of the parish hall.  This class can be viewed in person or online each week by livestream.  \nThis class is currently working on a study focusing the book of 2 Samuel. \nThis class is meeting online and in person in the parish hall.  It can be viewed at https://www.facebook.com/groups/CoGSMedia/
URL:https://goodshepherdbinghamton.org/event/tuesday-morning-bible-study-71/
END:VEVENT
BEGIN:VEVENT
DTSTART;TZID=America/New_York:20241119T153000
DTEND;TZID=America/New_York:20241119T164500
DTSTAMP:20260425T081100
CREATED:20241014T181240Z
LAST-MODIFIED:20241014T183517Z
UID:33026-1732030200-1732034700@goodshepherdbinghamton.org
SUMMARY:Good Shepherd Choir Rehearsal
DESCRIPTION:If you would like more information about the music program at Good Shepherd\, please contact Michael Berman.
URL:https://goodshepherdbinghamton.org/event/good-shepherd-choir-rehearsal-24/
END:VEVENT
BEGIN:VEVENT
DTSTART;TZID=America/New_York:20241120T070000
DTEND;TZID=America/New_York:20241120T080000
DTSTAMP:20260425T081100
CREATED:20241014T181710Z
LAST-MODIFIED:20241028T191106Z
UID:33120-1732086000-1732089600@goodshepherdbinghamton.org
SUMMARY:Morning Prayer
DESCRIPTION:Morning Prayer meets online by Zoom at 7am Monday through Friday. Theliturgy and readings are available at www.dailyoffice2019.com.  \nJoin the parishemail list and look for a weekly email invitation in your inbox.
URL:https://goodshepherdbinghamton.org/event/morning-prayer-48/
CATEGORIES:Celebration
END:VEVENT
BEGIN:VEVENT
DTSTART;TZID=America/New_York:20241120T183000
DTEND;TZID=America/New_York:20241120T200000
DTSTAMP:20260425T081100
CREATED:20241014T181310Z
LAST-MODIFIED:20241014T183547Z
UID:33039-1732127400-1732132800@goodshepherdbinghamton.org
SUMMARY:Good Shepherd Choir Rehearsal
DESCRIPTION: If you would like more information about the music program at Good Shepherd\, please contact Michael Berman.
URL:https://goodshepherdbinghamton.org/event/good-shepherd-choir-rehearsal-37/
END:VEVENT
BEGIN:VEVENT
DTSTART;TZID=America/New_York:20241121T070000
DTEND;TZID=America/New_York:20241121T080000
DTSTAMP:20260425T081100
CREATED:20241014T181710Z
LAST-MODIFIED:20241028T191105Z
UID:33121-1732172400-1732176000@goodshepherdbinghamton.org
SUMMARY:Morning Prayer
DESCRIPTION:Morning Prayer meets online by Zoom at 7am Monday through Friday. Theliturgy and readings are available at www.dailyoffice2019.com.  \nJoin the parishemail list and look for a weekly email invitation in your inbox.
URL:https://goodshepherdbinghamton.org/event/morning-prayer-49/
CATEGORIES:Celebration
END:VEVENT
BEGIN:VEVENT
DTSTART;TZID=America/New_York:20241121T173000
DTEND;TZID=America/New_York:20241121T183000
DTSTAMP:20260425T081100
CREATED:20241007T194048Z
LAST-MODIFIED:20241014T195039Z
UID:32779-1732210200-1732213800@goodshepherdbinghamton.org
SUMMARY:Shepherd's Bowl Community Meal
DESCRIPTION:Each Thursday evening\, Good Shepherd offers a free nutritious meal to thepeople of Good Shepherd and the wider community. If you are able\, this is a great time to get to know others and enjoya free and delicious meal. \nThe Rev. Jonathan Groves leads a beginners Bible study at 6:00 and anyone is welcome to attend.  The study is currently working on the book of Judges. \nPlease find our page on Facebook\, Shepherd’s Bowl Free Community Meal\, and follow\, like and share posts\, and invite friends. 
URL:https://goodshepherdbinghamton.org/event/shepherds-bowl-community-meal-71/
END:VEVENT
BEGIN:VEVENT
DTSTART;TZID=America/New_York:20241121T180000
DTEND;TZID=America/New_York:20241121T190000
DTSTAMP:20260425T081100
CREATED:20241007T195022Z
LAST-MODIFIED:20241014T194637Z
UID:32828-1732212000-1732215600@goodshepherdbinghamton.org
SUMMARY:Beginner's Bible Study
DESCRIPTION:Every Thursday evening at 6pm\, there is a beginner’s bible study at Good Shepherd.  All are welcome! \nThis is a great place to connect with others and learn more about what God has to say to us through his word.  The class is taught by The Rev. Dcn. Warren Musselman\, and the class is currently studying the book of James. 
URL:https://goodshepherdbinghamton.org/event/beginners-bible-study-59/
END:VEVENT
BEGIN:VEVENT
DTSTART;TZID=America/New_York:20241122T063000
DTEND;TZID=America/New_York:20241122T080000
DTSTAMP:20260425T081100
CREATED:20241007T194133Z
LAST-MODIFIED:20241028T191110Z
UID:32796-1732257000-1732262400@goodshepherdbinghamton.org
SUMMARY:Men's Breakfast and Bible Study
DESCRIPTION:Every Friday morning at 6:30am men from Good Shepherd\, other area churches\, and the community gather to share a warm breakfast and study the bible. The study is expositional\, moving verse by verse through one book of the bible at a time\, with the purpose of coming to a better understanding of God and his word. \nThere is plenty of discussion\, question and answer time\, prayer\, and fellowship. You do not have to be a member of Good Shepherd or any other church to attend. The study meets at Good Shepherd\, downstairs in the parish hall. It usually ends at 8:00am but men come and go during the study according to their work schedules. Men of all ages are welcome to come\, eat\, and learn from the scriptures.This class is currently studying the book of Revelation.If you’d like more information\, please contact Jonathan Groves for a link to access the class @ jg.arrowhead@gmail.com
URL:https://goodshepherdbinghamton.org/event/mens-breakfast-and-bible-study-70/
CATEGORIES:Celebration
END:VEVENT
BEGIN:VEVENT
DTSTART;TZID=America/New_York:20241122T070000
DTEND;TZID=America/New_York:20241122T080000
DTSTAMP:20260425T081100
CREATED:20241014T181710Z
LAST-MODIFIED:20241028T191105Z
UID:33122-1732258800-1732262400@goodshepherdbinghamton.org
SUMMARY:Morning Prayer
DESCRIPTION:Morning Prayer meets online by Zoom at 7am Monday through Friday. Theliturgy and readings are available at www.dailyoffice2019.com.  \nJoin the parishemail list and look for a weekly email invitation in your inbox.
URL:https://goodshepherdbinghamton.org/event/morning-prayer-50/
CATEGORIES:Celebration
END:VEVENT
BEGIN:VEVENT
DTSTART;TZID=America/New_York:20241122T163000
DTEND;TZID=America/New_York:20241122T173000
DTSTAMP:20260425T081100
CREATED:20241007T200602Z
LAST-MODIFIED:20241014T183717Z
UID:32861-1732293000-1732296600@goodshepherdbinghamton.org
SUMMARY:Women's Bible Study
DESCRIPTION:This study meets at 4:30 pm on Friday afternoons in the Parish Hall (lower level).   \nAnne Kennedy is leading and we are currently studying the book of Luke. \nChildren are welcome—as in\, we hope to have some childcare available. Often\, some of the families will come early and the children will play while the mothers visit.   \nPlease contact the office at (607)723-8032 for more information.
URL:https://goodshepherdbinghamton.org/event/womens-bible-study-15/
END:VEVENT
BEGIN:VEVENT
DTSTART;TZID=America/New_York:20241124T080000
DTEND;TZID=America/New_York:20241124T090000
DTSTAMP:20260425T081100
CREATED:20241007T193931Z
LAST-MODIFIED:20241014T191953Z
UID:32762-1732435200-1732438800@goodshepherdbinghamton.org
SUMMARY:First Service
DESCRIPTION:This is an early\, more quiet version of the service at 10:30. \nThe 8am service is not currently being live-streamed. \nThis service involves readings from the Bible\, a sermon\, offering\, confession\, and communion.  There is no music during this service.
URL:https://goodshepherdbinghamton.org/event/first-service-70/
END:VEVENT
BEGIN:VEVENT
DTSTART;TZID=America/New_York:20241124T091500
DTEND;TZID=America/New_York:20241124T101500
DTSTAMP:20260425T081100
CREATED:20241007T193845Z
LAST-MODIFIED:20241014T191922Z
UID:32745-1732439700-1732443300@goodshepherdbinghamton.org
SUMMARY:Christian Education for All
DESCRIPTION:Christian Education for All  \nChildren \nChildren aged 2-11 are invited to pray\, worship\, and learn in specially prepared Montessori-style rooms—The Vineyard (2-3)\, The Pasture (3-6)\, and The Tabernacle (7-11). They study the Bible\, engage with liturgy\, and gradually are oriented to a full life in the church.  \n  \nTeens \nTeens aged12 to 14 cover a range of topics—the Bible\, Liturgy\, Church History\, Apologetics\, the 39 Articles—in a three-year cycle. This is a discussion-style class that prepares kids for confirmation. \n  \nAdult Class  \nEach Sunday a member of the pastoral staff or a guest speakerfacilitates a discussion on topics ranging from Christian literature\, to socialtopics\, the 39 articles\, church history\, and more.     \nThis class meets online and in person in the parish hall of the church.  It can be viewed at https://www.facebook.com/groups/CoGSMedia/
URL:https://goodshepherdbinghamton.org/event/christian-education-for-all-26/
END:VEVENT
BEGIN:VEVENT
DTSTART;TZID=America/New_York:20241124T103000
DTEND;TZID=America/New_York:20241124T120000
DTSTAMP:20260425T081100
CREATED:20241007T194420Z
LAST-MODIFIED:20241014T192221Z
UID:32813-1732444200-1732449600@goodshepherdbinghamton.org
SUMMARY:2nd Service
DESCRIPTION:This is the main service at Good Shepherd.   \nAt this service\, there is a blend of both contemporary and traditional worship music\, bible readings\, a sermon\, confession\, and communion.   \nAt Good Shepherd you will find friendly people\,engaging sermons\, joyful worship\, practical teaching\, and lots of kids. All are welcome! \nThe bulletin is available as a digital download at www.goodshepherdbinghamton.org.   \nThe service is currently open to the public and is being livestreamed at https://www.facebook.com/groups/CoGSMedia/ 
URL:https://goodshepherdbinghamton.org/event/2nd-service-70/
END:VEVENT
BEGIN:VEVENT
DTSTART;TZID=America/New_York:20241124T163000
DTEND;TZID=America/New_York:20241124T180000
DTSTAMP:20260425T081100
CREATED:20241014T180840Z
LAST-MODIFIED:20241014T192438Z
UID:32951-1732465800-1732471200@goodshepherdbinghamton.org
SUMMARY:Good Shepherd Choir Rehearsal
DESCRIPTION:The Good Shepherd Choir gathers to rehearse three times a week on Sunday\, Tuesday\, and Wednesday.   \nIf you would like more information about the music program at Good Shepherd\, please contact Michael Berman.
URL:https://goodshepherdbinghamton.org/event/good-shepherd-choir-rehearsal-10/
END:VEVENT
BEGIN:VEVENT
DTSTART;TZID=America/New_York:20241124T180000
DTEND;TZID=America/New_York:20241124T193000
DTSTAMP:20260425T081100
CREATED:20241014T180925Z
LAST-MODIFIED:20241014T192840Z
UID:32966-1732471200-1732476600@goodshepherdbinghamton.org
SUMMARY:Good Shepherd Youth Group
DESCRIPTION:Good Shepherd Youth Group meets Sundays at 6pm. This is an engagingcontext for kids to grow in: \n1) Knowledge of scripture and doctrine \n2) Faithfulness to Christ \n3) Service to others
URL:https://goodshepherdbinghamton.org/event/good-shepherd-youth-group-10/
END:VEVENT
BEGIN:VEVENT
DTSTART;TZID=America/New_York:20241124T180000
DTEND;TZID=America/New_York:20241124T193000
DTSTAMP:20260425T081100
CREATED:20241014T181010Z
LAST-MODIFIED:20241014T193242Z
UID:32981-1732471200-1732476600@goodshepherdbinghamton.org
SUMMARY:Holy Group Squad
DESCRIPTION:Holy Group Squad is a meeting of college aged young adults. They read and discuss literature through a Christian worldview. \nIf you would like more information about Holy Group Squad\, please contact Jonathan Groves.
URL:https://goodshepherdbinghamton.org/event/holy-group-squad-10/
END:VEVENT
BEGIN:VEVENT
DTSTART;TZID=America/New_York:20241125T070000
DTEND;TZID=America/New_York:20241125T080000
DTSTAMP:20260425T081100
CREATED:20241014T181725Z
LAST-MODIFIED:20241028T191105Z
UID:33123-1732518000-1732521600@goodshepherdbinghamton.org
SUMMARY:Morning Prayer
DESCRIPTION:Morning Prayer meets online by Zoom at 7am Monday through Friday. Theliturgy and readings are available at www.dailyoffice2019.com.  \nJoin the parishemail list and look for a weekly email invitation in your inbox.
URL:https://goodshepherdbinghamton.org/event/morning-prayer-51/
CATEGORIES:Celebration
END:VEVENT
END:VCALENDAR