BEGIN:VCALENDAR
VERSION:2.0
PRODID:-//Church of the Good Shepherd - ECPv6.15.20//NONSGML v1.0//EN
CALSCALE:GREGORIAN
METHOD:PUBLISH
X-WR-CALNAME:Church of the Good Shepherd
X-ORIGINAL-URL:https://goodshepherdbinghamton.org
X-WR-CALDESC:Events for Church of the Good Shepherd
REFRESH-INTERVAL;VALUE=DURATION:PT1H
X-Robots-Tag:noindex
X-PUBLISHED-TTL:PT1H
BEGIN:VTIMEZONE
TZID:America/New_York
BEGIN:DAYLIGHT
TZOFFSETFROM:-0500
TZOFFSETTO:-0400
TZNAME:EDT
DTSTART:20250309T070000
END:DAYLIGHT
BEGIN:STANDARD
TZOFFSETFROM:-0400
TZOFFSETTO:-0500
TZNAME:EST
DTSTART:20251102T060000
END:STANDARD
BEGIN:DAYLIGHT
TZOFFSETFROM:-0500
TZOFFSETTO:-0400
TZNAME:EDT
DTSTART:20260308T070000
END:DAYLIGHT
BEGIN:STANDARD
TZOFFSETFROM:-0400
TZOFFSETTO:-0500
TZNAME:EST
DTSTART:20261101T060000
END:STANDARD
BEGIN:DAYLIGHT
TZOFFSETFROM:-0500
TZOFFSETTO:-0400
TZNAME:EDT
DTSTART:20270314T070000
END:DAYLIGHT
BEGIN:STANDARD
TZOFFSETFROM:-0400
TZOFFSETTO:-0500
TZNAME:EST
DTSTART:20271107T060000
END:STANDARD
END:VTIMEZONE
BEGIN:VEVENT
DTSTART;TZID=America/New_York:20260329T080000
DTEND;TZID=America/New_York:20260329T090000
DTSTAMP:20260423T050752
CREATED:20260325T212759Z
LAST-MODIFIED:20260325T213805Z
UID:35218-1774771200-1774774800@goodshepherdbinghamton.org
SUMMARY:Palm Sunday (early service)
DESCRIPTION:Palm Sunday is the day that Christians observe the triumphal entry of Christ into Jerusalem.  Crowds of people greeted him at the city gates with waving palms as the King of the Jews.  One short week later\, he would be hung upon the cross at Golgotha.  \n\n\n\nThe 8am service this Sunday begins with the Liturgy of the Palms at the Saratoga St. entrance.
URL:https://goodshepherdbinghamton.org/event/palm-sunday-early-service/
END:VEVENT
BEGIN:VEVENT
DTSTART;TZID=America/New_York:20260329T103000
DTEND;TZID=America/New_York:20260329T120000
DTSTAMP:20260423T050752
CREATED:20260325T212952Z
LAST-MODIFIED:20260325T213739Z
UID:35220-1774780200-1774785600@goodshepherdbinghamton.org
SUMMARY:Palm Sunday (primary service)
DESCRIPTION:Palm Sunday is the day that Christians observe the triumphal entry of Christ into Jerusalem.  Crowds of people greeted him at the city gates with waving palms as the King of the Jews.  One short week later\, he would be hung upon the cross at Golgotha.  \n\n\n\nThe 10:30 service this Sunday begins at the church sign on Conklin Ave. where we will wave palms\, and enter the church in procession with song\, prayer\, and bagpipes!
URL:https://goodshepherdbinghamton.org/event/palm-sunday-primary-service/
END:VEVENT
BEGIN:VEVENT
DTSTART;TZID=America/New_York:20260401T193000
DTEND;TZID=America/New_York:20260401T203000
DTSTAMP:20260423T050752
CREATED:20260325T213419Z
LAST-MODIFIED:20260325T215628Z
UID:35222-1775071800-1775075400@goodshepherdbinghamton.org
SUMMARY:Tennebrae
DESCRIPTION:Tenebrae means “shadows” in Latin.  It is a service of word\, light and sound.    \n\n\n\nWhen you arrive for worship you will see two groups of candles lit on the altar table. As readings are read the candles on the altar will be gradually extinguished until the very end of the service when the last candle left lit is removed from the worship space and the whole sanctuary is left in darkness. At that point a loud crash will (should) shatter the silence of the sanctuary. Then\, after a moment\, the last candle is returned to the sanctuary\, and the worshippers depart in silence.   \n\n\n\nThe gradual darkening of the sanctuary and the crashing noise symbolizes the apparent victory of death\, darkness\, and chaos over Jesus Christ on the cross. The final candle being removed and returned\, symbolizes the truth that through Jesus’ death\, God gained victory over all the powers of evil. The Light was not overcome.
URL:https://goodshepherdbinghamton.org/event/tennebrae/
END:VEVENT
BEGIN:VEVENT
DTSTART;TZID=America/New_York:20260402T193000
DTEND;TZID=America/New_York:20260402T203000
DTSTAMP:20260423T050752
CREATED:20260325T214007Z
LAST-MODIFIED:20260325T214009Z
UID:35227-1775158200-1775161800@goodshepherdbinghamton.org
SUMMARY:Maundy Thursday
DESCRIPTION:Maundy Thursday communion celebrates the humility of Jesus with a ceremonial foot washing.  Jesus is the King of Kings and Lord of Lord’s and yet on the night before he died\, during the Last Supper\, he knelt down and one by one washed his disciples’ feet. He did this to show his disciples and to show you and me how to serve one another with humility and love\, being willing even to stoop to the most menial tasks.   \n\n\n\nMaundy Thursday is the last chance for communion until the Great Vigil.
URL:https://goodshepherdbinghamton.org/event/maundy-thursday-2/
END:VEVENT
BEGIN:VEVENT
DTSTART;TZID=America/New_York:20260403T120000
DTEND;TZID=America/New_York:20260403T130000
DTSTAMP:20260423T050752
CREATED:20260325T214128Z
LAST-MODIFIED:20260325T214132Z
UID:35229-1775217600-1775221200@goodshepherdbinghamton.org
SUMMARY:Good Friday Noon Service
DESCRIPTION:At about 3pm on Friday of Holy Week he lifted his eyes up to heaven from the cross and breathed out his last. “It is finished” he said. He was not only referring to his life\, but he was also referring to his mission to deal with and defeat once and for all sin\, death\, and Satan.  \n\n\n\nThis is a quiet service of readings and prayer.
URL:https://goodshepherdbinghamton.org/event/good-friday-noon-service/
END:VEVENT
BEGIN:VEVENT
DTSTART;TZID=America/New_York:20260403T193000
DTEND;TZID=America/New_York:20260403T203000
DTSTAMP:20260423T050752
CREATED:20260325T214303Z
LAST-MODIFIED:20260325T214306Z
UID:35231-1775244600-1775248200@goodshepherdbinghamton.org
SUMMARY:Stations of the Cross
DESCRIPTION:This is a solemn service.  The participants walk through the stations of the cross by candlelight in procession\, hearing a brief reading at each\, and exit the sanctuary in silence.  \n\n\n\nThis service includes a necrology\, a liturgy to remember the dead.
URL:https://goodshepherdbinghamton.org/event/stations-of-the-cross-2/
END:VEVENT
BEGIN:VEVENT
DTSTART;TZID=America/New_York:20260404T193000
DTEND;TZID=America/New_York:20260404T210000
DTSTAMP:20260423T050752
CREATED:20260325T214643Z
LAST-MODIFIED:20260325T214645Z
UID:35233-1775331000-1775336400@goodshepherdbinghamton.org
SUMMARY:The Great Vigil of Easter
DESCRIPTION:Along with Tenebrae\, the Easter Vigil is one of the most ancient services of the Church. It is the most important service of the entire year and it is the first service of Easter. The service begins in total darkness—the lights of the sanctuary are out and not a candle is burning. Then a fire is lit in a firepot the center of the nave and from that flame all the candles in the sanctuary are lit and the hand-candles in the congregation. Then come readings and psalms\, said and sung\, by singers and by the whole congregation. The sermon follows and then the first Communion of Easter.   \n\n\n\nThe Great Vigil begins at 7:30pm in the sanctuary.
URL:https://goodshepherdbinghamton.org/event/the-great-vigil-of-easter-2/
END:VEVENT
END:VCALENDAR