BEGIN:VCALENDAR
VERSION:2.0
PRODID:-//Church of the Good Shepherd - ECPv6.15.20//NONSGML v1.0//EN
CALSCALE:GREGORIAN
METHOD:PUBLISH
X-WR-CALNAME:Church of the Good Shepherd
X-ORIGINAL-URL:https://goodshepherdbinghamton.org
X-WR-CALDESC:Events for Church of the Good Shepherd
REFRESH-INTERVAL;VALUE=DURATION:PT1H
X-Robots-Tag:noindex
X-PUBLISHED-TTL:PT1H
BEGIN:VTIMEZONE
TZID:America/New_York
BEGIN:DAYLIGHT
TZOFFSETFROM:-0500
TZOFFSETTO:-0400
TZNAME:EDT
DTSTART:20240310T070000
END:DAYLIGHT
BEGIN:STANDARD
TZOFFSETFROM:-0400
TZOFFSETTO:-0500
TZNAME:EST
DTSTART:20241103T060000
END:STANDARD
BEGIN:DAYLIGHT
TZOFFSETFROM:-0500
TZOFFSETTO:-0400
TZNAME:EDT
DTSTART:20250309T070000
END:DAYLIGHT
BEGIN:STANDARD
TZOFFSETFROM:-0400
TZOFFSETTO:-0500
TZNAME:EST
DTSTART:20251102T060000
END:STANDARD
BEGIN:DAYLIGHT
TZOFFSETFROM:-0500
TZOFFSETTO:-0400
TZNAME:EDT
DTSTART:20260308T070000
END:DAYLIGHT
BEGIN:STANDARD
TZOFFSETFROM:-0400
TZOFFSETTO:-0500
TZNAME:EST
DTSTART:20261101T060000
END:STANDARD
END:VTIMEZONE
BEGIN:VEVENT
DTSTART;TZID=America/New_York:20250711T063000
DTEND;TZID=America/New_York:20250711T080000
DTSTAMP:20260423T185800
CREATED:20250805T153051Z
LAST-MODIFIED:20250805T153051Z
UID:34620-1752215400-1752220800@goodshepherdbinghamton.org
SUMMARY:Men's Breakfast and Bible Study
DESCRIPTION:Every Friday morning at 6:30am men from Good Shepherd\, other area churches\, and the community gather to share a warm breakfast and study the bible. The study is expositional\, moving verse by verse through one book of the bible at a time\, with the purpose of coming to a better understanding of God and his word. \nThere is plenty of discussion\, question and answer time\, prayer\, and fellowship. You do not have to be a member of Good Shepherd or any other church to attend. The study meets at Good Shepherd\, downstairs in the parish hall. It usually ends at 8:00am but men come and go during the study according to their work schedules. Men of all ages are welcome to come\, eat\, and learn from the scriptures.This class is currently studying the book of Revelation.If you’d like more information\, please contact Jonathan Groves for a link to access the class @ jg.arrowhead@gmail.com
URL:https://goodshepherdbinghamton.org/event/mens-breakfast-and-bible-study-89/
END:VEVENT
BEGIN:VEVENT
DTSTART;TZID=America/New_York:20250713T080000
DTEND;TZID=America/New_York:20250713T090000
DTSTAMP:20260423T185800
CREATED:20250805T152723Z
LAST-MODIFIED:20250805T152723Z
UID:34533-1752393600-1752397200@goodshepherdbinghamton.org
SUMMARY:First Service
DESCRIPTION:This is an early\, more quiet version of the service at 10:30. \nThe 8am service is not currently being live-streamed. \nThis service involves readings from the Bible\, a sermon\, offering\, confession\, and communion.  There is no music during this service.
URL:https://goodshepherdbinghamton.org/event/first-service-94/
END:VEVENT
BEGIN:VEVENT
DTSTART;TZID=America/New_York:20250713T091500
DTEND;TZID=America/New_York:20250713T101500
DTSTAMP:20260423T185800
CREATED:20250805T152939Z
LAST-MODIFIED:20250805T152939Z
UID:34585-1752398100-1752401700@goodshepherdbinghamton.org
SUMMARY:Christian Education for Everyone
DESCRIPTION:Children \nFor children aged 1-12. Good Shepherd offers Catechesis of the Good Shepherd—a program of prayer\, worship\, and scripture in specially prepared Montessori-style rooms—The Pen (1-3)\,The Pasture (3-6)\, The Vineyard (6-9)\, and The Tabernacle (9-12).  \n  \nTeens \nTeens aged 12 to 14 cover a range of topics—the Bible\, Liturgy\, Church History\, Apologetics\, the 39 Articles—in a three-year cycle. This is a discussion-style class that prepares kids for confirmation. \n  \nAdult Class  \nDiscussion and study on topics ranging from Christian literature\, the 39 articles\, church history\, difficult passages of the bible\, and more.     \nPlease contact the Good Shepherd office for more information.
URL:https://goodshepherdbinghamton.org/event/christian-education-for-everyone-16/
END:VEVENT
BEGIN:VEVENT
DTSTART;TZID=America/New_York:20250713T103000
DTEND;TZID=America/New_York:20250713T120000
DTSTAMP:20260423T185800
CREATED:20250805T152859Z
LAST-MODIFIED:20250805T152859Z
UID:34568-1752402600-1752408000@goodshepherdbinghamton.org
SUMMARY:2nd Service
DESCRIPTION:This is the main service at Good Shepherd.   \nAt this service\, there is a blend of both contemporary and traditional worship music\, Bible readings\, a sermon\, confession\, and communion.   \nAt Good Shepherd you will find friendly people\, engaging sermons\, joyful worship\, practical teaching\, and lots of kids. All are welcome! \nThe bulletin is available as a digital download at www.goodshepherdbinghamton.org.   \nThe service is currently open to the public and is being livestreamed at https://www.facebook.com/groups/CoGSMedia/
URL:https://goodshepherdbinghamton.org/event/2nd-service-90/
END:VEVENT
BEGIN:VEVENT
DTSTART;TZID=America/New_York:20250715T090000
DTEND;TZID=America/New_York:20250715T100000
DTSTAMP:20260423T185800
CREATED:20250805T153019Z
LAST-MODIFIED:20250805T153019Z
UID:34603-1752570000-1752573600@goodshepherdbinghamton.org
SUMMARY:Tuesday Morning Bible Study
DESCRIPTION:Tuesday Morning Bible Study meets at 9:05am to walk through different books of the bible\, verse by verse.  Taught by a member of the pastoral staff in the main room of the parish hall.  This class can be viewed in person or online each week by livestream.  \nThis class is currently working on a study focusing the book of 2 Samuel. \nThis class is meeting online and in person in the parish hall.  It can be viewed at https://www.facebook.com/groups/CoGSMedia/
URL:https://goodshepherdbinghamton.org/event/tuesday-morning-bible-study-93/
END:VEVENT
BEGIN:VEVENT
DTSTART;TZID=America/New_York:20250717T173000
DTEND;TZID=America/New_York:20250717T183000
DTSTAMP:20260423T185800
CREATED:20250805T152802Z
LAST-MODIFIED:20250805T152802Z
UID:34551-1752773400-1752777000@goodshepherdbinghamton.org
SUMMARY:Shepherd's Bowl Community Meal
DESCRIPTION:Each Thursday evening\, Good Shepherd offers a free nutritious meal to thepeople of Good Shepherd and the wider community. If you are able\, this is a great time to get to know others and enjoya free and delicious meal. \nThe Rev. Jonathan Groves leads a beginners Bible study at 6:00 and anyone is welcome to attend.  The study is currently working on the book of Judges. \nPlease find our page on Facebook\, Shepherd’s Bowl Free Community Meal\, and follow\, like and share posts\, and invite friends. 
URL:https://goodshepherdbinghamton.org/event/shepherds-bowl-community-meal-92/
END:VEVENT
BEGIN:VEVENT
DTSTART;TZID=America/New_York:20250717T181500
DTEND;TZID=America/New_York:20250717T191500
DTSTAMP:20260423T185800
CREATED:20250805T153356Z
LAST-MODIFIED:20250805T153356Z
UID:34719-1752776100-1752779700@goodshepherdbinghamton.org
SUMMARY:Beginner's Bible Study
DESCRIPTION:Every Thursday evening at 6pm\, there is a beginner’s bible study at Good Shepherd.  All are welcome! \nThis is a great place to connect with others and learn more about what God has to say to us through his word.  The class is taught by The Rev. Dcn. Warren Musselman\, and the class is currently studying the book of James. 
URL:https://goodshepherdbinghamton.org/event/beginners-bible-study-80/
END:VEVENT
BEGIN:VEVENT
DTSTART;TZID=America/New_York:20250718T063000
DTEND;TZID=America/New_York:20250718T080000
DTSTAMP:20260423T185800
CREATED:20250805T153101Z
LAST-MODIFIED:20250805T153101Z
UID:34621-1752820200-1752825600@goodshepherdbinghamton.org
SUMMARY:Men's Breakfast and Bible Study
DESCRIPTION:Every Friday morning at 6:30am men from Good Shepherd\, other area churches\, and the community gather to share a warm breakfast and study the bible. The study is expositional\, moving verse by verse through one book of the bible at a time\, with the purpose of coming to a better understanding of God and his word. \nThere is plenty of discussion\, question and answer time\, prayer\, and fellowship. You do not have to be a member of Good Shepherd or any other church to attend. The study meets at Good Shepherd\, downstairs in the parish hall. It usually ends at 8:00am but men come and go during the study according to their work schedules. Men of all ages are welcome to come\, eat\, and learn from the scriptures.This class is currently studying the book of Revelation.If you’d like more information\, please contact Jonathan Groves for a link to access the class @ jg.arrowhead@gmail.com
URL:https://goodshepherdbinghamton.org/event/mens-breakfast-and-bible-study-90/
END:VEVENT
BEGIN:VEVENT
DTSTART;TZID=America/New_York:20250720T080000
DTEND;TZID=America/New_York:20250720T090000
DTSTAMP:20260423T185800
CREATED:20250805T152723Z
LAST-MODIFIED:20250805T152723Z
UID:34534-1752998400-1753002000@goodshepherdbinghamton.org
SUMMARY:First Service
DESCRIPTION:This is an early\, more quiet version of the service at 10:30. \nThe 8am service is not currently being live-streamed. \nThis service involves readings from the Bible\, a sermon\, offering\, confession\, and communion.  There is no music during this service.
URL:https://goodshepherdbinghamton.org/event/first-service-95/
END:VEVENT
BEGIN:VEVENT
DTSTART;TZID=America/New_York:20250720T091500
DTEND;TZID=America/New_York:20250720T101500
DTSTAMP:20260423T185800
CREATED:20250805T152955Z
LAST-MODIFIED:20250805T152955Z
UID:34586-1753002900-1753006500@goodshepherdbinghamton.org
SUMMARY:Christian Education for Everyone
DESCRIPTION:Children \nFor children aged 1-12. Good Shepherd offers Catechesis of the Good Shepherd—a program of prayer\, worship\, and scripture in specially prepared Montessori-style rooms—The Pen (1-3)\,The Pasture (3-6)\, The Vineyard (6-9)\, and The Tabernacle (9-12).  \n  \nTeens \nTeens aged 12 to 14 cover a range of topics—the Bible\, Liturgy\, Church History\, Apologetics\, the 39 Articles—in a three-year cycle. This is a discussion-style class that prepares kids for confirmation. \n  \nAdult Class  \nDiscussion and study on topics ranging from Christian literature\, the 39 articles\, church history\, difficult passages of the bible\, and more.     \nPlease contact the Good Shepherd office for more information.
URL:https://goodshepherdbinghamton.org/event/christian-education-for-everyone-17/
END:VEVENT
BEGIN:VEVENT
DTSTART;TZID=America/New_York:20250720T103000
DTEND;TZID=America/New_York:20250720T120000
DTSTAMP:20260423T185800
CREATED:20250805T152859Z
LAST-MODIFIED:20250805T152859Z
UID:34569-1753007400-1753012800@goodshepherdbinghamton.org
SUMMARY:2nd Service
DESCRIPTION:This is the main service at Good Shepherd.   \nAt this service\, there is a blend of both contemporary and traditional worship music\, Bible readings\, a sermon\, confession\, and communion.   \nAt Good Shepherd you will find friendly people\, engaging sermons\, joyful worship\, practical teaching\, and lots of kids. All are welcome! \nThe bulletin is available as a digital download at www.goodshepherdbinghamton.org.   \nThe service is currently open to the public and is being livestreamed at https://www.facebook.com/groups/CoGSMedia/
URL:https://goodshepherdbinghamton.org/event/2nd-service-91/
END:VEVENT
BEGIN:VEVENT
DTSTART;TZID=America/New_York:20250722T090000
DTEND;TZID=America/New_York:20250722T100000
DTSTAMP:20260423T185800
CREATED:20250805T153019Z
LAST-MODIFIED:20250805T153019Z
UID:34604-1753174800-1753178400@goodshepherdbinghamton.org
SUMMARY:Tuesday Morning Bible Study
DESCRIPTION:Tuesday Morning Bible Study meets at 9:05am to walk through different books of the bible\, verse by verse.  Taught by a member of the pastoral staff in the main room of the parish hall.  This class can be viewed in person or online each week by livestream.  \nThis class is currently working on a study focusing the book of 2 Samuel. \nThis class is meeting online and in person in the parish hall.  It can be viewed at https://www.facebook.com/groups/CoGSMedia/
URL:https://goodshepherdbinghamton.org/event/tuesday-morning-bible-study-94/
END:VEVENT
BEGIN:VEVENT
DTSTART;TZID=America/New_York:20250724T173000
DTEND;TZID=America/New_York:20250724T183000
DTSTAMP:20260423T185800
CREATED:20250805T152802Z
LAST-MODIFIED:20250805T152802Z
UID:34552-1753378200-1753381800@goodshepherdbinghamton.org
SUMMARY:Shepherd's Bowl Community Meal
DESCRIPTION:Each Thursday evening\, Good Shepherd offers a free nutritious meal to thepeople of Good Shepherd and the wider community. If you are able\, this is a great time to get to know others and enjoya free and delicious meal. \nThe Rev. Jonathan Groves leads a beginners Bible study at 6:00 and anyone is welcome to attend.  The study is currently working on the book of Judges. \nPlease find our page on Facebook\, Shepherd’s Bowl Free Community Meal\, and follow\, like and share posts\, and invite friends. 
URL:https://goodshepherdbinghamton.org/event/shepherds-bowl-community-meal-93/
END:VEVENT
BEGIN:VEVENT
DTSTART;TZID=America/New_York:20250725T063000
DTEND;TZID=America/New_York:20250725T080000
DTSTAMP:20260423T185800
CREATED:20250805T153101Z
LAST-MODIFIED:20250805T153101Z
UID:34622-1753425000-1753430400@goodshepherdbinghamton.org
SUMMARY:Men's Breakfast and Bible Study
DESCRIPTION:Every Friday morning at 6:30am men from Good Shepherd\, other area churches\, and the community gather to share a warm breakfast and study the bible. The study is expositional\, moving verse by verse through one book of the bible at a time\, with the purpose of coming to a better understanding of God and his word. \nThere is plenty of discussion\, question and answer time\, prayer\, and fellowship. You do not have to be a member of Good Shepherd or any other church to attend. The study meets at Good Shepherd\, downstairs in the parish hall. It usually ends at 8:00am but men come and go during the study according to their work schedules. Men of all ages are welcome to come\, eat\, and learn from the scriptures.This class is currently studying the book of Revelation.If you’d like more information\, please contact Jonathan Groves for a link to access the class @ jg.arrowhead@gmail.com
URL:https://goodshepherdbinghamton.org/event/mens-breakfast-and-bible-study-91/
END:VEVENT
BEGIN:VEVENT
DTSTART;TZID=America/New_York:20250727T080000
DTEND;TZID=America/New_York:20250727T090000
DTSTAMP:20260423T185800
CREATED:20250805T152723Z
LAST-MODIFIED:20250805T152723Z
UID:34535-1753603200-1753606800@goodshepherdbinghamton.org
SUMMARY:First Service
DESCRIPTION:This is an early\, more quiet version of the service at 10:30. \nThe 8am service is not currently being live-streamed. \nThis service involves readings from the Bible\, a sermon\, offering\, confession\, and communion.  There is no music during this service.
URL:https://goodshepherdbinghamton.org/event/first-service-96/
END:VEVENT
BEGIN:VEVENT
DTSTART;TZID=America/New_York:20250727T091500
DTEND;TZID=America/New_York:20250727T101500
DTSTAMP:20260423T185800
CREATED:20250805T152955Z
LAST-MODIFIED:20250805T152955Z
UID:34587-1753607700-1753611300@goodshepherdbinghamton.org
SUMMARY:Christian Education for Everyone
DESCRIPTION:Children \nFor children aged 1-12. Good Shepherd offers Catechesis of the Good Shepherd—a program of prayer\, worship\, and scripture in specially prepared Montessori-style rooms—The Pen (1-3)\,The Pasture (3-6)\, The Vineyard (6-9)\, and The Tabernacle (9-12).  \n  \nTeens \nTeens aged 12 to 14 cover a range of topics—the Bible\, Liturgy\, Church History\, Apologetics\, the 39 Articles—in a three-year cycle. This is a discussion-style class that prepares kids for confirmation. \n  \nAdult Class  \nDiscussion and study on topics ranging from Christian literature\, the 39 articles\, church history\, difficult passages of the bible\, and more.     \nPlease contact the Good Shepherd office for more information.
URL:https://goodshepherdbinghamton.org/event/christian-education-for-everyone-18/
END:VEVENT
BEGIN:VEVENT
DTSTART;TZID=America/New_York:20250727T103000
DTEND;TZID=America/New_York:20250727T120000
DTSTAMP:20260423T185800
CREATED:20250805T152859Z
LAST-MODIFIED:20250805T152859Z
UID:34570-1753612200-1753617600@goodshepherdbinghamton.org
SUMMARY:2nd Service
DESCRIPTION:This is the main service at Good Shepherd.   \nAt this service\, there is a blend of both contemporary and traditional worship music\, Bible readings\, a sermon\, confession\, and communion.   \nAt Good Shepherd you will find friendly people\, engaging sermons\, joyful worship\, practical teaching\, and lots of kids. All are welcome! \nThe bulletin is available as a digital download at www.goodshepherdbinghamton.org.   \nThe service is currently open to the public and is being livestreamed at https://www.facebook.com/groups/CoGSMedia/
URL:https://goodshepherdbinghamton.org/event/2nd-service-92/
END:VEVENT
BEGIN:VEVENT
DTSTART;TZID=America/New_York:20250729T070000
DTEND;TZID=America/New_York:20250729T080000
DTSTAMP:20260423T185800
CREATED:20250805T153132Z
LAST-MODIFIED:20250805T153132Z
UID:34643-1753772400-1753776000@goodshepherdbinghamton.org
SUMMARY:Morning Prayer
DESCRIPTION:Morning Prayer meets online by Zoom at 7am Monday through Friday. The liturgy and readings are available at www.dailyoffice2019.com.  \nJoin the parish email list and look for a weekly email invitation in your inbox.
URL:https://goodshepherdbinghamton.org/event/morning-prayer-136/
END:VEVENT
BEGIN:VEVENT
DTSTART;TZID=America/New_York:20250729T090000
DTEND;TZID=America/New_York:20250729T100000
DTSTAMP:20260423T185800
CREATED:20250805T153020Z
LAST-MODIFIED:20250805T153020Z
UID:34605-1753779600-1753783200@goodshepherdbinghamton.org
SUMMARY:Tuesday Morning Bible Study
DESCRIPTION:Tuesday Morning Bible Study meets at 9:05am to walk through different books of the bible\, verse by verse.  Taught by a member of the pastoral staff in the main room of the parish hall.  This class can be viewed in person or online each week by livestream.  \nThis class is currently working on a study focusing the book of Proverbs. \nThis class is meeting online and in person in the parish hall.  It can be viewed at https://www.facebook.com/groups/CoGSMedia/
URL:https://goodshepherdbinghamton.org/event/tuesday-morning-bible-study-95/
END:VEVENT
BEGIN:VEVENT
DTSTART;TZID=America/New_York:20250730T070000
DTEND;TZID=America/New_York:20250730T080000
DTSTAMP:20260423T185800
CREATED:20250805T153132Z
LAST-MODIFIED:20250805T153132Z
UID:34644-1753858800-1753862400@goodshepherdbinghamton.org
SUMMARY:Morning Prayer
DESCRIPTION:Morning Prayer meets online by Zoom at 7am Monday through Friday. The liturgy and readings are available at www.dailyoffice2019.com.  \nJoin the parish email list and look for a weekly email invitation in your inbox.
URL:https://goodshepherdbinghamton.org/event/morning-prayer-137/
END:VEVENT
BEGIN:VEVENT
DTSTART;TZID=America/New_York:20250731T070000
DTEND;TZID=America/New_York:20250731T080000
DTSTAMP:20260423T185800
CREATED:20250805T153133Z
LAST-MODIFIED:20250805T153133Z
UID:34645-1753945200-1753948800@goodshepherdbinghamton.org
SUMMARY:Morning Prayer
DESCRIPTION:Morning Prayer meets online by Zoom at 7am Monday through Friday. The liturgy and readings are available at www.dailyoffice2019.com.  \nJoin the parish email list and look for a weekly email invitation in your inbox.
URL:https://goodshepherdbinghamton.org/event/morning-prayer-138/
END:VEVENT
BEGIN:VEVENT
DTSTART;TZID=America/New_York:20250731T173000
DTEND;TZID=America/New_York:20250731T183000
DTSTAMP:20260423T185800
CREATED:20250805T152802Z
LAST-MODIFIED:20250805T152802Z
UID:34553-1753983000-1753986600@goodshepherdbinghamton.org
SUMMARY:Shepherd's Bowl Community Meal
DESCRIPTION:Each Thursday evening\, Good Shepherd offers a free nutritious meal to thepeople of Good Shepherd and the wider community. If you are able\, this is a great time to get to know others and enjoya free and delicious meal. \nThe Rev. Jonathan Groves leads a beginners Bible study at 6:00 and anyone is welcome to attend.  The study is currently working on the book of Judges. \nPlease find our page on Facebook\, Shepherd’s Bowl Free Community Meal\, and follow\, like and share posts\, and invite friends. 
URL:https://goodshepherdbinghamton.org/event/shepherds-bowl-community-meal-94/
END:VEVENT
BEGIN:VEVENT
DTSTART;TZID=America/New_York:20250801T063000
DTEND;TZID=America/New_York:20250801T080000
DTSTAMP:20260423T185800
CREATED:20250805T153101Z
LAST-MODIFIED:20250805T153101Z
UID:34623-1754029800-1754035200@goodshepherdbinghamton.org
SUMMARY:Men's Breakfast and Bible Study
DESCRIPTION:Every Friday morning at 6:30am men from Good Shepherd\, other area churches\, and the community gather to share a warm breakfast and study the bible. The study is expositional\, moving verse by verse through one book of the bible at a time\, with the purpose of coming to a better understanding of God and his word. \nThere is plenty of discussion\, question and answer time\, prayer\, and fellowship. You do not have to be a member of Good Shepherd or any other church to attend. The study meets at Good Shepherd\, downstairs in the parish hall. It usually ends at 8:00am but men come and go during the study according to their work schedules. Men of all ages are welcome to come\, eat\, and learn from the scriptures.This class is currently studying the book of Genesis.If you’d like more information\, please contact Jonathan Groves for a link to access the class @ jg.arrowhead@gmail.com
URL:https://goodshepherdbinghamton.org/event/mens-breakfast-and-bible-study-92/
END:VEVENT
BEGIN:VEVENT
DTSTART;TZID=America/New_York:20250801T070000
DTEND;TZID=America/New_York:20250801T080000
DTSTAMP:20260423T185800
CREATED:20250805T153145Z
LAST-MODIFIED:20250805T153145Z
UID:34646-1754031600-1754035200@goodshepherdbinghamton.org
SUMMARY:Morning Prayer
DESCRIPTION:Morning Prayer meets online by Zoom at 7am Monday through Friday. The liturgy and readings are available at www.dailyoffice2019.com.  \nJoin the parish email list and look for a weekly email invitation in your inbox.
URL:https://goodshepherdbinghamton.org/event/morning-prayer-139/
END:VEVENT
BEGIN:VEVENT
DTSTART;TZID=America/New_York:20250803T080000
DTEND;TZID=America/New_York:20250803T090000
DTSTAMP:20260423T185800
CREATED:20250805T152728Z
LAST-MODIFIED:20250805T152728Z
UID:34536-1754208000-1754211600@goodshepherdbinghamton.org
SUMMARY:First Service
DESCRIPTION:This is an early\, more quiet version of the service at 10:30. \nThe 8am service is not currently being live-streamed. \nThis service involves readings from the Bible\, a sermon\, offering\, confession\, and communion.  There is no music during this service.
URL:https://goodshepherdbinghamton.org/event/first-service-97/
END:VEVENT
BEGIN:VEVENT
DTSTART;TZID=America/New_York:20250803T091500
DTEND;TZID=America/New_York:20250803T101500
DTSTAMP:20260423T185800
CREATED:20250805T152955Z
LAST-MODIFIED:20250805T152955Z
UID:34588-1754212500-1754216100@goodshepherdbinghamton.org
SUMMARY:Christian Education for Everyone
DESCRIPTION:Children \nFor children aged 1-12. Good Shepherd offers Catechesis of the Good Shepherd—a program of prayer\, worship\, and scripture in specially prepared Montessori-style rooms—The Pen (1-3)\,The Pasture (3-6)\, The Vineyard (6-9)\, and The Tabernacle (9-12).  \n  \nTeens \nTeens aged 12 to 14 cover a range of topics—the Bible\, Liturgy\, Church History\, Apologetics\, the 39 Articles—in a three-year cycle. This is a discussion-style class that prepares kids for confirmation. \n  \nAdult Class  \nDiscussion and study on topics ranging from Christian literature\, the 39 articles\, church history\, difficult passages of the bible\, and more.     \nPlease contact the Good Shepherd office for more information.
URL:https://goodshepherdbinghamton.org/event/christian-education-for-everyone-19/
END:VEVENT
BEGIN:VEVENT
DTSTART;TZID=America/New_York:20250803T103000
DTEND;TZID=America/New_York:20250803T120000
DTSTAMP:20260423T185800
CREATED:20250805T152907Z
LAST-MODIFIED:20250805T152907Z
UID:34571-1754217000-1754222400@goodshepherdbinghamton.org
SUMMARY:2nd Service
DESCRIPTION:This is the main service at Good Shepherd.   \nAt this service\, there is a blend of both contemporary and traditional worship music\, Bible readings\, a sermon\, confession\, and communion.   \nAt Good Shepherd you will find friendly people\, engaging sermons\, joyful worship\, practical teaching\, and lots of kids. All are welcome! \nThe bulletin is available as a digital download at www.goodshepherdbinghamton.org.   \nThe service is currently open to the public and is being livestreamed at https://www.facebook.com/groups/CoGSMedia/
URL:https://goodshepherdbinghamton.org/event/2nd-service-93/
END:VEVENT
BEGIN:VEVENT
DTSTART;TZID=America/New_York:20250803T123000
DTEND;TZID=America/New_York:20250803T133000
DTSTAMP:20260423T185800
CREATED:20250805T153128Z
LAST-MODIFIED:20250805T153128Z
UID:34637-1754224200-1754227800@goodshepherdbinghamton.org
SUMMARY:Potluck - Theme: Appetizers
DESCRIPTION:The first Sunday of most months is a potluck or cooking competition. Bring a dish to pass\, or just come and have lunch after the 10:30!  You’ll notice that some of the months have a theme assigned to the meal.  This doesn’t mean you can only bring a dish that includes those items or fits into those categories.  It’s just an added element of fun if you’re up for it. \nIf you’re a person that enjoys competition\, or judging other people (heh)\, please see Steph or Claudia to sign up as a judge for cooking competitions.
URL:https://goodshepherdbinghamton.org/event/potluck-theme-appetizers/
END:VEVENT
BEGIN:VEVENT
DTSTART;TZID=America/New_York:20250803T123000
DTEND;TZID=America/New_York:20250803T133000
DTSTAMP:20260423T185800
CREATED:20250805T153129Z
LAST-MODIFIED:20250805T153129Z
UID:34638-1754224200-1754227800@goodshepherdbinghamton.org
SUMMARY:Acolyte Practice
DESCRIPTION:If your child is an acolyte\, or would like to be one\, please have them join Dcn. Roy in the sanctuary after the 10:30 service for a brief training.
URL:https://goodshepherdbinghamton.org/event/acolyte-practice/
END:VEVENT
BEGIN:VEVENT
DTSTART;TZID=America/New_York:20250804T070000
DTEND;TZID=America/New_York:20250804T080000
DTSTAMP:20260423T185800
CREATED:20250805T153145Z
LAST-MODIFIED:20250805T153145Z
UID:34647-1754290800-1754294400@goodshepherdbinghamton.org
SUMMARY:Morning Prayer
DESCRIPTION:Morning Prayer meets online by Zoom at 7am Monday through Friday. The liturgy and readings are available at www.dailyoffice2019.com.  \nJoin the parish email list and look for a weekly email invitation in your inbox.
URL:https://goodshepherdbinghamton.org/event/morning-prayer-140/
END:VEVENT
END:VCALENDAR