BEGIN:VCALENDAR
VERSION:2.0
PRODID:-//Church of the Good Shepherd - ECPv6.15.20//NONSGML v1.0//EN
CALSCALE:GREGORIAN
METHOD:PUBLISH
X-WR-CALNAME:Church of the Good Shepherd
X-ORIGINAL-URL:https://goodshepherdbinghamton.org
X-WR-CALDESC:Events for Church of the Good Shepherd
REFRESH-INTERVAL;VALUE=DURATION:PT1H
X-Robots-Tag:noindex
X-PUBLISHED-TTL:PT1H
BEGIN:VTIMEZONE
TZID:America/New_York
BEGIN:DAYLIGHT
TZOFFSETFROM:-0500
TZOFFSETTO:-0400
TZNAME:EDT
DTSTART:20240310T070000
END:DAYLIGHT
BEGIN:STANDARD
TZOFFSETFROM:-0400
TZOFFSETTO:-0500
TZNAME:EST
DTSTART:20241103T060000
END:STANDARD
BEGIN:DAYLIGHT
TZOFFSETFROM:-0500
TZOFFSETTO:-0400
TZNAME:EDT
DTSTART:20250309T070000
END:DAYLIGHT
BEGIN:STANDARD
TZOFFSETFROM:-0400
TZOFFSETTO:-0500
TZNAME:EST
DTSTART:20251102T060000
END:STANDARD
BEGIN:DAYLIGHT
TZOFFSETFROM:-0500
TZOFFSETTO:-0400
TZNAME:EDT
DTSTART:20260308T070000
END:DAYLIGHT
BEGIN:STANDARD
TZOFFSETFROM:-0400
TZOFFSETTO:-0500
TZNAME:EST
DTSTART:20261101T060000
END:STANDARD
BEGIN:DAYLIGHT
TZOFFSETFROM:-0500
TZOFFSETTO:-0400
TZNAME:EDT
DTSTART:20270314T070000
END:DAYLIGHT
BEGIN:STANDARD
TZOFFSETFROM:-0400
TZOFFSETTO:-0500
TZNAME:EST
DTSTART:20271107T060000
END:STANDARD
END:VTIMEZONE
BEGIN:VEVENT
DTSTART;TZID=America/New_York:20260125T123000
DTEND;TZID=America/New_York:20260125T133000
DTSTAMP:20260423T064303
CREATED:20251217T020037Z
LAST-MODIFIED:20251217T020129Z
UID:35007-1769344200-1769347800@goodshepherdbinghamton.org
SUMMARY:Good Shepherd Annual Meeting
DESCRIPTION:The 152nd Good Shepherd Annual Meeting will be held on Sunday\, January 25\, 2026 in the parish hall immediately following the 10:30 service.  If you are a member of Good Shepherd\, please make every effort to attend.  The meeting is generally close to one hour\, and a potluck lunch will be served.  Please feel free to bring a dish to pass\, but stay\, have lunch\, and attend the meeting even if you don’t.
URL:https://goodshepherdbinghamton.org/event/good-shepherd-annual-meeting/
END:VEVENT
BEGIN:VEVENT
DTSTART;TZID=America/New_York:20260120T183000
DTEND;TZID=America/New_York:20260120T193000
DTSTAMP:20260423T064303
CREATED:20251217T015626Z
LAST-MODIFIED:20251217T015632Z
UID:35005-1768933800-1768937400@goodshepherdbinghamton.org
SUMMARY:January Vestry Meeting
DESCRIPTION:The regular monthly meeting of the vestry of Church of the Good Shepherd\, typically meeting by Zoom.  This meeting is open to all parishioners of Good Shepherd.  Contact the office for more information.
URL:https://goodshepherdbinghamton.org/event/january-vestry-meeting/
END:VEVENT
BEGIN:VEVENT
DTSTART;TZID=America/New_York:20260111T140000
DTEND;TZID=America/New_York:20260111T160000
DTSTAMP:20260423T064303
CREATED:20251129T001956Z
LAST-MODIFIED:20251129T001958Z
UID:34954-1768140000-1768147200@goodshepherdbinghamton.org
SUMMARY:Kennedy Baby Shower
DESCRIPTION:There will be a baby shower honoring Adaliah Kennedy on January 11th from 2-4pm in the parish hall.
URL:https://goodshepherdbinghamton.org/event/kennedy-baby-shower/
END:VEVENT
BEGIN:VEVENT
DTSTART;TZID=America/New_York:20260108T181500
DTEND;TZID=America/New_York:20260108T191500
DTSTAMP:20260423T064303
CREATED:20250805T153356Z
LAST-MODIFIED:20251227T171040Z
UID:34720-1767896100-1767899700@goodshepherdbinghamton.org
SUMMARY:Thursday Evening Bible Study
DESCRIPTION:Every Thursday evening at 6pm\, there is a beginner’s bible study at Good Shepherd. All are welcome! \nThis is a great place to connect with others and learn more about what God has to say to us through his word.  The class is taught by The Rev. Dcn. Warren Musselman\, and the class is currently studying the book of Esther. 
URL:https://goodshepherdbinghamton.org/event/beginners-bible-study-81/
END:VEVENT
BEGIN:VEVENT
DTSTART;TZID=America/New_York:20251225T110000
DTEND;TZID=America/New_York:20251225T120000
DTSTAMP:20260423T064303
CREATED:20251217T021339Z
LAST-MODIFIED:20251217T021341Z
UID:35011-1766660400-1766664000@goodshepherdbinghamton.org
SUMMARY:Christmas Day Service
DESCRIPTION:Please join us as we observe Christmas Day.
URL:https://goodshepherdbinghamton.org/event/christmas-day-service-4/
END:VEVENT
BEGIN:VEVENT
DTSTART;TZID=America/New_York:20251224T170000
DTEND;TZID=America/New_York:20251224T180000
DTSTAMP:20260423T064303
CREATED:20251217T021121Z
LAST-MODIFIED:20251217T021123Z
UID:35009-1766595600-1766599200@goodshepherdbinghamton.org
SUMMARY:Good Shepherd Christmas Pageant
DESCRIPTION:The Nativity of our Lord Jesus Christ \n\n\n\nPlease join us in observing the retelling of the birth of Christ by the young people and choir of Good Shepherd.
URL:https://goodshepherdbinghamton.org/event/good-shepherd-christmas-pageant/
END:VEVENT
BEGIN:VEVENT
DTSTART;TZID=America/New_York:20251219T063000
DTEND;TZID=America/New_York:20251219T080000
DTSTAMP:20260423T064303
CREATED:20251217T022001Z
LAST-MODIFIED:20251217T022004Z
UID:35014-1766125800-1766131200@goodshepherdbinghamton.org
SUMMARY:Men's Breakfast and Bible Study
DESCRIPTION:Every Friday morning at 6:30am men from Good Shepherd\, other area churches\, and the community gather to share a warm breakfast and study the bible. The study is expositional\, moving verse by verse through one book of the bible at a time\, with the purpose of coming to a better understanding of God and his word. \n\n\n\nThere is plenty of discussion\, question and answer time\, prayer\, and fellowship. You do not have to be a member of Good Shepherd or any other church to attend. The study meets at Good Shepherd\, downstairs in the parish hall. It usually ends at 8:00am but men come and go during the study according to their work schedules. Men of all ages are welcome to come\, eat\, and learn from the scriptures.
URL:https://goodshepherdbinghamton.org/event/mens-breakfast-and-bible-study-106/
END:VEVENT
BEGIN:VEVENT
DTSTART;TZID=America/New_York:20251214T140000
DTEND;TZID=America/New_York:20251214T163000
DTSTAMP:20260423T064303
CREATED:20251016T215022Z
LAST-MODIFIED:20251016T215028Z
UID:34856-1765720800-1765729800@goodshepherdbinghamton.org
SUMMARY:Women's Christmas Tea
DESCRIPTION:All of the women of Good Shepherd are invited to The Manwaring home for tea\, finger food\, and sweets.
URL:https://goodshepherdbinghamton.org/event/womens-christmas-tea/
END:VEVENT
BEGIN:VEVENT
DTSTART;TZID=America/New_York:20251213T100000
DTEND;TZID=America/New_York:20251213T150000
DTSTAMP:20260423T064303
CREATED:20251129T173138Z
LAST-MODIFIED:20251129T173140Z
UID:34961-1765620000-1765638000@goodshepherdbinghamton.org
SUMMARY:St. Nicholas Fair
DESCRIPTION:It’s time for the 4th annual St. Nicholas Fair! The fun winter market with gifts\, food\, music\, and more\, will be held on December 13th\, from 10-3. This year we will be raising funds for CHE Nicaragua\, a ministry that our church has partnered with for many years that provides physical resources and the Gospel to communities all over Nicaragua.Lord willing\, this will be a great blessing to CHE Nicaragua\, and a wonderful day to be together. Come prepared to purchase Christmas gifts and enjoy delicious food in the day’s cafe\, while supporting an important cause!
URL:https://goodshepherdbinghamton.org/event/st-nicholas-fair-3/
END:VEVENT
BEGIN:VEVENT
DTSTART;TZID=America/New_York:20251206T140000
DTEND;TZID=America/New_York:20251206T150000
DTSTAMP:20260423T064303
CREATED:20251129T002731Z
LAST-MODIFIED:20251129T002734Z
UID:34957-1765029600-1765033200@goodshepherdbinghamton.org
SUMMARY:Funeral Service for Joseph Barrett
DESCRIPTION:Good Shepherd will be having a funeral service for Joseph Barrett on December 6 at 2pm. \n\n\n\nThere will be a luncheon in the parish hall following the service. \n\n\n\n \n\n\n\nPlease contact Good Shepherd at 607.723.8032 for additional information.
URL:https://goodshepherdbinghamton.org/event/funeral-service-for-joseph-barrett/
END:VEVENT
BEGIN:VEVENT
DTSTART;TZID=America/New_York:20251122T140000
DTEND;TZID=America/New_York:20251122T160000
DTSTAMP:20260423T064303
CREATED:20251104T180126Z
LAST-MODIFIED:20251104T180130Z
UID:34912-1763820000-1763827200@goodshepherdbinghamton.org
SUMMARY:Baby Shower for Audrey Erle
DESCRIPTION:There will be a baby shower honoring Audrey Erle on November 22nd from 2-4pm in the parish hall. Please let Angel Groves know by November 16th if you plan to attend. \n\n\n\nShe and Mason are registered on Amazon \n\n\n\n\nhttps://www.amazon.com/baby-reg/audrey-erle-december-2025-endicott/19XIRGT46XLDD.\n\n\n\n\nPlease consider bringing a book instead of a card to help baby’s library grow! 
URL:https://goodshepherdbinghamton.org/event/baby-shower-for-audrey-erle/
END:VEVENT
BEGIN:VEVENT
DTSTART;TZID=America/New_York:20251115T110000
DTEND;TZID=America/New_York:20251115T140000
DTSTAMP:20260423T064303
CREATED:20251016T192123Z
LAST-MODIFIED:20251016T192128Z
UID:34854-1763204400-1763215200@goodshepherdbinghamton.org
SUMMARY:Mary & Martha Meeting
DESCRIPTION:The Mary & Martha Guild is open to all ladies of Good Shepherd.   \n\n\n\nOur next meeting is Saturday November 15th from 11-2pm.  As always there will be soup & bread for a light lunch.  There will be a short meeting\, lunch\, and crafting items for the St. Nick Fair.
URL:https://goodshepherdbinghamton.org/event/mary-martha-meeting/
END:VEVENT
BEGIN:VEVENT
DTSTART;TZID=America/New_York:20251110T110000
DTEND;TZID=America/New_York:20251110T130000
DTSTAMP:20260423T064303
CREATED:20251104T175615Z
LAST-MODIFIED:20251104T175619Z
UID:34908-1762772400-1762779600@goodshepherdbinghamton.org
SUMMARY:Funeral Service for Richard James Moat
DESCRIPTION:Good Shepherd will be having a funeral service for Richard Moat on November 10 at 11am.   \n\n\n\nThere will be a luncheon in the parish hall following the service. \n\n\n\n \n\n\n\nPlease contact Good Shepherd at 607.723.8032 for additional information.
URL:https://goodshepherdbinghamton.org/event/funeral-service-for-richard-james-moat/
END:VEVENT
BEGIN:VEVENT
DTSTART;TZID=America/New_York:20251031T070000
DTEND;TZID=America/New_York:20251031T080000
DTSTAMP:20260423T064303
CREATED:20250805T153355Z
LAST-MODIFIED:20251217T022036Z
UID:34716-1761894000-1761897600@goodshepherdbinghamton.org
SUMMARY:Morning Prayer
DESCRIPTION:Morning Prayer meets online by Zoom at 7am Monday through Friday. The liturgy and readings are available at www.dailyoffice2019.com. Join the parish email list and look for a weekly email invitation in your inbox.
URL:https://goodshepherdbinghamton.org/event/morning-prayer-204/
END:VEVENT
BEGIN:VEVENT
DTSTART;TZID=America/New_York:20251031T063000
DTEND;TZID=America/New_York:20251031T080000
DTSTAMP:20260423T064303
CREATED:20250805T153128Z
LAST-MODIFIED:20251217T021456Z
UID:34636-1761892200-1761897600@goodshepherdbinghamton.org
SUMMARY:Men's Breakfast and Bible Study
DESCRIPTION:Every Friday morning at 6:30am men from Good Shepherd\, other area churches\, and the community gather to share a warm breakfast and study the bible. The study is expositional\, moving verse by verse through one book of the bible at a time\, with the purpose of coming to a better understanding of God and his word.There is plenty of discussion\, question and answer time\, prayer\, and fellowship. You do not have to be a member of Good Shepherd or any other church to attend. The study meets at Good Shepherd\, downstairs in the parish hall. It usually ends at 8:00am but men come and go during the study according to their work schedules. Men of all ages are welcome to come\, eat\, and learn from the scriptures.This class is currently studying the book of Genesis.If you’d like more information\, please contact Jonathan Groves for a link to access the class @ jg.arrowhead@gmail.com
URL:https://goodshepherdbinghamton.org/event/mens-breakfast-and-bible-study-105/
END:VEVENT
BEGIN:VEVENT
DTSTART;TZID=America/New_York:20251030T173000
DTEND;TZID=America/New_York:20251030T183000
DTSTAMP:20260423T064303
CREATED:20250805T152858Z
LAST-MODIFIED:20250805T152858Z
UID:34566-1761845400-1761849000@goodshepherdbinghamton.org
SUMMARY:Shepherd's Bowl Community Meal
DESCRIPTION:Each Thursday evening\, Good Shepherd offers a free nutritious meal to thepeople of Good Shepherd and the wider community. If you are able\, this is a great time to get to know others and enjoya free and delicious meal. \nThe Rev. Jonathan Groves leads a beginners Bible study at 6:00 and anyone is welcome to attend.  The study is currently working on the book of Judges. \nPlease find our page on Facebook\, Shepherd’s Bowl Free Community Meal\, and follow\, like and share posts\, and invite friends. 
URL:https://goodshepherdbinghamton.org/event/shepherds-bowl-community-meal-107/
END:VEVENT
BEGIN:VEVENT
DTSTART;TZID=America/New_York:20251030T070000
DTEND;TZID=America/New_York:20251030T080000
DTSTAMP:20260423T064303
CREATED:20250805T153353Z
LAST-MODIFIED:20250805T153353Z
UID:34715-1761807600-1761811200@goodshepherdbinghamton.org
SUMMARY:Morning Prayer
DESCRIPTION:Morning Prayer meets online by Zoom at 7am Monday through Friday. The liturgy and readings are available at www.dailyoffice2019.com.  \nJoin the parish email list and look for a weekly email invitation in your inbox.
URL:https://goodshepherdbinghamton.org/event/morning-prayer-203/
END:VEVENT
BEGIN:VEVENT
DTSTART;TZID=America/New_York:20251029T070000
DTEND;TZID=America/New_York:20251029T080000
DTSTAMP:20260423T064303
CREATED:20250805T153353Z
LAST-MODIFIED:20250805T153353Z
UID:34714-1761721200-1761724800@goodshepherdbinghamton.org
SUMMARY:Morning Prayer
DESCRIPTION:Morning Prayer meets online by Zoom at 7am Monday through Friday. The liturgy and readings are available at www.dailyoffice2019.com.  \nJoin the parish email list and look for a weekly email invitation in your inbox.
URL:https://goodshepherdbinghamton.org/event/morning-prayer-202/
END:VEVENT
BEGIN:VEVENT
DTSTART;TZID=America/New_York:20251028T183000
DTEND;TZID=America/New_York:20251028T200000
DTSTAMP:20260423T064303
CREATED:20251027T193406Z
LAST-MODIFIED:20251027T193411Z
UID:34881-1761676200-1761681600@goodshepherdbinghamton.org
SUMMARY:Allhallowtide Service
DESCRIPTION:Allhallowtide This year we are going to be holding a service in preparation for Allhallowtide on Tuesday\, October 28th at 6:30pm\, in place of our usual Trunk-or-Treat event. It will be a somber candlelit service in remembrance of those we have lost personally\, collectively\, and the saints who have gone before us. \n\n\n\nAllhallowtide encompasses the observance of All Hallow’s Eve\, All Saint’s Day\, and All Soul’s Day. These days are set apart in the midst of Ordinary Time to reflect on our mortality and the end of life here on earth\, and how Christ has conquered death to bring us life everlasting. We mourn those we have lost\, while we praise God for their time here on earth\, and look forward to the day we will see them again. \n\n\n\nWe will be including a Necrology\, honoring and reading out the names of those we have lost as a community. If there is anyone dear to you you’d like to be included in this reading\, please contact Angel Groves in person or by text/phone. Please include the name of the deceased as well as their connection to you or our church. (Ex. John Smith\, cousin of Jonathan Groves).
URL:https://goodshepherdbinghamton.org/event/allhallowtide-service/
END:VEVENT
BEGIN:VEVENT
DTSTART;TZID=America/New_York:20251028T090000
DTEND;TZID=America/New_York:20251028T100000
DTSTAMP:20260423T064303
CREATED:20250805T153051Z
LAST-MODIFIED:20250805T153051Z
UID:34618-1761642000-1761645600@goodshepherdbinghamton.org
SUMMARY:Tuesday Morning Bible Study
DESCRIPTION:Tuesday Morning Bible Study meets at 9:05am to walk through different books of the bible\, verse by verse.  Taught by a member of the pastoral staff in the main room of the parish hall.  This class can be viewed in person or online each week by livestream.  \nThis class is currently working on a study focusing the book of Proverbs. \nThis class is meeting online and in person in the parish hall.  It can be viewed at https://www.facebook.com/groups/CoGSMedia/
URL:https://goodshepherdbinghamton.org/event/tuesday-morning-bible-study-108/
END:VEVENT
BEGIN:VEVENT
DTSTART;TZID=America/New_York:20251028T070000
DTEND;TZID=America/New_York:20251028T080000
DTSTAMP:20260423T064303
CREATED:20250805T153353Z
LAST-MODIFIED:20250805T153353Z
UID:34713-1761634800-1761638400@goodshepherdbinghamton.org
SUMMARY:Morning Prayer
DESCRIPTION:Morning Prayer meets online by Zoom at 7am Monday through Friday. The liturgy and readings are available at www.dailyoffice2019.com.  \nJoin the parish email list and look for a weekly email invitation in your inbox.
URL:https://goodshepherdbinghamton.org/event/morning-prayer-201/
END:VEVENT
BEGIN:VEVENT
DTSTART;TZID=America/New_York:20251027T070000
DTEND;TZID=America/New_York:20251027T080000
DTSTAMP:20260423T064303
CREATED:20250805T153352Z
LAST-MODIFIED:20250805T153352Z
UID:34712-1761548400-1761552000@goodshepherdbinghamton.org
SUMMARY:Morning Prayer
DESCRIPTION:Morning Prayer meets online by Zoom at 7am Monday through Friday. The liturgy and readings are available at www.dailyoffice2019.com.  \nJoin the parish email list and look for a weekly email invitation in your inbox.
URL:https://goodshepherdbinghamton.org/event/morning-prayer-200/
END:VEVENT
BEGIN:VEVENT
DTSTART;TZID=America/New_York:20251026T103000
DTEND;TZID=America/New_York:20251026T120000
DTSTAMP:20260423T064303
CREATED:20250805T152938Z
LAST-MODIFIED:20250805T152938Z
UID:34583-1761474600-1761480000@goodshepherdbinghamton.org
SUMMARY:2nd Service
DESCRIPTION:This is the main service at Good Shepherd.   \nAt this service\, there is a blend of both contemporary and traditional worship music\, Bible readings\, a sermon\, confession\, and communion.   \nAt Good Shepherd you will find friendly people\, engaging sermons\, joyful worship\, practical teaching\, and lots of kids. All are welcome! \nThe bulletin is available as a digital download at www.goodshepherdbinghamton.org.   \nThe service is currently open to the public and is being livestreamed at https://www.facebook.com/groups/CoGSMedia/
URL:https://goodshepherdbinghamton.org/event/2nd-service-105/
END:VEVENT
BEGIN:VEVENT
DTSTART;TZID=America/New_York:20251026T091500
DTEND;TZID=America/New_York:20251026T101500
DTSTAMP:20260423T064303
CREATED:20250805T153015Z
LAST-MODIFIED:20250805T153015Z
UID:34600-1761470100-1761473700@goodshepherdbinghamton.org
SUMMARY:Christian Education for Everyone
DESCRIPTION:Children \nFor children aged 1-12. Good Shepherd offers Catechesis of the Good Shepherd—a program of prayer\, worship\, and scripture in specially prepared Montessori-style rooms—The Pen (1-3)\,The Pasture (3-6)\, The Vineyard (6-9)\, and The Tabernacle (9-12).  \n  \nTeens \nTeens aged 12 to 14 cover a range of topics—the Bible\, Liturgy\, Church History\, Apologetics\, the 39 Articles—in a three-year cycle. This is a discussion-style class that prepares kids for confirmation. \n  \nAdult Class  \nDiscussion and study on topics ranging from Christian literature\, the 39 articles\, church history\, difficult passages of the bible\, and more.     \nPlease contact the Good Shepherd office for more information.
URL:https://goodshepherdbinghamton.org/event/christian-education-for-everyone-31/
END:VEVENT
BEGIN:VEVENT
DTSTART;TZID=America/New_York:20251026T080000
DTEND;TZID=America/New_York:20251026T090000
DTSTAMP:20260423T064303
CREATED:20250805T152747Z
LAST-MODIFIED:20250805T152747Z
UID:34548-1761465600-1761469200@goodshepherdbinghamton.org
SUMMARY:First Service
DESCRIPTION:This is an early\, more quiet version of the service at 10:30. \nThe 8am service is not currently being live-streamed. \nThis service involves readings from the Bible\, a sermon\, offering\, confession\, and communion.  There is no music during this service.
URL:https://goodshepherdbinghamton.org/event/first-service-109/
END:VEVENT
BEGIN:VEVENT
DTSTART;TZID=America/New_York:20251026T090000
DTEND;TZID=America/New_York:20251026T120000
DTSTAMP:20260423T064303
CREATED:20250805T153132Z
LAST-MODIFIED:20251027T193618Z
UID:34642-1761469200-1761480000@goodshepherdbinghamton.org
SUMMARY:Espiscopal Visit with Bishop Dobbs
DESCRIPTION:Bishop Dobbs will be visiting Good Shepherd on October 26th. Preceding that\, Matt will be running a Christian Ed series on the 39 Articles\, the Anglican articles of faith.  If you would like to be confirmed in the Anglican tradition and formally become a member of the Anglican Church of North America\, you must complete these classes.  Bishop Dobbs will perform the confirmations during his visit.  If you would like to be confirmed\, please talk with Matt or Jon.
URL:https://goodshepherdbinghamton.org/event/espiscopal-visit-with-bishop-dobbs/
END:VEVENT
BEGIN:VEVENT
DTSTART;TZID=America/New_York:20251024T070000
DTEND;TZID=America/New_York:20251024T080000
DTSTAMP:20260423T064303
CREATED:20250805T153352Z
LAST-MODIFIED:20250805T153352Z
UID:34711-1761289200-1761292800@goodshepherdbinghamton.org
SUMMARY:Morning Prayer
DESCRIPTION:Morning Prayer meets online by Zoom at 7am Monday through Friday. The liturgy and readings are available at www.dailyoffice2019.com.  \nJoin the parish email list and look for a weekly email invitation in your inbox.
URL:https://goodshepherdbinghamton.org/event/morning-prayer-199/
END:VEVENT
BEGIN:VEVENT
DTSTART;TZID=America/New_York:20251024T063000
DTEND;TZID=America/New_York:20251024T080000
DTSTAMP:20260423T064303
CREATED:20250805T153117Z
LAST-MODIFIED:20250805T153117Z
UID:34635-1761287400-1761292800@goodshepherdbinghamton.org
SUMMARY:Men's Breakfast and Bible Study
DESCRIPTION:Every Friday morning at 6:30am men from Good Shepherd\, other area churches\, and the community gather to share a warm breakfast and study the bible. The study is expositional\, moving verse by verse through one book of the bible at a time\, with the purpose of coming to a better understanding of God and his word. \nThere is plenty of discussion\, question and answer time\, prayer\, and fellowship. You do not have to be a member of Good Shepherd or any other church to attend. The study meets at Good Shepherd\, downstairs in the parish hall. It usually ends at 8:00am but men come and go during the study according to their work schedules. Men of all ages are welcome to come\, eat\, and learn from the scriptures.This class is currently studying the book of Genesis.If you’d like more information\, please contact Jonathan Groves for a link to access the class @ jg.arrowhead@gmail.com
URL:https://goodshepherdbinghamton.org/event/mens-breakfast-and-bible-study-104/
END:VEVENT
BEGIN:VEVENT
DTSTART;TZID=America/New_York:20251023T173000
DTEND;TZID=America/New_York:20251023T183000
DTSTAMP:20260423T064303
CREATED:20250805T152844Z
LAST-MODIFIED:20250805T152844Z
UID:34565-1761240600-1761244200@goodshepherdbinghamton.org
SUMMARY:Shepherd's Bowl Community Meal
DESCRIPTION:Each Thursday evening\, Good Shepherd offers a free nutritious meal to thepeople of Good Shepherd and the wider community. If you are able\, this is a great time to get to know others and enjoya free and delicious meal. \nThe Rev. Jonathan Groves leads a beginners Bible study at 6:00 and anyone is welcome to attend.  The study is currently working on the book of Judges. \nPlease find our page on Facebook\, Shepherd’s Bowl Free Community Meal\, and follow\, like and share posts\, and invite friends. 
URL:https://goodshepherdbinghamton.org/event/shepherds-bowl-community-meal-106/
END:VEVENT
BEGIN:VEVENT
DTSTART;TZID=America/New_York:20251023T070000
DTEND;TZID=America/New_York:20251023T080000
DTSTAMP:20260423T064303
CREATED:20250805T153342Z
LAST-MODIFIED:20250805T153342Z
UID:34710-1761202800-1761206400@goodshepherdbinghamton.org
SUMMARY:Morning Prayer
DESCRIPTION:Morning Prayer meets online by Zoom at 7am Monday through Friday. The liturgy and readings are available at www.dailyoffice2019.com.  \nJoin the parish email list and look for a weekly email invitation in your inbox.
URL:https://goodshepherdbinghamton.org/event/morning-prayer-198/
END:VEVENT
END:VCALENDAR