BEGIN:VCALENDAR
VERSION:2.0
PRODID:-//Church of the Good Shepherd - ECPv6.15.20//NONSGML v1.0//EN
CALSCALE:GREGORIAN
METHOD:PUBLISH
X-WR-CALNAME:Church of the Good Shepherd
X-ORIGINAL-URL:https://goodshepherdbinghamton.org
X-WR-CALDESC:Events for Church of the Good Shepherd
REFRESH-INTERVAL;VALUE=DURATION:PT1H
X-Robots-Tag:noindex
X-PUBLISHED-TTL:PT1H
BEGIN:VTIMEZONE
TZID:America/New_York
BEGIN:DAYLIGHT
TZOFFSETFROM:-0500
TZOFFSETTO:-0400
TZNAME:EDT
DTSTART:20240310T070000
END:DAYLIGHT
BEGIN:STANDARD
TZOFFSETFROM:-0400
TZOFFSETTO:-0500
TZNAME:EST
DTSTART:20241103T060000
END:STANDARD
BEGIN:DAYLIGHT
TZOFFSETFROM:-0500
TZOFFSETTO:-0400
TZNAME:EDT
DTSTART:20250309T070000
END:DAYLIGHT
BEGIN:STANDARD
TZOFFSETFROM:-0400
TZOFFSETTO:-0500
TZNAME:EST
DTSTART:20251102T060000
END:STANDARD
BEGIN:DAYLIGHT
TZOFFSETFROM:-0500
TZOFFSETTO:-0400
TZNAME:EDT
DTSTART:20260308T070000
END:DAYLIGHT
BEGIN:STANDARD
TZOFFSETFROM:-0400
TZOFFSETTO:-0500
TZNAME:EST
DTSTART:20261101T060000
END:STANDARD
END:VTIMEZONE
BEGIN:VEVENT
DTSTART;TZID=America/New_York:20250922T070000
DTEND;TZID=America/New_York:20250922T080000
DTSTAMP:20260423T173456
CREATED:20250805T153311Z
LAST-MODIFIED:20250805T153311Z
UID:34687-1758524400-1758528000@goodshepherdbinghamton.org
SUMMARY:Morning Prayer
DESCRIPTION:Morning Prayer meets online by Zoom at 7am Monday through Friday. The liturgy and readings are available at www.dailyoffice2019.com.  \nJoin the parish email list and look for a weekly email invitation in your inbox.
URL:https://goodshepherdbinghamton.org/event/morning-prayer-175/
END:VEVENT
BEGIN:VEVENT
DTSTART;TZID=America/New_York:20250921T103000
DTEND;TZID=America/New_York:20250921T120000
DTSTAMP:20260423T173456
CREATED:20250805T152925Z
LAST-MODIFIED:20250805T152925Z
UID:34578-1758450600-1758456000@goodshepherdbinghamton.org
SUMMARY:2nd Service
DESCRIPTION:This is the main service at Good Shepherd.   \nAt this service\, there is a blend of both contemporary and traditional worship music\, Bible readings\, a sermon\, confession\, and communion.   \nAt Good Shepherd you will find friendly people\, engaging sermons\, joyful worship\, practical teaching\, and lots of kids. All are welcome! \nThe bulletin is available as a digital download at www.goodshepherdbinghamton.org.   \nThe service is currently open to the public and is being livestreamed at https://www.facebook.com/groups/CoGSMedia/
URL:https://goodshepherdbinghamton.org/event/2nd-service-100/
END:VEVENT
BEGIN:VEVENT
DTSTART;TZID=America/New_York:20250921T091500
DTEND;TZID=America/New_York:20250921T101500
DTSTAMP:20260423T173456
CREATED:20250805T153002Z
LAST-MODIFIED:20250805T153002Z
UID:34595-1758446100-1758449700@goodshepherdbinghamton.org
SUMMARY:Christian Education for Everyone
DESCRIPTION:Children \nFor children aged 1-12. Good Shepherd offers Catechesis of the Good Shepherd—a program of prayer\, worship\, and scripture in specially prepared Montessori-style rooms—The Pen (1-3)\,The Pasture (3-6)\, The Vineyard (6-9)\, and The Tabernacle (9-12).  \n  \nTeens \nTeens aged 12 to 14 cover a range of topics—the Bible\, Liturgy\, Church History\, Apologetics\, the 39 Articles—in a three-year cycle. This is a discussion-style class that prepares kids for confirmation. \n  \nAdult Class  \nDiscussion and study on topics ranging from Christian literature\, the 39 articles\, church history\, difficult passages of the bible\, and more.     \nPlease contact the Good Shepherd office for more information.
URL:https://goodshepherdbinghamton.org/event/christian-education-for-everyone-26/
END:VEVENT
BEGIN:VEVENT
DTSTART;TZID=America/New_York:20250921T080000
DTEND;TZID=America/New_York:20250921T090000
DTSTAMP:20260423T173456
CREATED:20250805T152732Z
LAST-MODIFIED:20250805T152732Z
UID:34543-1758441600-1758445200@goodshepherdbinghamton.org
SUMMARY:First Service
DESCRIPTION:This is an early\, more quiet version of the service at 10:30. \nThe 8am service is not currently being live-streamed. \nThis service involves readings from the Bible\, a sermon\, offering\, confession\, and communion.  There is no music during this service.
URL:https://goodshepherdbinghamton.org/event/first-service-104/
END:VEVENT
BEGIN:VEVENT
DTSTART;TZID=America/New_York:20250919T070000
DTEND;TZID=America/New_York:20250919T080000
DTSTAMP:20260423T173456
CREATED:20250805T153311Z
LAST-MODIFIED:20250805T153311Z
UID:34686-1758265200-1758268800@goodshepherdbinghamton.org
SUMMARY:Morning Prayer
DESCRIPTION:Morning Prayer meets online by Zoom at 7am Monday through Friday. The liturgy and readings are available at www.dailyoffice2019.com.  \nJoin the parish email list and look for a weekly email invitation in your inbox.
URL:https://goodshepherdbinghamton.org/event/morning-prayer-174/
END:VEVENT
BEGIN:VEVENT
DTSTART;TZID=America/New_York:20250919T063000
DTEND;TZID=America/New_York:20250919T080000
DTSTAMP:20260423T173456
CREATED:20250805T153110Z
LAST-MODIFIED:20250805T153110Z
UID:34630-1758263400-1758268800@goodshepherdbinghamton.org
SUMMARY:Men's Breakfast and Bible Study
DESCRIPTION:Every Friday morning at 6:30am men from Good Shepherd\, other area churches\, and the community gather to share a warm breakfast and study the bible. The study is expositional\, moving verse by verse through one book of the bible at a time\, with the purpose of coming to a better understanding of God and his word. \nThere is plenty of discussion\, question and answer time\, prayer\, and fellowship. You do not have to be a member of Good Shepherd or any other church to attend. The study meets at Good Shepherd\, downstairs in the parish hall. It usually ends at 8:00am but men come and go during the study according to their work schedules. Men of all ages are welcome to come\, eat\, and learn from the scriptures.This class is currently studying the book of Genesis.If you’d like more information\, please contact Jonathan Groves for a link to access the class @ jg.arrowhead@gmail.com
URL:https://goodshepherdbinghamton.org/event/mens-breakfast-and-bible-study-99/
END:VEVENT
BEGIN:VEVENT
DTSTART;TZID=America/New_York:20250918T173000
DTEND;TZID=America/New_York:20250918T183000
DTSTAMP:20260423T173456
CREATED:20250805T152819Z
LAST-MODIFIED:20250805T152819Z
UID:34560-1758216600-1758220200@goodshepherdbinghamton.org
SUMMARY:Shepherd's Bowl Community Meal
DESCRIPTION:Each Thursday evening\, Good Shepherd offers a free nutritious meal to thepeople of Good Shepherd and the wider community. If you are able\, this is a great time to get to know others and enjoya free and delicious meal. \nThe Rev. Jonathan Groves leads a beginners Bible study at 6:00 and anyone is welcome to attend.  The study is currently working on the book of Judges. \nPlease find our page on Facebook\, Shepherd’s Bowl Free Community Meal\, and follow\, like and share posts\, and invite friends. 
URL:https://goodshepherdbinghamton.org/event/shepherds-bowl-community-meal-101/
END:VEVENT
BEGIN:VEVENT
DTSTART;TZID=America/New_York:20250918T070000
DTEND;TZID=America/New_York:20250918T080000
DTSTAMP:20260423T173456
CREATED:20250805T153255Z
LAST-MODIFIED:20250805T153256Z
UID:34680-1758178800-1758182400@goodshepherdbinghamton.org
SUMMARY:Morning Prayer
DESCRIPTION:Morning Prayer meets online by Zoom at 7am Monday through Friday. The liturgy and readings are available at www.dailyoffice2019.com.  \nJoin the parish email list and look for a weekly email invitation in your inbox.
URL:https://goodshepherdbinghamton.org/event/morning-prayer-173/
END:VEVENT
BEGIN:VEVENT
DTSTART;TZID=America/New_York:20250917T070000
DTEND;TZID=America/New_York:20250917T080000
DTSTAMP:20260423T173456
CREATED:20250805T153254Z
LAST-MODIFIED:20250805T153256Z
UID:34679-1758092400-1758096000@goodshepherdbinghamton.org
SUMMARY:Morning Prayer
DESCRIPTION:Morning Prayer meets online by Zoom at 7am Monday through Friday. The liturgy and readings are available at www.dailyoffice2019.com.  \nJoin the parish email list and look for a weekly email invitation in your inbox.
URL:https://goodshepherdbinghamton.org/event/morning-prayer-172/
END:VEVENT
BEGIN:VEVENT
DTSTART;TZID=America/New_York:20250916T090000
DTEND;TZID=America/New_York:20250916T100000
DTSTAMP:20260423T173456
CREATED:20250805T153032Z
LAST-MODIFIED:20250805T153032Z
UID:34612-1758013200-1758016800@goodshepherdbinghamton.org
SUMMARY:Tuesday Morning Bible Study
DESCRIPTION:Tuesday Morning Bible Study meets at 9:05am to walk through different books of the bible\, verse by verse.  Taught by a member of the pastoral staff in the main room of the parish hall.  This class can be viewed in person or online each week by livestream.  \nThis class is currently working on a study focusing the book of Proverbs. \nThis class is meeting online and in person in the parish hall.  It can be viewed at https://www.facebook.com/groups/CoGSMedia/
URL:https://goodshepherdbinghamton.org/event/tuesday-morning-bible-study-102/
END:VEVENT
BEGIN:VEVENT
DTSTART;TZID=America/New_York:20250916T070000
DTEND;TZID=America/New_York:20250916T080000
DTSTAMP:20260423T173456
CREATED:20250805T153254Z
LAST-MODIFIED:20250805T153256Z
UID:34678-1758006000-1758009600@goodshepherdbinghamton.org
SUMMARY:Morning Prayer
DESCRIPTION:Morning Prayer meets online by Zoom at 7am Monday through Friday. The liturgy and readings are available at www.dailyoffice2019.com.  \nJoin the parish email list and look for a weekly email invitation in your inbox.
URL:https://goodshepherdbinghamton.org/event/morning-prayer-171/
END:VEVENT
BEGIN:VEVENT
DTSTART;TZID=America/New_York:20250915T110000
DTEND;TZID=America/New_York:20250915T120000
DTSTAMP:20260423T173456
CREATED:20250913T184447Z
LAST-MODIFIED:20250913T184451Z
UID:34796-1757934000-1757937600@goodshepherdbinghamton.org
SUMMARY:Funeral for Susan Dewing
DESCRIPTION:There will be a funeral for Susan Dewing at Good Shepherd on Monday\, September 15\, at 11am.   \n\n\n\nThe Mary & Martha Guild will be hosting a luncheon in the parish hall immediately after the service.  Please keep the Dewing family in your prayers as they mourn the loss of Susan.
URL:https://goodshepherdbinghamton.org/event/funeral-for-susan-dewing/
END:VEVENT
BEGIN:VEVENT
DTSTART;TZID=America/New_York:20250915T070000
DTEND;TZID=America/New_York:20250915T080000
DTSTAMP:20260423T173456
CREATED:20250805T153254Z
LAST-MODIFIED:20250805T153256Z
UID:34677-1757919600-1757923200@goodshepherdbinghamton.org
SUMMARY:Morning Prayer
DESCRIPTION:Morning Prayer meets online by Zoom at 7am Monday through Friday. The liturgy and readings are available at www.dailyoffice2019.com.  \nJoin the parish email list and look for a weekly email invitation in your inbox.
URL:https://goodshepherdbinghamton.org/event/morning-prayer-170/
END:VEVENT
BEGIN:VEVENT
DTSTART;TZID=America/New_York:20250914T103000
DTEND;TZID=America/New_York:20250914T120000
DTSTAMP:20260423T173456
CREATED:20250805T152925Z
LAST-MODIFIED:20250805T152925Z
UID:34577-1757845800-1757851200@goodshepherdbinghamton.org
SUMMARY:2nd Service
DESCRIPTION:This is the main service at Good Shepherd.   \nAt this service\, there is a blend of both contemporary and traditional worship music\, Bible readings\, a sermon\, confession\, and communion.   \nAt Good Shepherd you will find friendly people\, engaging sermons\, joyful worship\, practical teaching\, and lots of kids. All are welcome! \nThe bulletin is available as a digital download at www.goodshepherdbinghamton.org.   \nThe service is currently open to the public and is being livestreamed at https://www.facebook.com/groups/CoGSMedia/
URL:https://goodshepherdbinghamton.org/event/2nd-service-99/
END:VEVENT
BEGIN:VEVENT
DTSTART;TZID=America/New_York:20250914T091500
DTEND;TZID=America/New_York:20250914T101500
DTSTAMP:20260423T173456
CREATED:20250805T153002Z
LAST-MODIFIED:20250805T153002Z
UID:34594-1757841300-1757844900@goodshepherdbinghamton.org
SUMMARY:Christian Education for Everyone
DESCRIPTION:Children \nFor children aged 1-12. Good Shepherd offers Catechesis of the Good Shepherd—a program of prayer\, worship\, and scripture in specially prepared Montessori-style rooms—The Pen (1-3)\,The Pasture (3-6)\, The Vineyard (6-9)\, and The Tabernacle (9-12).  \n  \nTeens \nTeens aged 12 to 14 cover a range of topics—the Bible\, Liturgy\, Church History\, Apologetics\, the 39 Articles—in a three-year cycle. This is a discussion-style class that prepares kids for confirmation. \n  \nAdult Class  \nDiscussion and study on topics ranging from Christian literature\, the 39 articles\, church history\, difficult passages of the bible\, and more.     \nPlease contact the Good Shepherd office for more information.
URL:https://goodshepherdbinghamton.org/event/christian-education-for-everyone-25/
END:VEVENT
BEGIN:VEVENT
DTSTART;TZID=America/New_York:20250914T080000
DTEND;TZID=America/New_York:20250914T090000
DTSTAMP:20260423T173456
CREATED:20250805T152732Z
LAST-MODIFIED:20250805T152732Z
UID:34542-1757836800-1757840400@goodshepherdbinghamton.org
SUMMARY:First Service
DESCRIPTION:This is an early\, more quiet version of the service at 10:30. \nThe 8am service is not currently being live-streamed. \nThis service involves readings from the Bible\, a sermon\, offering\, confession\, and communion.  There is no music during this service.
URL:https://goodshepherdbinghamton.org/event/first-service-103/
END:VEVENT
BEGIN:VEVENT
DTSTART;TZID=America/New_York:20250912T070000
DTEND;TZID=America/New_York:20250912T080000
DTSTAMP:20260423T173456
CREATED:20250805T153254Z
LAST-MODIFIED:20250805T153255Z
UID:34676-1757660400-1757664000@goodshepherdbinghamton.org
SUMMARY:Morning Prayer
DESCRIPTION:Morning Prayer meets online by Zoom at 7am Monday through Friday. The liturgy and readings are available at www.dailyoffice2019.com.  \nJoin the parish email list and look for a weekly email invitation in your inbox.
URL:https://goodshepherdbinghamton.org/event/morning-prayer-169/
END:VEVENT
BEGIN:VEVENT
DTSTART;TZID=America/New_York:20250912T063000
DTEND;TZID=America/New_York:20250912T080000
DTSTAMP:20260423T173456
CREATED:20250805T153110Z
LAST-MODIFIED:20250805T153110Z
UID:34629-1757658600-1757664000@goodshepherdbinghamton.org
SUMMARY:Men's Breakfast and Bible Study
DESCRIPTION:Every Friday morning at 6:30am men from Good Shepherd\, other area churches\, and the community gather to share a warm breakfast and study the bible. The study is expositional\, moving verse by verse through one book of the bible at a time\, with the purpose of coming to a better understanding of God and his word. \nThere is plenty of discussion\, question and answer time\, prayer\, and fellowship. You do not have to be a member of Good Shepherd or any other church to attend. The study meets at Good Shepherd\, downstairs in the parish hall. It usually ends at 8:00am but men come and go during the study according to their work schedules. Men of all ages are welcome to come\, eat\, and learn from the scriptures.This class is currently studying the book of Genesis.If you’d like more information\, please contact Jonathan Groves for a link to access the class @ jg.arrowhead@gmail.com
URL:https://goodshepherdbinghamton.org/event/mens-breakfast-and-bible-study-98/
END:VEVENT
BEGIN:VEVENT
DTSTART;TZID=America/New_York:20250911T173000
DTEND;TZID=America/New_York:20250911T183000
DTSTAMP:20260423T173456
CREATED:20250805T152818Z
LAST-MODIFIED:20250805T152818Z
UID:34559-1757611800-1757615400@goodshepherdbinghamton.org
SUMMARY:Shepherd's Bowl Community Meal
DESCRIPTION:Each Thursday evening\, Good Shepherd offers a free nutritious meal to thepeople of Good Shepherd and the wider community. If you are able\, this is a great time to get to know others and enjoya free and delicious meal. \nThe Rev. Jonathan Groves leads a beginners Bible study at 6:00 and anyone is welcome to attend.  The study is currently working on the book of Judges. \nPlease find our page on Facebook\, Shepherd’s Bowl Free Community Meal\, and follow\, like and share posts\, and invite friends. 
URL:https://goodshepherdbinghamton.org/event/shepherds-bowl-community-meal-100/
END:VEVENT
BEGIN:VEVENT
DTSTART;TZID=America/New_York:20250911T070000
DTEND;TZID=America/New_York:20250911T080000
DTSTAMP:20260423T173456
CREATED:20250805T153238Z
LAST-MODIFIED:20250805T153238Z
UID:34675-1757574000-1757577600@goodshepherdbinghamton.org
SUMMARY:Morning Prayer
DESCRIPTION:Morning Prayer meets online by Zoom at 7am Monday through Friday. The liturgy and readings are available at www.dailyoffice2019.com.  \nJoin the parish email list and look for a weekly email invitation in your inbox.
URL:https://goodshepherdbinghamton.org/event/morning-prayer-168/
END:VEVENT
BEGIN:VEVENT
DTSTART;TZID=America/New_York:20250910T070000
DTEND;TZID=America/New_York:20250910T080000
DTSTAMP:20260423T173456
CREATED:20250805T153238Z
LAST-MODIFIED:20250805T153238Z
UID:34674-1757487600-1757491200@goodshepherdbinghamton.org
SUMMARY:Morning Prayer
DESCRIPTION:Morning Prayer meets online by Zoom at 7am Monday through Friday. The liturgy and readings are available at www.dailyoffice2019.com.  \nJoin the parish email list and look for a weekly email invitation in your inbox.
URL:https://goodshepherdbinghamton.org/event/morning-prayer-167/
END:VEVENT
BEGIN:VEVENT
DTSTART;TZID=America/New_York:20250909T090000
DTEND;TZID=America/New_York:20250909T100000
DTSTAMP:20260423T173456
CREATED:20250805T153032Z
LAST-MODIFIED:20250805T153032Z
UID:34611-1757408400-1757412000@goodshepherdbinghamton.org
SUMMARY:Tuesday Morning Bible Study
DESCRIPTION:Tuesday Morning Bible Study meets at 9:05am to walk through different books of the bible\, verse by verse.  Taught by a member of the pastoral staff in the main room of the parish hall.  This class can be viewed in person or online each week by livestream.  \nThis class is currently working on a study focusing the book of Proverbs. \nThis class is meeting online and in person in the parish hall.  It can be viewed at https://www.facebook.com/groups/CoGSMedia/
URL:https://goodshepherdbinghamton.org/event/tuesday-morning-bible-study-101/
END:VEVENT
BEGIN:VEVENT
DTSTART;TZID=America/New_York:20250909T070000
DTEND;TZID=America/New_York:20250909T080000
DTSTAMP:20260423T173456
CREATED:20250805T153237Z
LAST-MODIFIED:20250805T153237Z
UID:34673-1757401200-1757404800@goodshepherdbinghamton.org
SUMMARY:Morning Prayer
DESCRIPTION:Morning Prayer meets online by Zoom at 7am Monday through Friday. The liturgy and readings are available at www.dailyoffice2019.com.  \nJoin the parish email list and look for a weekly email invitation in your inbox.
URL:https://goodshepherdbinghamton.org/event/morning-prayer-166/
END:VEVENT
BEGIN:VEVENT
DTSTART;TZID=America/New_York:20250908T070000
DTEND;TZID=America/New_York:20250908T080000
DTSTAMP:20260423T173456
CREATED:20250805T153237Z
LAST-MODIFIED:20250805T153237Z
UID:34672-1757314800-1757318400@goodshepherdbinghamton.org
SUMMARY:Morning Prayer
DESCRIPTION:Morning Prayer meets online by Zoom at 7am Monday through Friday. The liturgy and readings are available at www.dailyoffice2019.com.  \nJoin the parish email list and look for a weekly email invitation in your inbox.
URL:https://goodshepherdbinghamton.org/event/morning-prayer-165/
END:VEVENT
BEGIN:VEVENT
DTSTART;TZID=America/New_York:20250907T103000
DTEND;TZID=America/New_York:20250907T120000
DTSTAMP:20260423T173456
CREATED:20250805T152925Z
LAST-MODIFIED:20250805T152925Z
UID:34576-1757241000-1757246400@goodshepherdbinghamton.org
SUMMARY:2nd Service
DESCRIPTION:This is the main service at Good Shepherd.   \nAt this service\, there is a blend of both contemporary and traditional worship music\, Bible readings\, a sermon\, confession\, and communion.   \nAt Good Shepherd you will find friendly people\, engaging sermons\, joyful worship\, practical teaching\, and lots of kids. All are welcome! \nThe bulletin is available as a digital download at www.goodshepherdbinghamton.org.   \nThe service is currently open to the public and is being livestreamed at https://www.facebook.com/groups/CoGSMedia/
URL:https://goodshepherdbinghamton.org/event/2nd-service-98/
END:VEVENT
BEGIN:VEVENT
DTSTART;TZID=America/New_York:20250907T091500
DTEND;TZID=America/New_York:20250907T101500
DTSTAMP:20260423T173456
CREATED:20250805T153002Z
LAST-MODIFIED:20250805T153002Z
UID:34593-1757236500-1757240100@goodshepherdbinghamton.org
SUMMARY:Christian Education for Everyone
DESCRIPTION:Children \nFor children aged 1-12. Good Shepherd offers Catechesis of the Good Shepherd—a program of prayer\, worship\, and scripture in specially prepared Montessori-style rooms—The Pen (1-3)\,The Pasture (3-6)\, The Vineyard (6-9)\, and The Tabernacle (9-12).  \n  \nTeens \nTeens aged 12 to 14 cover a range of topics—the Bible\, Liturgy\, Church History\, Apologetics\, the 39 Articles—in a three-year cycle. This is a discussion-style class that prepares kids for confirmation. \n  \nAdult Class  \nDiscussion and study on topics ranging from Christian literature\, the 39 articles\, church history\, difficult passages of the bible\, and more.     \nPlease contact the Good Shepherd office for more information.
URL:https://goodshepherdbinghamton.org/event/christian-education-for-everyone-24/
END:VEVENT
BEGIN:VEVENT
DTSTART;TZID=America/New_York:20250907T080000
DTEND;TZID=America/New_York:20250907T090000
DTSTAMP:20260423T173456
CREATED:20250805T152732Z
LAST-MODIFIED:20250805T152732Z
UID:34541-1757232000-1757235600@goodshepherdbinghamton.org
SUMMARY:First Service
DESCRIPTION:This is an early\, more quiet version of the service at 10:30. \nThe 8am service is not currently being live-streamed. \nThis service involves readings from the Bible\, a sermon\, offering\, confession\, and communion.  There is no music during this service.
URL:https://goodshepherdbinghamton.org/event/first-service-102/
END:VEVENT
BEGIN:VEVENT
DTSTART;TZID=America/New_York:20250905T070000
DTEND;TZID=America/New_York:20250905T080000
DTSTAMP:20260423T173456
CREATED:20250805T153237Z
LAST-MODIFIED:20250805T153237Z
UID:34671-1757055600-1757059200@goodshepherdbinghamton.org
SUMMARY:Morning Prayer
DESCRIPTION:Morning Prayer meets online by Zoom at 7am Monday through Friday. The liturgy and readings are available at www.dailyoffice2019.com.  \nJoin the parish email list and look for a weekly email invitation in your inbox.
URL:https://goodshepherdbinghamton.org/event/morning-prayer-164/
END:VEVENT
BEGIN:VEVENT
DTSTART;TZID=America/New_York:20250905T063000
DTEND;TZID=America/New_York:20250905T080000
DTSTAMP:20260423T173456
CREATED:20250805T153110Z
LAST-MODIFIED:20250805T153110Z
UID:34628-1757053800-1757059200@goodshepherdbinghamton.org
SUMMARY:Men's Breakfast and Bible Study
DESCRIPTION:Every Friday morning at 6:30am men from Good Shepherd\, other area churches\, and the community gather to share a warm breakfast and study the bible. The study is expositional\, moving verse by verse through one book of the bible at a time\, with the purpose of coming to a better understanding of God and his word. \nThere is plenty of discussion\, question and answer time\, prayer\, and fellowship. You do not have to be a member of Good Shepherd or any other church to attend. The study meets at Good Shepherd\, downstairs in the parish hall. It usually ends at 8:00am but men come and go during the study according to their work schedules. Men of all ages are welcome to come\, eat\, and learn from the scriptures.This class is currently studying the book of Genesis.If you’d like more information\, please contact Jonathan Groves for a link to access the class @ jg.arrowhead@gmail.com
URL:https://goodshepherdbinghamton.org/event/mens-breakfast-and-bible-study-97/
END:VEVENT
BEGIN:VEVENT
DTSTART;TZID=America/New_York:20250904T173000
DTEND;TZID=America/New_York:20250904T183000
DTSTAMP:20260423T173456
CREATED:20250805T152818Z
LAST-MODIFIED:20250805T152818Z
UID:34558-1757007000-1757010600@goodshepherdbinghamton.org
SUMMARY:Shepherd's Bowl Community Meal
DESCRIPTION:Each Thursday evening\, Good Shepherd offers a free nutritious meal to thepeople of Good Shepherd and the wider community. If you are able\, this is a great time to get to know others and enjoya free and delicious meal. \nThe Rev. Jonathan Groves leads a beginners Bible study at 6:00 and anyone is welcome to attend.  The study is currently working on the book of Judges. \nPlease find our page on Facebook\, Shepherd’s Bowl Free Community Meal\, and follow\, like and share posts\, and invite friends. 
URL:https://goodshepherdbinghamton.org/event/shepherds-bowl-community-meal-99/
END:VEVENT
END:VCALENDAR