BEGIN:VCALENDAR
VERSION:2.0
PRODID:-//Church of the Good Shepherd - ECPv6.15.20//NONSGML v1.0//EN
CALSCALE:GREGORIAN
METHOD:PUBLISH
X-WR-CALNAME:Church of the Good Shepherd
X-ORIGINAL-URL:https://goodshepherdbinghamton.org
X-WR-CALDESC:Events for Church of the Good Shepherd
REFRESH-INTERVAL;VALUE=DURATION:PT1H
X-Robots-Tag:noindex
X-PUBLISHED-TTL:PT1H
BEGIN:VTIMEZONE
TZID:America/New_York
BEGIN:DAYLIGHT
TZOFFSETFROM:-0500
TZOFFSETTO:-0400
TZNAME:EDT
DTSTART:20240310T070000
END:DAYLIGHT
BEGIN:STANDARD
TZOFFSETFROM:-0400
TZOFFSETTO:-0500
TZNAME:EST
DTSTART:20241103T060000
END:STANDARD
BEGIN:DAYLIGHT
TZOFFSETFROM:-0500
TZOFFSETTO:-0400
TZNAME:EDT
DTSTART:20250309T070000
END:DAYLIGHT
BEGIN:STANDARD
TZOFFSETFROM:-0400
TZOFFSETTO:-0500
TZNAME:EST
DTSTART:20251102T060000
END:STANDARD
BEGIN:DAYLIGHT
TZOFFSETFROM:-0500
TZOFFSETTO:-0400
TZNAME:EDT
DTSTART:20260308T070000
END:DAYLIGHT
BEGIN:STANDARD
TZOFFSETFROM:-0400
TZOFFSETTO:-0500
TZNAME:EST
DTSTART:20261101T060000
END:STANDARD
END:VTIMEZONE
BEGIN:VEVENT
DTSTART;TZID=America/New_York:20250824T103000
DTEND;TZID=America/New_York:20250824T120000
DTSTAMP:20260423T191443
CREATED:20250805T152908Z
LAST-MODIFIED:20250805T152908Z
UID:34574-1756031400-1756036800@goodshepherdbinghamton.org
SUMMARY:2nd Service
DESCRIPTION:This is the main service at Good Shepherd.   \nAt this service\, there is a blend of both contemporary and traditional worship music\, Bible readings\, a sermon\, confession\, and communion.   \nAt Good Shepherd you will find friendly people\, engaging sermons\, joyful worship\, practical teaching\, and lots of kids. All are welcome! \nThe bulletin is available as a digital download at www.goodshepherdbinghamton.org.   \nThe service is currently open to the public and is being livestreamed at https://www.facebook.com/groups/CoGSMedia/
URL:https://goodshepherdbinghamton.org/event/2nd-service-96/
END:VEVENT
BEGIN:VEVENT
DTSTART;TZID=America/New_York:20250824T091500
DTEND;TZID=America/New_York:20250824T101500
DTSTAMP:20260423T191443
CREATED:20250805T153001Z
LAST-MODIFIED:20250805T153001Z
UID:34591-1756026900-1756030500@goodshepherdbinghamton.org
SUMMARY:Christian Education for Everyone
DESCRIPTION:Children \nFor children aged 1-12. Good Shepherd offers Catechesis of the Good Shepherd—a program of prayer\, worship\, and scripture in specially prepared Montessori-style rooms—The Pen (1-3)\,The Pasture (3-6)\, The Vineyard (6-9)\, and The Tabernacle (9-12).  \n  \nTeens \nTeens aged 12 to 14 cover a range of topics—the Bible\, Liturgy\, Church History\, Apologetics\, the 39 Articles—in a three-year cycle. This is a discussion-style class that prepares kids for confirmation. \n  \nAdult Class  \nDiscussion and study on topics ranging from Christian literature\, the 39 articles\, church history\, difficult passages of the bible\, and more.     \nPlease contact the Good Shepherd office for more information.
URL:https://goodshepherdbinghamton.org/event/christian-education-for-everyone-22/
END:VEVENT
BEGIN:VEVENT
DTSTART;TZID=America/New_York:20250824T080000
DTEND;TZID=America/New_York:20250824T090000
DTSTAMP:20260423T191443
CREATED:20250805T152729Z
LAST-MODIFIED:20250805T152729Z
UID:34539-1756022400-1756026000@goodshepherdbinghamton.org
SUMMARY:First Service
DESCRIPTION:This is an early\, more quiet version of the service at 10:30. \nThe 8am service is not currently being live-streamed. \nThis service involves readings from the Bible\, a sermon\, offering\, confession\, and communion.  There is no music during this service.
URL:https://goodshepherdbinghamton.org/event/first-service-100/
END:VEVENT
BEGIN:VEVENT
DTSTART;TZID=America/New_York:20250822T070000
DTEND;TZID=America/New_York:20250822T080000
DTSTAMP:20260423T191443
CREATED:20250805T153218Z
LAST-MODIFIED:20250805T153218Z
UID:34661-1755846000-1755849600@goodshepherdbinghamton.org
SUMMARY:Morning Prayer
DESCRIPTION:Morning Prayer meets online by Zoom at 7am Monday through Friday. The liturgy and readings are available at www.dailyoffice2019.com.  \nJoin the parish email list and look for a weekly email invitation in your inbox.
URL:https://goodshepherdbinghamton.org/event/morning-prayer-154/
END:VEVENT
BEGIN:VEVENT
DTSTART;TZID=America/New_York:20250822T063000
DTEND;TZID=America/New_York:20250822T080000
DTSTAMP:20260423T191443
CREATED:20250805T153109Z
LAST-MODIFIED:20250805T153109Z
UID:34626-1755844200-1755849600@goodshepherdbinghamton.org
SUMMARY:Men's Breakfast and Bible Study
DESCRIPTION:Every Friday morning at 6:30am men from Good Shepherd\, other area churches\, and the community gather to share a warm breakfast and study the bible. The study is expositional\, moving verse by verse through one book of the bible at a time\, with the purpose of coming to a better understanding of God and his word. \nThere is plenty of discussion\, question and answer time\, prayer\, and fellowship. You do not have to be a member of Good Shepherd or any other church to attend. The study meets at Good Shepherd\, downstairs in the parish hall. It usually ends at 8:00am but men come and go during the study according to their work schedules. Men of all ages are welcome to come\, eat\, and learn from the scriptures.This class is currently studying the book of Genesis.If you’d like more information\, please contact Jonathan Groves for a link to access the class @ jg.arrowhead@gmail.com
URL:https://goodshepherdbinghamton.org/event/mens-breakfast-and-bible-study-95/
END:VEVENT
BEGIN:VEVENT
DTSTART;TZID=America/New_York:20250821T173000
DTEND;TZID=America/New_York:20250821T183000
DTSTAMP:20260423T191443
CREATED:20250805T152817Z
LAST-MODIFIED:20250805T152817Z
UID:34556-1755797400-1755801000@goodshepherdbinghamton.org
SUMMARY:Shepherd's Bowl Community Meal
DESCRIPTION:Each Thursday evening\, Good Shepherd offers a free nutritious meal to thepeople of Good Shepherd and the wider community. If you are able\, this is a great time to get to know others and enjoya free and delicious meal. \nThe Rev. Jonathan Groves leads a beginners Bible study at 6:00 and anyone is welcome to attend.  The study is currently working on the book of Judges. \nPlease find our page on Facebook\, Shepherd’s Bowl Free Community Meal\, and follow\, like and share posts\, and invite friends. 
URL:https://goodshepherdbinghamton.org/event/shepherds-bowl-community-meal-97/
END:VEVENT
BEGIN:VEVENT
DTSTART;TZID=America/New_York:20250821T070000
DTEND;TZID=America/New_York:20250821T080000
DTSTAMP:20260423T191443
CREATED:20250805T153208Z
LAST-MODIFIED:20250805T153208Z
UID:34660-1755759600-1755763200@goodshepherdbinghamton.org
SUMMARY:Morning Prayer
DESCRIPTION:Morning Prayer meets online by Zoom at 7am Monday through Friday. The liturgy and readings are available at www.dailyoffice2019.com.  \nJoin the parish email list and look for a weekly email invitation in your inbox.
URL:https://goodshepherdbinghamton.org/event/morning-prayer-153/
END:VEVENT
BEGIN:VEVENT
DTSTART;TZID=America/New_York:20250820T070000
DTEND;TZID=America/New_York:20250820T080000
DTSTAMP:20260423T191443
CREATED:20250805T153208Z
LAST-MODIFIED:20250805T153208Z
UID:34659-1755673200-1755676800@goodshepherdbinghamton.org
SUMMARY:Morning Prayer
DESCRIPTION:Morning Prayer meets online by Zoom at 7am Monday through Friday. The liturgy and readings are available at www.dailyoffice2019.com.  \nJoin the parish email list and look for a weekly email invitation in your inbox.
URL:https://goodshepherdbinghamton.org/event/morning-prayer-152/
END:VEVENT
BEGIN:VEVENT
DTSTART;TZID=America/New_York:20250819T090000
DTEND;TZID=America/New_York:20250819T100000
DTSTAMP:20260423T191443
CREATED:20250805T153026Z
LAST-MODIFIED:20250805T153026Z
UID:34608-1755594000-1755597600@goodshepherdbinghamton.org
SUMMARY:Tuesday Morning Bible Study
DESCRIPTION:Tuesday Morning Bible Study meets at 9:05am to walk through different books of the bible\, verse by verse.  Taught by a member of the pastoral staff in the main room of the parish hall.  This class can be viewed in person or online each week by livestream.  \nThis class is currently working on a study focusing the book of Proverbs. \nThis class is meeting online and in person in the parish hall.  It can be viewed at https://www.facebook.com/groups/CoGSMedia/
URL:https://goodshepherdbinghamton.org/event/tuesday-morning-bible-study-98/
END:VEVENT
BEGIN:VEVENT
DTSTART;TZID=America/New_York:20250819T070000
DTEND;TZID=America/New_York:20250819T080000
DTSTAMP:20260423T191443
CREATED:20250805T153207Z
LAST-MODIFIED:20250805T153207Z
UID:34658-1755586800-1755590400@goodshepherdbinghamton.org
SUMMARY:Morning Prayer
DESCRIPTION:Morning Prayer meets online by Zoom at 7am Monday through Friday. The liturgy and readings are available at www.dailyoffice2019.com.  \nJoin the parish email list and look for a weekly email invitation in your inbox.
URL:https://goodshepherdbinghamton.org/event/morning-prayer-151/
END:VEVENT
BEGIN:VEVENT
DTSTART;TZID=America/New_York:20250818T070000
DTEND;TZID=America/New_York:20250818T080000
DTSTAMP:20260423T191443
CREATED:20250805T153207Z
LAST-MODIFIED:20250805T153207Z
UID:34657-1755500400-1755504000@goodshepherdbinghamton.org
SUMMARY:Morning Prayer
DESCRIPTION:Morning Prayer meets online by Zoom at 7am Monday through Friday. The liturgy and readings are available at www.dailyoffice2019.com.  \nJoin the parish email list and look for a weekly email invitation in your inbox.
URL:https://goodshepherdbinghamton.org/event/morning-prayer-150/
END:VEVENT
BEGIN:VEVENT
DTSTART;TZID=America/New_York:20250817T103000
DTEND;TZID=America/New_York:20250817T120000
DTSTAMP:20260423T191443
CREATED:20250805T152908Z
LAST-MODIFIED:20250805T152908Z
UID:34573-1755426600-1755432000@goodshepherdbinghamton.org
SUMMARY:2nd Service
DESCRIPTION:This is the main service at Good Shepherd.   \nAt this service\, there is a blend of both contemporary and traditional worship music\, Bible readings\, a sermon\, confession\, and communion.   \nAt Good Shepherd you will find friendly people\, engaging sermons\, joyful worship\, practical teaching\, and lots of kids. All are welcome! \nThe bulletin is available as a digital download at www.goodshepherdbinghamton.org.   \nThe service is currently open to the public and is being livestreamed at https://www.facebook.com/groups/CoGSMedia/
URL:https://goodshepherdbinghamton.org/event/2nd-service-95/
END:VEVENT
BEGIN:VEVENT
DTSTART;TZID=America/New_York:20250817T091500
DTEND;TZID=America/New_York:20250817T101500
DTSTAMP:20260423T191443
CREATED:20250805T152955Z
LAST-MODIFIED:20250805T152955Z
UID:34590-1755422100-1755425700@goodshepherdbinghamton.org
SUMMARY:Christian Education for Everyone
DESCRIPTION:Children \nFor children aged 1-12. Good Shepherd offers Catechesis of the Good Shepherd—a program of prayer\, worship\, and scripture in specially prepared Montessori-style rooms—The Pen (1-3)\,The Pasture (3-6)\, The Vineyard (6-9)\, and The Tabernacle (9-12).  \n  \nTeens \nTeens aged 12 to 14 cover a range of topics—the Bible\, Liturgy\, Church History\, Apologetics\, the 39 Articles—in a three-year cycle. This is a discussion-style class that prepares kids for confirmation. \n  \nAdult Class  \nDiscussion and study on topics ranging from Christian literature\, the 39 articles\, church history\, difficult passages of the bible\, and more.     \nPlease contact the Good Shepherd office for more information.
URL:https://goodshepherdbinghamton.org/event/christian-education-for-everyone-21/
END:VEVENT
BEGIN:VEVENT
DTSTART;TZID=America/New_York:20250817T080000
DTEND;TZID=America/New_York:20250817T090000
DTSTAMP:20260423T191443
CREATED:20250805T152728Z
LAST-MODIFIED:20250805T152728Z
UID:34538-1755417600-1755421200@goodshepherdbinghamton.org
SUMMARY:First Service
DESCRIPTION:This is an early\, more quiet version of the service at 10:30. \nThe 8am service is not currently being live-streamed. \nThis service involves readings from the Bible\, a sermon\, offering\, confession\, and communion.  There is no music during this service.
URL:https://goodshepherdbinghamton.org/event/first-service-99/
END:VEVENT
BEGIN:VEVENT
DTSTART;TZID=America/New_York:20250816T150000
DTEND;TZID=America/New_York:20250816T160000
DTSTAMP:20260423T191443
CREATED:20250805T153129Z
LAST-MODIFIED:20250805T153129Z
UID:34640-1755356400-1755360000@goodshepherdbinghamton.org
SUMMARY:Memorial Service: Pauline King
DESCRIPTION:Good Shepherd will be holding a memorial service for Pauline King on August 16 at 3pm.  \nLunch will be served by the Mary & Martha Guild\, a ministry of Church of the Good Shepherd\, in the parish hall following the service.
URL:https://goodshepherdbinghamton.org/event/memorial-service-pauline-king/
END:VEVENT
BEGIN:VEVENT
DTSTART;TZID=America/New_York:20250816T103000
DTEND;TZID=America/New_York:20250816T133000
DTSTAMP:20260423T191443
CREATED:20250805T153129Z
LAST-MODIFIED:20250805T153129Z
UID:34639-1755340200-1755351000@goodshepherdbinghamton.org
SUMMARY:The Consecration of Bishop Elect Marc Steele
DESCRIPTION:On August 16th\, Good Shepherd will be hosting the consecration service for ADLW’s newly elected suffragan bishop\, Marc Richard Steele. The service is open to the public.  If you would like to attend\, please click here to register and find additional information.
URL:https://goodshepherdbinghamton.org/event/the-consecration-of-bishop-elect-marc-steele/
END:VEVENT
BEGIN:VEVENT
DTSTART;TZID=America/New_York:20250815T070000
DTEND;TZID=America/New_York:20250815T080000
DTSTAMP:20260423T191443
CREATED:20250805T153207Z
LAST-MODIFIED:20250805T153207Z
UID:34656-1755241200-1755244800@goodshepherdbinghamton.org
SUMMARY:Morning Prayer
DESCRIPTION:Morning Prayer meets online by Zoom at 7am Monday through Friday. The liturgy and readings are available at www.dailyoffice2019.com.  \nJoin the parish email list and look for a weekly email invitation in your inbox.
URL:https://goodshepherdbinghamton.org/event/morning-prayer-149/
END:VEVENT
BEGIN:VEVENT
DTSTART;TZID=America/New_York:20250815T063000
DTEND;TZID=America/New_York:20250815T080000
DTSTAMP:20260423T191443
CREATED:20250805T153102Z
LAST-MODIFIED:20250805T153102Z
UID:34625-1755239400-1755244800@goodshepherdbinghamton.org
SUMMARY:Men's Breakfast and Bible Study
DESCRIPTION:Every Friday morning at 6:30am men from Good Shepherd\, other area churches\, and the community gather to share a warm breakfast and study the bible. The study is expositional\, moving verse by verse through one book of the bible at a time\, with the purpose of coming to a better understanding of God and his word. \nThere is plenty of discussion\, question and answer time\, prayer\, and fellowship. You do not have to be a member of Good Shepherd or any other church to attend. The study meets at Good Shepherd\, downstairs in the parish hall. It usually ends at 8:00am but men come and go during the study according to their work schedules. Men of all ages are welcome to come\, eat\, and learn from the scriptures.This class is currently studying the book of Genesis.If you’d like more information\, please contact Jonathan Groves for a link to access the class @ jg.arrowhead@gmail.com
URL:https://goodshepherdbinghamton.org/event/mens-breakfast-and-bible-study-94/
END:VEVENT
BEGIN:VEVENT
DTSTART;TZID=America/New_York:20250814T173000
DTEND;TZID=America/New_York:20250814T183000
DTSTAMP:20260423T191443
CREATED:20250805T152803Z
LAST-MODIFIED:20250805T152803Z
UID:34555-1755192600-1755196200@goodshepherdbinghamton.org
SUMMARY:Shepherd's Bowl Community Meal
DESCRIPTION:Each Thursday evening\, Good Shepherd offers a free nutritious meal to thepeople of Good Shepherd and the wider community. If you are able\, this is a great time to get to know others and enjoya free and delicious meal. \nThe Rev. Jonathan Groves leads a beginners Bible study at 6:00 and anyone is welcome to attend.  The study is currently working on the book of Judges. \nPlease find our page on Facebook\, Shepherd’s Bowl Free Community Meal\, and follow\, like and share posts\, and invite friends. 
URL:https://goodshepherdbinghamton.org/event/shepherds-bowl-community-meal-96/
END:VEVENT
BEGIN:VEVENT
DTSTART;TZID=America/New_York:20250814T070000
DTEND;TZID=America/New_York:20250814T080000
DTSTAMP:20260423T191443
CREATED:20250805T153200Z
LAST-MODIFIED:20250805T153200Z
UID:34655-1755154800-1755158400@goodshepherdbinghamton.org
SUMMARY:Morning Prayer
DESCRIPTION:Morning Prayer meets online by Zoom at 7am Monday through Friday. The liturgy and readings are available at www.dailyoffice2019.com.  \nJoin the parish email list and look for a weekly email invitation in your inbox.
URL:https://goodshepherdbinghamton.org/event/morning-prayer-148/
END:VEVENT
BEGIN:VEVENT
DTSTART;TZID=America/New_York:20250813T070000
DTEND;TZID=America/New_York:20250813T080000
DTSTAMP:20260423T191443
CREATED:20250805T153200Z
LAST-MODIFIED:20250805T153200Z
UID:34654-1755068400-1755072000@goodshepherdbinghamton.org
SUMMARY:Morning Prayer
DESCRIPTION:Morning Prayer meets online by Zoom at 7am Monday through Friday. The liturgy and readings are available at www.dailyoffice2019.com.  \nJoin the parish email list and look for a weekly email invitation in your inbox.
URL:https://goodshepherdbinghamton.org/event/morning-prayer-147/
END:VEVENT
BEGIN:VEVENT
DTSTART;TZID=America/New_York:20250812T090000
DTEND;TZID=America/New_York:20250812T100000
DTSTAMP:20260423T191443
CREATED:20250805T153026Z
LAST-MODIFIED:20250805T153026Z
UID:34607-1754989200-1754992800@goodshepherdbinghamton.org
SUMMARY:Tuesday Morning Bible Study
DESCRIPTION:Tuesday Morning Bible Study meets at 9:05am to walk through different books of the bible\, verse by verse.  Taught by a member of the pastoral staff in the main room of the parish hall.  This class can be viewed in person or online each week by livestream.  \nThis class is currently working on a study focusing the book of Proverbs. \nThis class is meeting online and in person in the parish hall.  It can be viewed at https://www.facebook.com/groups/CoGSMedia/
URL:https://goodshepherdbinghamton.org/event/tuesday-morning-bible-study-97/
END:VEVENT
BEGIN:VEVENT
DTSTART;TZID=America/New_York:20250812T070000
DTEND;TZID=America/New_York:20250812T080000
DTSTAMP:20260423T191443
CREATED:20250805T153200Z
LAST-MODIFIED:20250805T153200Z
UID:34653-1754982000-1754985600@goodshepherdbinghamton.org
SUMMARY:Morning Prayer
DESCRIPTION:Morning Prayer meets online by Zoom at 7am Monday through Friday. The liturgy and readings are available at www.dailyoffice2019.com.  \nJoin the parish email list and look for a weekly email invitation in your inbox.
URL:https://goodshepherdbinghamton.org/event/morning-prayer-146/
END:VEVENT
BEGIN:VEVENT
DTSTART;TZID=America/New_York:20250811T070000
DTEND;TZID=America/New_York:20250811T080000
DTSTAMP:20260423T191443
CREATED:20250805T153159Z
LAST-MODIFIED:20250805T153159Z
UID:34652-1754895600-1754899200@goodshepherdbinghamton.org
SUMMARY:Morning Prayer
DESCRIPTION:Morning Prayer meets online by Zoom at 7am Monday through Friday. The liturgy and readings are available at www.dailyoffice2019.com.  \nJoin the parish email list and look for a weekly email invitation in your inbox.
URL:https://goodshepherdbinghamton.org/event/morning-prayer-145/
END:VEVENT
BEGIN:VEVENT
DTSTART;TZID=America/New_York:20250810T103000
DTEND;TZID=America/New_York:20250810T120000
DTSTAMP:20260423T191443
CREATED:20250805T152907Z
LAST-MODIFIED:20250805T152907Z
UID:34572-1754821800-1754827200@goodshepherdbinghamton.org
SUMMARY:2nd Service
DESCRIPTION:This is the main service at Good Shepherd.   \nAt this service\, there is a blend of both contemporary and traditional worship music\, Bible readings\, a sermon\, confession\, and communion.   \nAt Good Shepherd you will find friendly people\, engaging sermons\, joyful worship\, practical teaching\, and lots of kids. All are welcome! \nThe bulletin is available as a digital download at www.goodshepherdbinghamton.org.   \nThe service is currently open to the public and is being livestreamed at https://www.facebook.com/groups/CoGSMedia/
URL:https://goodshepherdbinghamton.org/event/2nd-service-94/
END:VEVENT
BEGIN:VEVENT
DTSTART;TZID=America/New_York:20250810T091500
DTEND;TZID=America/New_York:20250810T101500
DTSTAMP:20260423T191443
CREATED:20250805T152955Z
LAST-MODIFIED:20250805T152955Z
UID:34589-1754817300-1754820900@goodshepherdbinghamton.org
SUMMARY:Christian Education for Everyone
DESCRIPTION:Children \nFor children aged 1-12. Good Shepherd offers Catechesis of the Good Shepherd—a program of prayer\, worship\, and scripture in specially prepared Montessori-style rooms—The Pen (1-3)\,The Pasture (3-6)\, The Vineyard (6-9)\, and The Tabernacle (9-12).  \n  \nTeens \nTeens aged 12 to 14 cover a range of topics—the Bible\, Liturgy\, Church History\, Apologetics\, the 39 Articles—in a three-year cycle. This is a discussion-style class that prepares kids for confirmation. \n  \nAdult Class  \nDiscussion and study on topics ranging from Christian literature\, the 39 articles\, church history\, difficult passages of the bible\, and more.     \nPlease contact the Good Shepherd office for more information.
URL:https://goodshepherdbinghamton.org/event/christian-education-for-everyone-20/
END:VEVENT
BEGIN:VEVENT
DTSTART;TZID=America/New_York:20250810T080000
DTEND;TZID=America/New_York:20250810T090000
DTSTAMP:20260423T191443
CREATED:20250805T152728Z
LAST-MODIFIED:20250805T152728Z
UID:34537-1754812800-1754816400@goodshepherdbinghamton.org
SUMMARY:First Service
DESCRIPTION:This is an early\, more quiet version of the service at 10:30. \nThe 8am service is not currently being live-streamed. \nThis service involves readings from the Bible\, a sermon\, offering\, confession\, and communion.  There is no music during this service.
URL:https://goodshepherdbinghamton.org/event/first-service-98/
END:VEVENT
BEGIN:VEVENT
DTSTART;TZID=America/New_York:20250808T070000
DTEND;TZID=America/New_York:20250808T080000
DTSTAMP:20260423T191443
CREATED:20250805T153159Z
LAST-MODIFIED:20250805T153159Z
UID:34651-1754636400-1754640000@goodshepherdbinghamton.org
SUMMARY:Morning Prayer
DESCRIPTION:Morning Prayer meets online by Zoom at 7am Monday through Friday. The liturgy and readings are available at www.dailyoffice2019.com.  \nJoin the parish email list and look for a weekly email invitation in your inbox.
URL:https://goodshepherdbinghamton.org/event/morning-prayer-144/
END:VEVENT
BEGIN:VEVENT
DTSTART;TZID=America/New_York:20250808T063000
DTEND;TZID=America/New_York:20250808T080000
DTSTAMP:20260423T191443
CREATED:20250805T153102Z
LAST-MODIFIED:20250805T153102Z
UID:34624-1754634600-1754640000@goodshepherdbinghamton.org
SUMMARY:Men's Breakfast and Bible Study
DESCRIPTION:Every Friday morning at 6:30am men from Good Shepherd\, other area churches\, and the community gather to share a warm breakfast and study the bible. The study is expositional\, moving verse by verse through one book of the bible at a time\, with the purpose of coming to a better understanding of God and his word. \nThere is plenty of discussion\, question and answer time\, prayer\, and fellowship. You do not have to be a member of Good Shepherd or any other church to attend. The study meets at Good Shepherd\, downstairs in the parish hall. It usually ends at 8:00am but men come and go during the study according to their work schedules. Men of all ages are welcome to come\, eat\, and learn from the scriptures.This class is currently studying the book of Genesis.If you’d like more information\, please contact Jonathan Groves for a link to access the class @ jg.arrowhead@gmail.com
URL:https://goodshepherdbinghamton.org/event/mens-breakfast-and-bible-study-93/
END:VEVENT
BEGIN:VEVENT
DTSTART;TZID=America/New_York:20250807T173000
DTEND;TZID=America/New_York:20250807T183000
DTSTAMP:20260423T191443
CREATED:20250805T152803Z
LAST-MODIFIED:20250805T152803Z
UID:34554-1754587800-1754591400@goodshepherdbinghamton.org
SUMMARY:Shepherd's Bowl Community Meal
DESCRIPTION:Each Thursday evening\, Good Shepherd offers a free nutritious meal to thepeople of Good Shepherd and the wider community. If you are able\, this is a great time to get to know others and enjoya free and delicious meal. \nThe Rev. Jonathan Groves leads a beginners Bible study at 6:00 and anyone is welcome to attend.  The study is currently working on the book of Judges. \nPlease find our page on Facebook\, Shepherd’s Bowl Free Community Meal\, and follow\, like and share posts\, and invite friends. 
URL:https://goodshepherdbinghamton.org/event/shepherds-bowl-community-meal-95/
END:VEVENT
END:VCALENDAR