BEGIN:VCALENDAR
VERSION:2.0
PRODID:-//Church of the Good Shepherd - ECPv6.15.20//NONSGML v1.0//EN
CALSCALE:GREGORIAN
METHOD:PUBLISH
X-WR-CALNAME:Church of the Good Shepherd
X-ORIGINAL-URL:https://goodshepherdbinghamton.org
X-WR-CALDESC:Events for Church of the Good Shepherd
REFRESH-INTERVAL;VALUE=DURATION:PT1H
X-Robots-Tag:noindex
X-PUBLISHED-TTL:PT1H
BEGIN:VTIMEZONE
TZID:America/New_York
BEGIN:DAYLIGHT
TZOFFSETFROM:-0500
TZOFFSETTO:-0400
TZNAME:EDT
DTSTART:20240310T070000
END:DAYLIGHT
BEGIN:STANDARD
TZOFFSETFROM:-0400
TZOFFSETTO:-0500
TZNAME:EST
DTSTART:20241103T060000
END:STANDARD
BEGIN:DAYLIGHT
TZOFFSETFROM:-0500
TZOFFSETTO:-0400
TZNAME:EDT
DTSTART:20250309T070000
END:DAYLIGHT
BEGIN:STANDARD
TZOFFSETFROM:-0400
TZOFFSETTO:-0500
TZNAME:EST
DTSTART:20251102T060000
END:STANDARD
BEGIN:DAYLIGHT
TZOFFSETFROM:-0500
TZOFFSETTO:-0400
TZNAME:EDT
DTSTART:20260308T070000
END:DAYLIGHT
BEGIN:STANDARD
TZOFFSETFROM:-0400
TZOFFSETTO:-0500
TZNAME:EST
DTSTART:20261101T060000
END:STANDARD
END:VTIMEZONE
BEGIN:VEVENT
DTSTART;TZID=America/New_York:20250725T063000
DTEND;TZID=America/New_York:20250725T080000
DTSTAMP:20260423T191515
CREATED:20250805T153101Z
LAST-MODIFIED:20250805T153101Z
UID:34622-1753425000-1753430400@goodshepherdbinghamton.org
SUMMARY:Men's Breakfast and Bible Study
DESCRIPTION:Every Friday morning at 6:30am men from Good Shepherd\, other area churches\, and the community gather to share a warm breakfast and study the bible. The study is expositional\, moving verse by verse through one book of the bible at a time\, with the purpose of coming to a better understanding of God and his word. \nThere is plenty of discussion\, question and answer time\, prayer\, and fellowship. You do not have to be a member of Good Shepherd or any other church to attend. The study meets at Good Shepherd\, downstairs in the parish hall. It usually ends at 8:00am but men come and go during the study according to their work schedules. Men of all ages are welcome to come\, eat\, and learn from the scriptures.This class is currently studying the book of Revelation.If you’d like more information\, please contact Jonathan Groves for a link to access the class @ jg.arrowhead@gmail.com
URL:https://goodshepherdbinghamton.org/event/mens-breakfast-and-bible-study-91/
END:VEVENT
BEGIN:VEVENT
DTSTART;TZID=America/New_York:20250724T173000
DTEND;TZID=America/New_York:20250724T183000
DTSTAMP:20260423T191515
CREATED:20250805T152802Z
LAST-MODIFIED:20250805T152802Z
UID:34552-1753378200-1753381800@goodshepherdbinghamton.org
SUMMARY:Shepherd's Bowl Community Meal
DESCRIPTION:Each Thursday evening\, Good Shepherd offers a free nutritious meal to thepeople of Good Shepherd and the wider community. If you are able\, this is a great time to get to know others and enjoya free and delicious meal. \nThe Rev. Jonathan Groves leads a beginners Bible study at 6:00 and anyone is welcome to attend.  The study is currently working on the book of Judges. \nPlease find our page on Facebook\, Shepherd’s Bowl Free Community Meal\, and follow\, like and share posts\, and invite friends. 
URL:https://goodshepherdbinghamton.org/event/shepherds-bowl-community-meal-93/
END:VEVENT
BEGIN:VEVENT
DTSTART;TZID=America/New_York:20250722T090000
DTEND;TZID=America/New_York:20250722T100000
DTSTAMP:20260423T191515
CREATED:20250805T153019Z
LAST-MODIFIED:20250805T153019Z
UID:34604-1753174800-1753178400@goodshepherdbinghamton.org
SUMMARY:Tuesday Morning Bible Study
DESCRIPTION:Tuesday Morning Bible Study meets at 9:05am to walk through different books of the bible\, verse by verse.  Taught by a member of the pastoral staff in the main room of the parish hall.  This class can be viewed in person or online each week by livestream.  \nThis class is currently working on a study focusing the book of 2 Samuel. \nThis class is meeting online and in person in the parish hall.  It can be viewed at https://www.facebook.com/groups/CoGSMedia/
URL:https://goodshepherdbinghamton.org/event/tuesday-morning-bible-study-94/
END:VEVENT
BEGIN:VEVENT
DTSTART;TZID=America/New_York:20250720T103000
DTEND;TZID=America/New_York:20250720T120000
DTSTAMP:20260423T191515
CREATED:20250805T152859Z
LAST-MODIFIED:20250805T152859Z
UID:34569-1753007400-1753012800@goodshepherdbinghamton.org
SUMMARY:2nd Service
DESCRIPTION:This is the main service at Good Shepherd.   \nAt this service\, there is a blend of both contemporary and traditional worship music\, Bible readings\, a sermon\, confession\, and communion.   \nAt Good Shepherd you will find friendly people\, engaging sermons\, joyful worship\, practical teaching\, and lots of kids. All are welcome! \nThe bulletin is available as a digital download at www.goodshepherdbinghamton.org.   \nThe service is currently open to the public and is being livestreamed at https://www.facebook.com/groups/CoGSMedia/
URL:https://goodshepherdbinghamton.org/event/2nd-service-91/
END:VEVENT
BEGIN:VEVENT
DTSTART;TZID=America/New_York:20250720T091500
DTEND;TZID=America/New_York:20250720T101500
DTSTAMP:20260423T191515
CREATED:20250805T152955Z
LAST-MODIFIED:20250805T152955Z
UID:34586-1753002900-1753006500@goodshepherdbinghamton.org
SUMMARY:Christian Education for Everyone
DESCRIPTION:Children \nFor children aged 1-12. Good Shepherd offers Catechesis of the Good Shepherd—a program of prayer\, worship\, and scripture in specially prepared Montessori-style rooms—The Pen (1-3)\,The Pasture (3-6)\, The Vineyard (6-9)\, and The Tabernacle (9-12).  \n  \nTeens \nTeens aged 12 to 14 cover a range of topics—the Bible\, Liturgy\, Church History\, Apologetics\, the 39 Articles—in a three-year cycle. This is a discussion-style class that prepares kids for confirmation. \n  \nAdult Class  \nDiscussion and study on topics ranging from Christian literature\, the 39 articles\, church history\, difficult passages of the bible\, and more.     \nPlease contact the Good Shepherd office for more information.
URL:https://goodshepherdbinghamton.org/event/christian-education-for-everyone-17/
END:VEVENT
BEGIN:VEVENT
DTSTART;TZID=America/New_York:20250720T080000
DTEND;TZID=America/New_York:20250720T090000
DTSTAMP:20260423T191515
CREATED:20250805T152723Z
LAST-MODIFIED:20250805T152723Z
UID:34534-1752998400-1753002000@goodshepherdbinghamton.org
SUMMARY:First Service
DESCRIPTION:This is an early\, more quiet version of the service at 10:30. \nThe 8am service is not currently being live-streamed. \nThis service involves readings from the Bible\, a sermon\, offering\, confession\, and communion.  There is no music during this service.
URL:https://goodshepherdbinghamton.org/event/first-service-95/
END:VEVENT
BEGIN:VEVENT
DTSTART;TZID=America/New_York:20250718T063000
DTEND;TZID=America/New_York:20250718T080000
DTSTAMP:20260423T191515
CREATED:20250805T153101Z
LAST-MODIFIED:20250805T153101Z
UID:34621-1752820200-1752825600@goodshepherdbinghamton.org
SUMMARY:Men's Breakfast and Bible Study
DESCRIPTION:Every Friday morning at 6:30am men from Good Shepherd\, other area churches\, and the community gather to share a warm breakfast and study the bible. The study is expositional\, moving verse by verse through one book of the bible at a time\, with the purpose of coming to a better understanding of God and his word. \nThere is plenty of discussion\, question and answer time\, prayer\, and fellowship. You do not have to be a member of Good Shepherd or any other church to attend. The study meets at Good Shepherd\, downstairs in the parish hall. It usually ends at 8:00am but men come and go during the study according to their work schedules. Men of all ages are welcome to come\, eat\, and learn from the scriptures.This class is currently studying the book of Revelation.If you’d like more information\, please contact Jonathan Groves for a link to access the class @ jg.arrowhead@gmail.com
URL:https://goodshepherdbinghamton.org/event/mens-breakfast-and-bible-study-90/
END:VEVENT
BEGIN:VEVENT
DTSTART;TZID=America/New_York:20250717T181500
DTEND;TZID=America/New_York:20250717T191500
DTSTAMP:20260423T191515
CREATED:20250805T153356Z
LAST-MODIFIED:20250805T153356Z
UID:34719-1752776100-1752779700@goodshepherdbinghamton.org
SUMMARY:Beginner's Bible Study
DESCRIPTION:Every Thursday evening at 6pm\, there is a beginner’s bible study at Good Shepherd.  All are welcome! \nThis is a great place to connect with others and learn more about what God has to say to us through his word.  The class is taught by The Rev. Dcn. Warren Musselman\, and the class is currently studying the book of James. 
URL:https://goodshepherdbinghamton.org/event/beginners-bible-study-80/
END:VEVENT
BEGIN:VEVENT
DTSTART;TZID=America/New_York:20250717T173000
DTEND;TZID=America/New_York:20250717T183000
DTSTAMP:20260423T191515
CREATED:20250805T152802Z
LAST-MODIFIED:20250805T152802Z
UID:34551-1752773400-1752777000@goodshepherdbinghamton.org
SUMMARY:Shepherd's Bowl Community Meal
DESCRIPTION:Each Thursday evening\, Good Shepherd offers a free nutritious meal to thepeople of Good Shepherd and the wider community. If you are able\, this is a great time to get to know others and enjoya free and delicious meal. \nThe Rev. Jonathan Groves leads a beginners Bible study at 6:00 and anyone is welcome to attend.  The study is currently working on the book of Judges. \nPlease find our page on Facebook\, Shepherd’s Bowl Free Community Meal\, and follow\, like and share posts\, and invite friends. 
URL:https://goodshepherdbinghamton.org/event/shepherds-bowl-community-meal-92/
END:VEVENT
BEGIN:VEVENT
DTSTART;TZID=America/New_York:20250715T090000
DTEND;TZID=America/New_York:20250715T100000
DTSTAMP:20260423T191515
CREATED:20250805T153019Z
LAST-MODIFIED:20250805T153019Z
UID:34603-1752570000-1752573600@goodshepherdbinghamton.org
SUMMARY:Tuesday Morning Bible Study
DESCRIPTION:Tuesday Morning Bible Study meets at 9:05am to walk through different books of the bible\, verse by verse.  Taught by a member of the pastoral staff in the main room of the parish hall.  This class can be viewed in person or online each week by livestream.  \nThis class is currently working on a study focusing the book of 2 Samuel. \nThis class is meeting online and in person in the parish hall.  It can be viewed at https://www.facebook.com/groups/CoGSMedia/
URL:https://goodshepherdbinghamton.org/event/tuesday-morning-bible-study-93/
END:VEVENT
BEGIN:VEVENT
DTSTART;TZID=America/New_York:20250713T103000
DTEND;TZID=America/New_York:20250713T120000
DTSTAMP:20260423T191515
CREATED:20250805T152859Z
LAST-MODIFIED:20250805T152859Z
UID:34568-1752402600-1752408000@goodshepherdbinghamton.org
SUMMARY:2nd Service
DESCRIPTION:This is the main service at Good Shepherd.   \nAt this service\, there is a blend of both contemporary and traditional worship music\, Bible readings\, a sermon\, confession\, and communion.   \nAt Good Shepherd you will find friendly people\, engaging sermons\, joyful worship\, practical teaching\, and lots of kids. All are welcome! \nThe bulletin is available as a digital download at www.goodshepherdbinghamton.org.   \nThe service is currently open to the public and is being livestreamed at https://www.facebook.com/groups/CoGSMedia/
URL:https://goodshepherdbinghamton.org/event/2nd-service-90/
END:VEVENT
BEGIN:VEVENT
DTSTART;TZID=America/New_York:20250713T091500
DTEND;TZID=America/New_York:20250713T101500
DTSTAMP:20260423T191515
CREATED:20250805T152939Z
LAST-MODIFIED:20250805T152939Z
UID:34585-1752398100-1752401700@goodshepherdbinghamton.org
SUMMARY:Christian Education for Everyone
DESCRIPTION:Children \nFor children aged 1-12. Good Shepherd offers Catechesis of the Good Shepherd—a program of prayer\, worship\, and scripture in specially prepared Montessori-style rooms—The Pen (1-3)\,The Pasture (3-6)\, The Vineyard (6-9)\, and The Tabernacle (9-12).  \n  \nTeens \nTeens aged 12 to 14 cover a range of topics—the Bible\, Liturgy\, Church History\, Apologetics\, the 39 Articles—in a three-year cycle. This is a discussion-style class that prepares kids for confirmation. \n  \nAdult Class  \nDiscussion and study on topics ranging from Christian literature\, the 39 articles\, church history\, difficult passages of the bible\, and more.     \nPlease contact the Good Shepherd office for more information.
URL:https://goodshepherdbinghamton.org/event/christian-education-for-everyone-16/
END:VEVENT
BEGIN:VEVENT
DTSTART;TZID=America/New_York:20250713T080000
DTEND;TZID=America/New_York:20250713T090000
DTSTAMP:20260423T191515
CREATED:20250805T152723Z
LAST-MODIFIED:20250805T152723Z
UID:34533-1752393600-1752397200@goodshepherdbinghamton.org
SUMMARY:First Service
DESCRIPTION:This is an early\, more quiet version of the service at 10:30. \nThe 8am service is not currently being live-streamed. \nThis service involves readings from the Bible\, a sermon\, offering\, confession\, and communion.  There is no music during this service.
URL:https://goodshepherdbinghamton.org/event/first-service-94/
END:VEVENT
BEGIN:VEVENT
DTSTART;TZID=America/New_York:20250711T063000
DTEND;TZID=America/New_York:20250711T080000
DTSTAMP:20260423T191515
CREATED:20250805T153051Z
LAST-MODIFIED:20250805T153051Z
UID:34620-1752215400-1752220800@goodshepherdbinghamton.org
SUMMARY:Men's Breakfast and Bible Study
DESCRIPTION:Every Friday morning at 6:30am men from Good Shepherd\, other area churches\, and the community gather to share a warm breakfast and study the bible. The study is expositional\, moving verse by verse through one book of the bible at a time\, with the purpose of coming to a better understanding of God and his word. \nThere is plenty of discussion\, question and answer time\, prayer\, and fellowship. You do not have to be a member of Good Shepherd or any other church to attend. The study meets at Good Shepherd\, downstairs in the parish hall. It usually ends at 8:00am but men come and go during the study according to their work schedules. Men of all ages are welcome to come\, eat\, and learn from the scriptures.This class is currently studying the book of Revelation.If you’d like more information\, please contact Jonathan Groves for a link to access the class @ jg.arrowhead@gmail.com
URL:https://goodshepherdbinghamton.org/event/mens-breakfast-and-bible-study-89/
END:VEVENT
BEGIN:VEVENT
DTSTART;TZID=America/New_York:20250710T181500
DTEND;TZID=America/New_York:20250710T191500
DTSTAMP:20260423T191515
CREATED:20250805T153356Z
LAST-MODIFIED:20250805T153356Z
UID:34718-1752171300-1752174900@goodshepherdbinghamton.org
SUMMARY:Beginner's Bible Study
DESCRIPTION:Every Thursday evening at 6pm\, there is a beginner’s bible study at Good Shepherd.  All are welcome! \nThis is a great place to connect with others and learn more about what God has to say to us through his word.  The class is taught by The Rev. Dcn. Warren Musselman\, and the class is currently studying the book of James. 
URL:https://goodshepherdbinghamton.org/event/beginners-bible-study-79/
END:VEVENT
BEGIN:VEVENT
DTSTART;TZID=America/New_York:20250710T173000
DTEND;TZID=America/New_York:20250710T183000
DTSTAMP:20260423T191515
CREATED:20250805T152747Z
LAST-MODIFIED:20250805T152747Z
UID:34550-1752168600-1752172200@goodshepherdbinghamton.org
SUMMARY:Shepherd's Bowl Community Meal
DESCRIPTION:Each Thursday evening\, Good Shepherd offers a free nutritious meal to thepeople of Good Shepherd and the wider community. If you are able\, this is a great time to get to know others and enjoya free and delicious meal. \nThe Rev. Jonathan Groves leads a beginners Bible study at 6:00 and anyone is welcome to attend.  The study is currently working on the book of Judges. \nPlease find our page on Facebook\, Shepherd’s Bowl Free Community Meal\, and follow\, like and share posts\, and invite friends. 
URL:https://goodshepherdbinghamton.org/event/shepherds-bowl-community-meal-91/
END:VEVENT
BEGIN:VEVENT
DTSTART;TZID=America/New_York:20250708T090000
DTEND;TZID=America/New_York:20250708T100000
DTSTAMP:20260423T191515
CREATED:20250805T153019Z
LAST-MODIFIED:20250805T153019Z
UID:34602-1751965200-1751968800@goodshepherdbinghamton.org
SUMMARY:Tuesday Morning Bible Study
DESCRIPTION:Tuesday Morning Bible Study meets at 9:05am to walk through different books of the bible\, verse by verse.  Taught by a member of the pastoral staff in the main room of the parish hall.  This class can be viewed in person or online each week by livestream.  \nThis class is currently working on a study focusing the book of 2 Samuel. \nThis class is meeting online and in person in the parish hall.  It can be viewed at https://www.facebook.com/groups/CoGSMedia/
URL:https://goodshepherdbinghamton.org/event/tuesday-morning-bible-study-92/
END:VEVENT
BEGIN:VEVENT
DTSTART;TZID=America/New_York:20250706T103000
DTEND;TZID=America/New_York:20250706T120000
DTSTAMP:20260423T191515
CREATED:20250805T152858Z
LAST-MODIFIED:20250805T152858Z
UID:34567-1751797800-1751803200@goodshepherdbinghamton.org
SUMMARY:2nd Service
DESCRIPTION:This is the main service at Good Shepherd.   \nAt this service\, there is a blend of both contemporary and traditional worship music\, Bible readings\, a sermon\, confession\, and communion.   \nAt Good Shepherd you will find friendly people\, engaging sermons\, joyful worship\, practical teaching\, and lots of kids. All are welcome! \nThe bulletin is available as a digital download at www.goodshepherdbinghamton.org.   \nThe service is currently open to the public and is being livestreamed at https://www.facebook.com/groups/CoGSMedia/
URL:https://goodshepherdbinghamton.org/event/2nd-service-89/
END:VEVENT
BEGIN:VEVENT
DTSTART;TZID=America/New_York:20250706T091500
DTEND;TZID=America/New_York:20250706T101500
DTSTAMP:20260423T191515
CREATED:20250805T152938Z
LAST-MODIFIED:20250805T152938Z
UID:34584-1751793300-1751796900@goodshepherdbinghamton.org
SUMMARY:Christian Education for Everyone
DESCRIPTION:Children \nFor children aged 1-12. Good Shepherd offers Catechesis of the Good Shepherd—a program of prayer\, worship\, and scripture in specially prepared Montessori-style rooms—The Pen (1-3)\,The Pasture (3-6)\, The Vineyard (6-9)\, and The Tabernacle (9-12).  \n  \nTeens \nTeens aged 12 to 14 cover a range of topics—the Bible\, Liturgy\, Church History\, Apologetics\, the 39 Articles—in a three-year cycle. This is a discussion-style class that prepares kids for confirmation. \n  \nAdult Class  \nDiscussion and study on topics ranging from Christian literature\, the 39 articles\, church history\, difficult passages of the bible\, and more.     \nPlease contact the Good Shepherd office for more information.
URL:https://goodshepherdbinghamton.org/event/christian-education-for-everyone-15/
END:VEVENT
BEGIN:VEVENT
DTSTART;TZID=America/New_York:20250706T080000
DTEND;TZID=America/New_York:20250706T090000
DTSTAMP:20260423T191515
CREATED:20250805T152722Z
LAST-MODIFIED:20250805T152722Z
UID:34532-1751788800-1751792400@goodshepherdbinghamton.org
SUMMARY:First Service
DESCRIPTION:This is an early\, more quiet version of the service at 10:30. \nThe 8am service is not currently being live-streamed. \nThis service involves readings from the Bible\, a sermon\, offering\, confession\, and communion.  There is no music during this service.
URL:https://goodshepherdbinghamton.org/event/first-service-93/
END:VEVENT
BEGIN:VEVENT
DTSTART;TZID=America/New_York:20250704T063000
DTEND;TZID=America/New_York:20250704T080000
DTSTAMP:20260423T191515
CREATED:20250805T153051Z
LAST-MODIFIED:20250805T153051Z
UID:34619-1751610600-1751616000@goodshepherdbinghamton.org
SUMMARY:Men's Breakfast and Bible Study
DESCRIPTION:Every Friday morning at 6:30am men from Good Shepherd\, other area churches\, and the community gather to share a warm breakfast and study the bible. The study is expositional\, moving verse by verse through one book of the bible at a time\, with the purpose of coming to a better understanding of God and his word. \nThere is plenty of discussion\, question and answer time\, prayer\, and fellowship. You do not have to be a member of Good Shepherd or any other church to attend. The study meets at Good Shepherd\, downstairs in the parish hall. It usually ends at 8:00am but men come and go during the study according to their work schedules. Men of all ages are welcome to come\, eat\, and learn from the scriptures.This class is currently studying the book of Revelation.If you’d like more information\, please contact Jonathan Groves for a link to access the class @ jg.arrowhead@gmail.com
URL:https://goodshepherdbinghamton.org/event/mens-breakfast-and-bible-study-88/
END:VEVENT
BEGIN:VEVENT
DTSTART;TZID=America/New_York:20250703T181500
DTEND;TZID=America/New_York:20250703T191500
DTSTAMP:20260423T191515
CREATED:20250805T153356Z
LAST-MODIFIED:20250805T153356Z
UID:34717-1751566500-1751570100@goodshepherdbinghamton.org
SUMMARY:Beginner's Bible Study
DESCRIPTION:Every Thursday evening at 6pm\, there is a beginner’s bible study at Good Shepherd.  All are welcome! \nThis is a great place to connect with others and learn more about what God has to say to us through his word.  The class is taught by The Rev. Dcn. Warren Musselman\, and the class is currently studying the book of James. 
URL:https://goodshepherdbinghamton.org/event/beginners-bible-study-78/
END:VEVENT
BEGIN:VEVENT
DTSTART;TZID=America/New_York:20250703T173000
DTEND;TZID=America/New_York:20250703T183000
DTSTAMP:20260423T191515
CREATED:20250805T152747Z
LAST-MODIFIED:20250805T152747Z
UID:34549-1751563800-1751567400@goodshepherdbinghamton.org
SUMMARY:Shepherd's Bowl Community Meal
DESCRIPTION:Each Thursday evening\, Good Shepherd offers a free nutritious meal to thepeople of Good Shepherd and the wider community. If you are able\, this is a great time to get to know others and enjoya free and delicious meal. \nThe Rev. Jonathan Groves leads a beginners Bible study at 6:00 and anyone is welcome to attend.  The study is currently working on the book of Judges. \nPlease find our page on Facebook\, Shepherd’s Bowl Free Community Meal\, and follow\, like and share posts\, and invite friends. 
URL:https://goodshepherdbinghamton.org/event/shepherds-bowl-community-meal-90/
END:VEVENT
BEGIN:VEVENT
DTSTART;TZID=America/New_York:20250701T090000
DTEND;TZID=America/New_York:20250701T100000
DTSTAMP:20260423T191515
CREATED:20250805T153019Z
LAST-MODIFIED:20250805T153019Z
UID:34601-1751360400-1751364000@goodshepherdbinghamton.org
SUMMARY:Tuesday Morning Bible Study
DESCRIPTION:Tuesday Morning Bible Study meets at 9:05am to walk through different books of the bible\, verse by verse.  Taught by a member of the pastoral staff in the main room of the parish hall.  This class can be viewed in person or online each week by livestream.  \nThis class is currently working on a study focusing the book of 2 Samuel. \nThis class is meeting online and in person in the parish hall.  It can be viewed at https://www.facebook.com/groups/CoGSMedia/
URL:https://goodshepherdbinghamton.org/event/tuesday-morning-bible-study-91/
END:VEVENT
BEGIN:VEVENT
DTSTART;TZID=America/New_York:20250621T150000
DTEND;TZID=America/New_York:20250621T160000
DTSTAMP:20260423T191515
CREATED:20250617T000131Z
LAST-MODIFIED:20250617T000134Z
UID:34417-1750518000-1750521600@goodshepherdbinghamton.org
SUMMARY:Funeral of Jeremy Orton
DESCRIPTION:Friends and family of Jeremy are invited to a service celebrating his life on Saturday\, June 21\, 2025\, at the MacPherson Funeral Home\, 5 Whig Street\, Newark Valley\, NY at 3:00 p.m. A period of visitation and sharing memories will be held from 1:00 p.m. until the time of service. Memories and condolences can be shared in his online guestbook at www.macphersonfh.com
URL:https://goodshepherdbinghamton.org/event/funeral-of-jeremy-orton/
END:VEVENT
BEGIN:VEVENT
DTSTART;TZID=America/New_York:20250515T080000
DTEND;TZID=America/New_York:20250517T130000
DTSTAMP:20260423T191515
CREATED:20250315T174938Z
LAST-MODIFIED:20250315T175446Z
UID:34113-1747296000-1747486800@goodshepherdbinghamton.org
SUMMARY:ADLW 2025 Synod & Mission Conference
DESCRIPTION:The Missions Conference and Synod 2025\, “Unto Salvation\,” gathers clergy and lay delegates from each congregation and mission of the Anglican Diocese of the Living Word to engage in worship\, participate in equipping sessions designed to inspire and empower ministry and conduct official business of the diocese. This gathering seeks to deepen our understanding of the Gospel\, renew our commitment to discipleship\, and equip leaders to proclaim salvation in their local contexts.
URL:https://goodshepherdbinghamton.org/event/adlw-2025-synod-mission-conference/
END:VEVENT
BEGIN:VEVENT
DTSTART;TZID=America/New_York:20250501T173000
DTEND;TZID=America/New_York:20250501T183000
DTSTAMP:20260423T191515
CREATED:20250225T150715Z
LAST-MODIFIED:20250225T150715Z
UID:33898-1746120600-1746124200@goodshepherdbinghamton.org
SUMMARY:Shepherd's Bowl Community Meal
DESCRIPTION:Each Thursday evening\, Good Shepherd offers a free nutritious meal to thepeople of Good Shepherd and the wider community. If you are able\, this is a great time to get to know others and enjoya free and delicious meal. \nThe Rev. Jonathan Groves leads a beginners Bible study at 6:00 and anyone is welcome to attend.  The study is currently working on the book of Judges. \nPlease find our page on Facebook\, Shepherd’s Bowl Free Community Meal\, and follow\, like and share posts\, and invite friends. 
URL:https://goodshepherdbinghamton.org/event/shepherds-bowl-community-meal-89/
END:VEVENT
BEGIN:VEVENT
DTSTART;TZID=America/New_York:20250501T070000
DTEND;TZID=America/New_York:20250501T080000
DTSTAMP:20260423T191515
CREATED:20250225T151531Z
LAST-MODIFIED:20250225T151531Z
UID:34064-1746082800-1746086400@goodshepherdbinghamton.org
SUMMARY:Morning Prayer
DESCRIPTION:Morning Prayer meets online by Zoom at 7am Monday through Friday. Theliturgy and readings are available at www.dailyoffice2019.com.  \nJoin the parishemail list and look for a weekly email invitation in your inbox.
URL:https://goodshepherdbinghamton.org/event/morning-prayer-135/
END:VEVENT
BEGIN:VEVENT
DTSTART;TZID=America/New_York:20250430T183000
DTEND;TZID=America/New_York:20250430T200000
DTSTAMP:20260423T191515
CREATED:20250225T150830Z
LAST-MODIFIED:20250225T150830Z
UID:33924-1746037800-1746043200@goodshepherdbinghamton.org
SUMMARY:Good Shepherd Choir Rehearsal
DESCRIPTION: If you would like more information about the music program at Good Shepherd\, please contact Michael Berman.
URL:https://goodshepherdbinghamton.org/event/good-shepherd-choir-rehearsal-84/
END:VEVENT
BEGIN:VEVENT
DTSTART;TZID=America/New_York:20250430T070000
DTEND;TZID=America/New_York:20250430T080000
DTSTAMP:20260423T191515
CREATED:20250225T151530Z
LAST-MODIFIED:20250225T151530Z
UID:34063-1745996400-1746000000@goodshepherdbinghamton.org
SUMMARY:Morning Prayer
DESCRIPTION:Morning Prayer meets online by Zoom at 7am Monday through Friday. Theliturgy and readings are available at www.dailyoffice2019.com.  \nJoin the parishemail list and look for a weekly email invitation in your inbox.
URL:https://goodshepherdbinghamton.org/event/morning-prayer-134/
END:VEVENT
END:VCALENDAR