BEGIN:VCALENDAR
VERSION:2.0
PRODID:-//Church of the Good Shepherd - ECPv6.15.20//NONSGML v1.0//EN
CALSCALE:GREGORIAN
METHOD:PUBLISH
X-WR-CALNAME:Church of the Good Shepherd
X-ORIGINAL-URL:https://goodshepherdbinghamton.org
X-WR-CALDESC:Events for Church of the Good Shepherd
REFRESH-INTERVAL;VALUE=DURATION:PT1H
X-Robots-Tag:noindex
X-PUBLISHED-TTL:PT1H
BEGIN:VTIMEZONE
TZID:America/New_York
BEGIN:DAYLIGHT
TZOFFSETFROM:-0500
TZOFFSETTO:-0400
TZNAME:EDT
DTSTART:20240310T070000
END:DAYLIGHT
BEGIN:STANDARD
TZOFFSETFROM:-0400
TZOFFSETTO:-0500
TZNAME:EST
DTSTART:20241103T060000
END:STANDARD
BEGIN:DAYLIGHT
TZOFFSETFROM:-0500
TZOFFSETTO:-0400
TZNAME:EDT
DTSTART:20250309T070000
END:DAYLIGHT
BEGIN:STANDARD
TZOFFSETFROM:-0400
TZOFFSETTO:-0500
TZNAME:EST
DTSTART:20251102T060000
END:STANDARD
BEGIN:DAYLIGHT
TZOFFSETFROM:-0500
TZOFFSETTO:-0400
TZNAME:EDT
DTSTART:20260308T070000
END:DAYLIGHT
BEGIN:STANDARD
TZOFFSETFROM:-0400
TZOFFSETTO:-0500
TZNAME:EST
DTSTART:20261101T060000
END:STANDARD
END:VTIMEZONE
BEGIN:VEVENT
DTSTART;TZID=America/New_York:20250418T200000
DTEND;TZID=America/New_York:20250418T210000
DTSTAMP:20260424T030158
CREATED:20250409T022414Z
LAST-MODIFIED:20250412T171000Z
UID:34231-1745006400-1745010000@goodshepherdbinghamton.org
SUMMARY:Stations of the Cross
DESCRIPTION:The Stations of the Cross is a solemn service. The participants walk through the sanctuary by candlelight\, stopping to pray and listen to biblical readings at the fourteen different stations marked (at Good Shepherd) by engravings hung on the walls of the sanctuary. Each station depicts a moment in the suffering of Christ\, from the trial where he was condemned\, to his procession through Jerusalem carrying his cross\, to the hill called Golgotha where he was crucified\, ending at the final station\, his burial in a tomb. \n\n\n\nThe gathering exits the sanctuary in silence.
URL:https://goodshepherdbinghamton.org/event/stations-of-the-cross/
END:VEVENT
BEGIN:VEVENT
DTSTART;TZID=America/New_York:20250418T120000
DTEND;TZID=America/New_York:20250418T130000
DTSTAMP:20260424T030158
CREATED:20250409T020934Z
LAST-MODIFIED:20250409T020938Z
UID:34229-1744977600-1744981200@goodshepherdbinghamton.org
SUMMARY:Good Friday
DESCRIPTION:At about 3pm on Friday of Holy Week he lifted his eyes up to heaven from the cross and breathed out his last. “It is finished” he said. He was not only referring to his life\, but he was also referring to his mission to deal with and defeat once and for all sin\, death\, and Satan.
URL:https://goodshepherdbinghamton.org/event/good-friday/
END:VEVENT
BEGIN:VEVENT
DTSTART;TZID=America/New_York:20250418T070000
DTEND;TZID=America/New_York:20250418T080000
DTSTAMP:20260424T030158
CREATED:20250225T151501Z
LAST-MODIFIED:20250225T151501Z
UID:34055-1744959600-1744963200@goodshepherdbinghamton.org
SUMMARY:Morning Prayer
DESCRIPTION:Morning Prayer meets online by Zoom at 7am Monday through Friday. Theliturgy and readings are available at www.dailyoffice2019.com.  \nJoin the parishemail list and look for a weekly email invitation in your inbox.
URL:https://goodshepherdbinghamton.org/event/morning-prayer-126/
END:VEVENT
BEGIN:VEVENT
DTSTART;TZID=America/New_York:20250417T190000
DTEND;TZID=America/New_York:20250417T203000
DTSTAMP:20260424T030158
CREATED:20250409T020748Z
LAST-MODIFIED:20250409T020751Z
UID:34227-1744916400-1744921800@goodshepherdbinghamton.org
SUMMARY:Maundy Thursday
DESCRIPTION:Maundy Thursday communion celebrates the humility of Jesus with a ceremonial foot washing.  Jesus is the King of Kings and Lord of Lord’s and yet on the night before he died\, during the Last Supper\, he knelt down and one by one washed his disciples’ feet. He did this to show his disciples\, and to show you and me\, how to serve one another with humility and love\, being willing even to stoop to the most menial tasks. Maundy Thursday is the last chance for communion until the Great Vigil.
URL:https://goodshepherdbinghamton.org/event/maundy-thursday/
END:VEVENT
BEGIN:VEVENT
DTSTART;TZID=America/New_York:20250417T173000
DTEND;TZID=America/New_York:20250417T183000
DTSTAMP:20260424T030158
CREATED:20250225T150714Z
LAST-MODIFIED:20250225T150714Z
UID:33896-1744911000-1744914600@goodshepherdbinghamton.org
SUMMARY:Shepherd's Bowl Community Meal
DESCRIPTION:Each Thursday evening\, Good Shepherd offers a free nutritious meal to thepeople of Good Shepherd and the wider community. If you are able\, this is a great time to get to know others and enjoya free and delicious meal. \nThe Rev. Jonathan Groves leads a beginners Bible study at 6:00 and anyone is welcome to attend.  The study is currently working on the book of Judges. \nPlease find our page on Facebook\, Shepherd’s Bowl Free Community Meal\, and follow\, like and share posts\, and invite friends. 
URL:https://goodshepherdbinghamton.org/event/shepherds-bowl-community-meal-87/
END:VEVENT
BEGIN:VEVENT
DTSTART;TZID=America/New_York:20250417T070000
DTEND;TZID=America/New_York:20250417T080000
DTSTAMP:20260424T030158
CREATED:20250225T151501Z
LAST-MODIFIED:20250225T151501Z
UID:34054-1744873200-1744876800@goodshepherdbinghamton.org
SUMMARY:Morning Prayer
DESCRIPTION:Morning Prayer meets online by Zoom at 7am Monday through Friday. Theliturgy and readings are available at www.dailyoffice2019.com.  \nJoin the parishemail list and look for a weekly email invitation in your inbox.
URL:https://goodshepherdbinghamton.org/event/morning-prayer-125/
END:VEVENT
BEGIN:VEVENT
DTSTART;TZID=America/New_York:20250416T200000
DTEND;TZID=America/New_York:20250416T210000
DTSTAMP:20260424T030158
CREATED:20250409T020543Z
LAST-MODIFIED:20250409T020547Z
UID:34225-1744833600-1744837200@goodshepherdbinghamton.org
SUMMARY:Tenebrae Service
DESCRIPTION:Tenebrae means “shadows” in Latin.  It is a service of word\, light and sound.  When you arrive for worship you will see two groups of candles lit on the altar table. As readings are read the candles on the altar will be gradually extinguished until the very end of the service when the last candle left lit is removed from the worship space and the whole sanctuary is left in darkness. At that point a loud crash will (should) shatter the silence of the sanctuary. Then\, after a moment\, the last candle is returned to the sanctuary\, and the worshippers depart in silence. The gradual darkening of the sanctuary and the crashing noise symbolizes the apparent victory of death\, darkness\, and chaos over Jesus Christ on the cross. The final candle being removed and returned\, symbolizes the truth that through Jesus’ death\, God gained victory over all the powers of evil. The Light was not overcome.
URL:https://goodshepherdbinghamton.org/event/tenebrae-service/
END:VEVENT
BEGIN:VEVENT
DTSTART;TZID=America/New_York:20250416T070000
DTEND;TZID=America/New_York:20250416T080000
DTSTAMP:20260424T030158
CREATED:20250225T151500Z
LAST-MODIFIED:20250225T151500Z
UID:34053-1744786800-1744790400@goodshepherdbinghamton.org
SUMMARY:Morning Prayer
DESCRIPTION:Morning Prayer meets online by Zoom at 7am Monday through Friday. Theliturgy and readings are available at www.dailyoffice2019.com.  \nJoin the parishemail list and look for a weekly email invitation in your inbox.
URL:https://goodshepherdbinghamton.org/event/morning-prayer-124/
END:VEVENT
BEGIN:VEVENT
DTSTART;TZID=America/New_York:20250415T153000
DTEND;TZID=America/New_York:20250415T164500
DTSTAMP:20260424T030158
CREATED:20250225T150745Z
LAST-MODIFIED:20250225T150745Z
UID:33909-1744731000-1744735500@goodshepherdbinghamton.org
SUMMARY:Good Shepherd Choir Rehearsal
DESCRIPTION:If you would like more information about the music program at Good Shepherd\, please contact Michael Berman.
URL:https://goodshepherdbinghamton.org/event/good-shepherd-choir-rehearsal-69/
END:VEVENT
BEGIN:VEVENT
DTSTART;TZID=America/New_York:20250415T070000
DTEND;TZID=America/New_York:20250415T080000
DTSTAMP:20260424T030158
CREATED:20250225T151500Z
LAST-MODIFIED:20250225T151500Z
UID:34052-1744700400-1744704000@goodshepherdbinghamton.org
SUMMARY:Morning Prayer
DESCRIPTION:Morning Prayer meets online by Zoom at 7am Monday through Friday. Theliturgy and readings are available at www.dailyoffice2019.com.  \nJoin the parishemail list and look for a weekly email invitation in your inbox.
URL:https://goodshepherdbinghamton.org/event/morning-prayer-123/
END:VEVENT
BEGIN:VEVENT
DTSTART;TZID=America/New_York:20250414T070000
DTEND;TZID=America/New_York:20250414T080000
DTSTAMP:20260424T030158
CREATED:20250225T151500Z
LAST-MODIFIED:20250225T151500Z
UID:34051-1744614000-1744617600@goodshepherdbinghamton.org
SUMMARY:Morning Prayer
DESCRIPTION:Morning Prayer meets online by Zoom at 7am Monday through Friday. Theliturgy and readings are available at www.dailyoffice2019.com.  \nJoin the parishemail list and look for a weekly email invitation in your inbox.
URL:https://goodshepherdbinghamton.org/event/morning-prayer-122/
END:VEVENT
BEGIN:VEVENT
DTSTART;TZID=America/New_York:20250413T180000
DTEND;TZID=America/New_York:20250413T193000
DTSTAMP:20260424T030158
CREATED:20250225T150630Z
LAST-MODIFIED:20250225T150630Z
UID:33883-1744567200-1744572600@goodshepherdbinghamton.org
SUMMARY:Holy Group Squad
DESCRIPTION:Holy Group Squad is a meeting of college aged young adults. They read and discuss literature through a Christian worldview. \nIf you would like more information about Holy Group Squad\, please contact Jonathan Groves.
URL:https://goodshepherdbinghamton.org/event/holy-group-squad-26/
END:VEVENT
BEGIN:VEVENT
DTSTART;TZID=America/New_York:20250413T180000
DTEND;TZID=America/New_York:20250413T193000
DTSTAMP:20260424T030158
CREATED:20250225T150545Z
LAST-MODIFIED:20250225T150545Z
UID:33870-1744567200-1744572600@goodshepherdbinghamton.org
SUMMARY:Good Shepherd Youth Group
DESCRIPTION:Good Shepherd Youth Group meets Sundays at 6pm. This is an engagingcontext for kids to grow in: \n1) Knowledge of scripture and doctrine \n2) Faithfulness to Christ \n3) Service to others
URL:https://goodshepherdbinghamton.org/event/good-shepherd-youth-group-30/
END:VEVENT
BEGIN:VEVENT
DTSTART;TZID=America/New_York:20250413T163000
DTEND;TZID=America/New_York:20250413T180000
DTSTAMP:20260424T030158
CREATED:20250224T183056Z
LAST-MODIFIED:20250225T150515Z
UID:33804-1744561800-1744567200@goodshepherdbinghamton.org
SUMMARY:Good Shepherd Choir Rehearsal
DESCRIPTION:The Good Shepherd Choir gathers to rehearse three times a week on Sunday\, Tuesday\, and Wednesday.   \nIf you would like more information about the music program at Good Shepherd\, please contact Michael Berman.
URL:https://goodshepherdbinghamton.org/event/good-shepherd-choir-rehearsal-56/
END:VEVENT
BEGIN:VEVENT
DTSTART;TZID=America/New_York:20250413T103000
DTEND;TZID=America/New_York:20250413T123000
DTSTAMP:20260424T030158
CREATED:20250409T020324Z
LAST-MODIFIED:20250409T020328Z
UID:34223-1744540200-1744547400@goodshepherdbinghamton.org
SUMMARY:Palm Sunday
DESCRIPTION:Palm Sunday is the day that Christians observe the triumphal entry of Christ into Jerusalem.  Crowds of people greeted him at the city gates with waving palms as the King of the Jews.  One short week later\, he would be hung upon the cross at Golgotha.  \n\n\n\nThis year\, the 10:30 service begins with the Liturgy of the Palms at the street sign\, and processes through the parking lot into the sanctuary doors on Saratoga Street.
URL:https://goodshepherdbinghamton.org/event/palm-sunday/
END:VEVENT
BEGIN:VEVENT
DTSTART;TZID=America/New_York:20250413T091500
DTEND;TZID=America/New_York:20250413T101500
DTSTAMP:20260424T030158
CREATED:20250225T151131Z
LAST-MODIFIED:20250409T023609Z
UID:33985-1744535700-1744539300@goodshepherdbinghamton.org
SUMMARY:Christian Education for Everyone
DESCRIPTION:Children \nFor children aged 1-12. Good Shepherd offers Catechesis of the Good Shepherd—a program of prayer\, worship\, and scripture in specially prepared Montessori-style rooms—The Pen (1-3)\, The Pasture (3-6)\, The Vineyard (6-9)\, and The Tabernacle (9-12). \nTeens \nTeens aged 12 to 14 cover a range of topics—the Bible\, Liturgy\, Church History\, Apologetics\, the 39 Articles—in a three-year cycle. This is a discussion-style class that prepares kids for confirmation. \nAdult Class  \nDiscussion and study on topics ranging from Christian literature\, the 39 articles\, church history\, difficult passages of the bible\, and more.     \nPlease contact the Good Shepherd office for more information.
URL:https://goodshepherdbinghamton.org/event/christian-education-for-everyone-12/
END:VEVENT
BEGIN:VEVENT
DTSTART;TZID=America/New_York:20250413T091500
DTEND;TZID=America/New_York:20250413T101500
DTSTAMP:20260424T030158
CREATED:20250224T182739Z
LAST-MODIFIED:20250225T145845Z
UID:33770-1744535700-1744539300@goodshepherdbinghamton.org
SUMMARY:Christian Education for All
DESCRIPTION:Christian Education for All  \nChildren \nChildren aged 2-11 are invited to pray\, worship\, and learn in specially prepared Montessori-style rooms—The Vineyard (2-3)\, The Pasture (3-6)\, and The Tabernacle (7-11). They study the Bible\, engage with liturgy\, and gradually are oriented to a full life in the church.  \n  \nTeens \nTeens aged12 to 14 cover a range of topics—the Bible\, Liturgy\, Church History\, Apologetics\, the 39 Articles—in a three-year cycle. This is a discussion-style class that prepares kids for confirmation. \n  \nAdult Class  \nEach Sunday a member of the pastoral staff or a guest speakerfacilitates a discussion on topics ranging from Christian literature\, to socialtopics\, the 39 articles\, church history\, and more.     \nThis class meets online and in person in the parish hall of the church.  It can be viewed at https://www.facebook.com/groups/CoGSMedia/
URL:https://goodshepherdbinghamton.org/event/christian-education-for-all-46/
END:VEVENT
BEGIN:VEVENT
DTSTART;TZID=America/New_York:20250413T080000
DTEND;TZID=America/New_York:20250413T090000
DTSTAMP:20260424T030158
CREATED:20250224T182824Z
LAST-MODIFIED:20250225T150037Z
UID:33787-1744531200-1744534800@goodshepherdbinghamton.org
SUMMARY:First Service
DESCRIPTION:This is an early\, more quiet version of the service at 10:30. \nThe 8am service is not currently being live-streamed. \nThis service involves readings from the Bible\, a sermon\, offering\, confession\, and communion.  There is no music during this service.
URL:https://goodshepherdbinghamton.org/event/first-service-90/
END:VEVENT
BEGIN:VEVENT
DTSTART;TZID=America/New_York:20250411T163000
DTEND;TZID=America/New_York:20250411T173000
DTSTAMP:20260424T030158
CREATED:20250225T150945Z
LAST-MODIFIED:20250225T150945Z
UID:33946-1744389000-1744392600@goodshepherdbinghamton.org
SUMMARY:Women's Bible Study
DESCRIPTION:This study meets at 4:30 pm on Friday afternoons in the Parish Hall (lower level).   \nAnne Kennedy is leading and we are currently studying the book of Luke. \nChildren are welcome—as in\, we hope to have some childcare available. Often\, some of the families will come early and the children will play while the mothers visit.   \nPlease contact the office at (607)723-8032 for more information.
URL:https://goodshepherdbinghamton.org/event/womens-bible-study-30/
END:VEVENT
BEGIN:VEVENT
DTSTART;TZID=America/New_York:20250411T070000
DTEND;TZID=America/New_York:20250411T080000
DTSTAMP:20260424T030158
CREATED:20250225T151446Z
LAST-MODIFIED:20250225T151446Z
UID:34050-1744354800-1744358400@goodshepherdbinghamton.org
SUMMARY:Morning Prayer
DESCRIPTION:Morning Prayer meets online by Zoom at 7am Monday through Friday. Theliturgy and readings are available at www.dailyoffice2019.com.  \nJoin the parishemail list and look for a weekly email invitation in your inbox.
URL:https://goodshepherdbinghamton.org/event/morning-prayer-121/
END:VEVENT
BEGIN:VEVENT
DTSTART;TZID=America/New_York:20250411T063000
DTEND;TZID=America/New_York:20250411T080000
DTSTAMP:20260424T030158
CREATED:20250225T150900Z
LAST-MODIFIED:20250225T150900Z
UID:33934-1744353000-1744358400@goodshepherdbinghamton.org
SUMMARY:Men's Breakfast and Bible Study
DESCRIPTION:Every Friday morning at 6:30am men from Good Shepherd\, other area churches\, and the community gather to share a warm breakfast and study the bible. The study is expositional\, moving verse by verse through one book of the bible at a time\, with the purpose of coming to a better understanding of God and his word. \nThere is plenty of discussion\, question and answer time\, prayer\, and fellowship. You do not have to be a member of Good Shepherd or any other church to attend. The study meets at Good Shepherd\, downstairs in the parish hall. It usually ends at 8:00am but men come and go during the study according to their work schedules. Men of all ages are welcome to come\, eat\, and learn from the scriptures.This class is currently studying the book of Revelation.If you’d like more information\, please contact Jonathan Groves for a link to access the class @ jg.arrowhead@gmail.com
URL:https://goodshepherdbinghamton.org/event/mens-breakfast-and-bible-study-85/
END:VEVENT
BEGIN:VEVENT
DTSTART;TZID=America/New_York:20250410T181500
DTEND;TZID=America/New_York:20250410T191500
DTSTAMP:20260424T030158
CREATED:20250225T151215Z
LAST-MODIFIED:20250225T151215Z
UID:33997-1744308900-1744312500@goodshepherdbinghamton.org
SUMMARY:Beginner's Bible Study
DESCRIPTION:Every Thursday evening at 6pm\, there is a beginner’s bible study at Good Shepherd.  All are welcome! \nThis is a great place to connect with others and learn more about what God has to say to us through his word.  The class is taught by The Rev. Dcn. Warren Musselman\, and the class is currently studying the book of James. 
URL:https://goodshepherdbinghamton.org/event/beginners-bible-study-74/
END:VEVENT
BEGIN:VEVENT
DTSTART;TZID=America/New_York:20250410T173000
DTEND;TZID=America/New_York:20250410T183000
DTSTAMP:20260424T030158
CREATED:20250225T150700Z
LAST-MODIFIED:20250225T150700Z
UID:33895-1744306200-1744309800@goodshepherdbinghamton.org
SUMMARY:Shepherd's Bowl Community Meal
DESCRIPTION:Each Thursday evening\, Good Shepherd offers a free nutritious meal to thepeople of Good Shepherd and the wider community. If you are able\, this is a great time to get to know others and enjoya free and delicious meal. \nThe Rev. Jonathan Groves leads a beginners Bible study at 6:00 and anyone is welcome to attend.  The study is currently working on the book of Judges. \nPlease find our page on Facebook\, Shepherd’s Bowl Free Community Meal\, and follow\, like and share posts\, and invite friends. 
URL:https://goodshepherdbinghamton.org/event/shepherds-bowl-community-meal-86/
END:VEVENT
BEGIN:VEVENT
DTSTART;TZID=America/New_York:20250410T070000
DTEND;TZID=America/New_York:20250410T080000
DTSTAMP:20260424T030158
CREATED:20250225T151446Z
LAST-MODIFIED:20250225T151446Z
UID:34049-1744268400-1744272000@goodshepherdbinghamton.org
SUMMARY:Morning Prayer
DESCRIPTION:Morning Prayer meets online by Zoom at 7am Monday through Friday. Theliturgy and readings are available at www.dailyoffice2019.com.  \nJoin the parishemail list and look for a weekly email invitation in your inbox.
URL:https://goodshepherdbinghamton.org/event/morning-prayer-120/
END:VEVENT
BEGIN:VEVENT
DTSTART;TZID=America/New_York:20250409T183000
DTEND;TZID=America/New_York:20250409T200000
DTSTAMP:20260424T030158
CREATED:20250225T150830Z
LAST-MODIFIED:20250225T150830Z
UID:33921-1744223400-1744228800@goodshepherdbinghamton.org
SUMMARY:Good Shepherd Choir Rehearsal
DESCRIPTION: If you would like more information about the music program at Good Shepherd\, please contact Michael Berman.
URL:https://goodshepherdbinghamton.org/event/good-shepherd-choir-rehearsal-81/
END:VEVENT
BEGIN:VEVENT
DTSTART;TZID=America/New_York:20250409T070000
DTEND;TZID=America/New_York:20250409T080000
DTSTAMP:20260424T030158
CREATED:20250225T151446Z
LAST-MODIFIED:20250225T151446Z
UID:34048-1744182000-1744185600@goodshepherdbinghamton.org
SUMMARY:Morning Prayer
DESCRIPTION:Morning Prayer meets online by Zoom at 7am Monday through Friday. Theliturgy and readings are available at www.dailyoffice2019.com.  \nJoin the parishemail list and look for a weekly email invitation in your inbox.
URL:https://goodshepherdbinghamton.org/event/morning-prayer-119/
END:VEVENT
BEGIN:VEVENT
DTSTART;TZID=America/New_York:20250408T153000
DTEND;TZID=America/New_York:20250408T164500
DTSTAMP:20260424T030158
CREATED:20250225T150745Z
LAST-MODIFIED:20250225T150745Z
UID:33908-1744126200-1744130700@goodshepherdbinghamton.org
SUMMARY:Good Shepherd Choir Rehearsal
DESCRIPTION:If you would like more information about the music program at Good Shepherd\, please contact Michael Berman.
URL:https://goodshepherdbinghamton.org/event/good-shepherd-choir-rehearsal-68/
END:VEVENT
BEGIN:VEVENT
DTSTART;TZID=America/New_York:20250408T090000
DTEND;TZID=America/New_York:20250408T100000
DTSTAMP:20260424T030158
CREATED:20250225T151016Z
LAST-MODIFIED:20250225T151016Z
UID:33958-1744102800-1744106400@goodshepherdbinghamton.org
SUMMARY:Tuesday Morning Bible Study
DESCRIPTION:Tuesday Morning Bible Study meets at 9:05am to walk through different books of the bible\, verse by verse.  Taught by a member of the pastoral staff in the main room of the parish hall.  This class can be viewed in person or online each week by livestream.  \nThis class is currently working on a study focusing the book of 2 Samuel. \nThis class is meeting online and in person in the parish hall.  It can be viewed at https://www.facebook.com/groups/CoGSMedia/
URL:https://goodshepherdbinghamton.org/event/tuesday-morning-bible-study-87/
END:VEVENT
BEGIN:VEVENT
DTSTART;TZID=America/New_York:20250408T070000
DTEND;TZID=America/New_York:20250408T080000
DTSTAMP:20260424T030158
CREATED:20250225T151445Z
LAST-MODIFIED:20250225T151445Z
UID:34047-1744095600-1744099200@goodshepherdbinghamton.org
SUMMARY:Morning Prayer
DESCRIPTION:Morning Prayer meets online by Zoom at 7am Monday through Friday. Theliturgy and readings are available at www.dailyoffice2019.com.  \nJoin the parishemail list and look for a weekly email invitation in your inbox.
URL:https://goodshepherdbinghamton.org/event/morning-prayer-118/
END:VEVENT
BEGIN:VEVENT
DTSTART;TZID=America/New_York:20250407T070000
DTEND;TZID=America/New_York:20250407T080000
DTSTAMP:20260424T030158
CREATED:20250225T151445Z
LAST-MODIFIED:20250225T151445Z
UID:34046-1744009200-1744012800@goodshepherdbinghamton.org
SUMMARY:Morning Prayer
DESCRIPTION:Morning Prayer meets online by Zoom at 7am Monday through Friday. Theliturgy and readings are available at www.dailyoffice2019.com.  \nJoin the parishemail list and look for a weekly email invitation in your inbox.
URL:https://goodshepherdbinghamton.org/event/morning-prayer-117/
END:VEVENT
END:VCALENDAR