BEGIN:VCALENDAR
VERSION:2.0
PRODID:-//Church of the Good Shepherd - ECPv6.15.20//NONSGML v1.0//EN
CALSCALE:GREGORIAN
METHOD:PUBLISH
X-WR-CALNAME:Church of the Good Shepherd
X-ORIGINAL-URL:https://goodshepherdbinghamton.org
X-WR-CALDESC:Events for Church of the Good Shepherd
REFRESH-INTERVAL;VALUE=DURATION:PT1H
X-Robots-Tag:noindex
X-PUBLISHED-TTL:PT1H
BEGIN:VTIMEZONE
TZID:America/New_York
BEGIN:DAYLIGHT
TZOFFSETFROM:-0500
TZOFFSETTO:-0400
TZNAME:EDT
DTSTART:20220313T070000
END:DAYLIGHT
BEGIN:STANDARD
TZOFFSETFROM:-0400
TZOFFSETTO:-0500
TZNAME:EST
DTSTART:20221106T060000
END:STANDARD
BEGIN:DAYLIGHT
TZOFFSETFROM:-0500
TZOFFSETTO:-0400
TZNAME:EDT
DTSTART:20230312T070000
END:DAYLIGHT
BEGIN:STANDARD
TZOFFSETFROM:-0400
TZOFFSETTO:-0500
TZNAME:EST
DTSTART:20231105T060000
END:STANDARD
BEGIN:DAYLIGHT
TZOFFSETFROM:-0500
TZOFFSETTO:-0400
TZNAME:EDT
DTSTART:20240310T070000
END:DAYLIGHT
BEGIN:STANDARD
TZOFFSETFROM:-0400
TZOFFSETTO:-0500
TZNAME:EST
DTSTART:20241103T060000
END:STANDARD
END:VTIMEZONE
BEGIN:VEVENT
DTSTART;TZID=America/New_York:20231107T090000
DTEND;TZID=America/New_York:20231107T100000
DTSTAMP:20260425T070614
CREATED:20230905T154011Z
LAST-MODIFIED:20231113T182213Z
UID:25159-1699347600-1699351200@goodshepherdbinghamton.org
SUMMARY:Tuesday Morning Bible Study
DESCRIPTION:Tuesday Morning Bible Study meets at 9:05am to walk through different books of the bible\, verse by verse.  Taught by a member of the pastoral staff in the main room of the parish hall.  This class can be viewed in person or online each week by livestream.  \nThis class is currently working on a study focusing the book of 1 Samuel. \nThis class is meeting online and in person in the parish hall.  It can be viewed at https://www.facebook.com/groups/CoGSMedia/
URL:https://goodshepherdbinghamton.org/event/tuesday-morning-bible-study-16/
END:VEVENT
BEGIN:VEVENT
DTSTART;TZID=America/New_York:20231105T180000
DTEND;TZID=America/New_York:20231105T193000
DTSTAMP:20260425T070614
CREATED:20230905T154313Z
LAST-MODIFIED:20231113T182302Z
UID:25247-1699207200-1699212600@goodshepherdbinghamton.org
SUMMARY:Youth Group
DESCRIPTION:The Good Shepherd Youth Group serves high school aged young adultsby providing an engaging context for them to grow in: \n1) Maturity in doctrine \n2) Faithfulness to Christ \n3) Service to others \nYouth Group meets Sunday evenings from 6-7:30pm\, and is led by The Rev. Jonathan Groves\, with assistance from William (Bill) Lane\, and Katie Whaley. \nThe youth group is currently finishing up a study on the book of Hebrews.
URL:https://goodshepherdbinghamton.org/event/youth-group-9/
END:VEVENT
BEGIN:VEVENT
DTSTART;TZID=America/New_York:20231105T163000
DTEND;TZID=America/New_York:20231105T180000
DTSTAMP:20260425T070614
CREATED:20230905T154129Z
LAST-MODIFIED:20231113T182250Z
UID:25198-1699201800-1699207200@goodshepherdbinghamton.org
SUMMARY:Choir Rehearsal
DESCRIPTION:All choir members are welcome to come for an additional rehearsal on Sunday evenings.
URL:https://goodshepherdbinghamton.org/event/choir-rehearsal-9/
END:VEVENT
BEGIN:VEVENT
DTSTART;TZID=America/New_York:20231105T103000
DTEND;TZID=America/New_York:20231105T120000
DTSTAMP:20260425T070614
CREATED:20230905T135443Z
LAST-MODIFIED:20231113T182126Z
UID:25013-1699180200-1699185600@goodshepherdbinghamton.org
SUMMARY:2nd Service
DESCRIPTION:This is the main service at Good Shepherd.   \nAt this service\, there is a blend of both contemporary and traditional worship music\, bible readings\, a sermon\, confession\, and communion.   \nAt Good Shepherd you will find friendly people\,engaging sermons\, joyful worship\, practical teaching\, and lots of kids. All are welcome! \nThe bulletin is available as a digital download at www.goodshepherdbinghamton.org.   \nThe service is currently open to the public and is being livestreamed at https://www.facebook.com/groups/CoGSMedia/ 
URL:https://goodshepherdbinghamton.org/event/2nd-service-14/
END:VEVENT
BEGIN:VEVENT
DTSTART;TZID=America/New_York:20231105T091500
DTEND;TZID=America/New_York:20231105T101500
DTSTAMP:20260425T070614
CREATED:20230905T143327Z
LAST-MODIFIED:20231113T182157Z
UID:25113-1699175700-1699179300@goodshepherdbinghamton.org
SUMMARY:Christian Ed
DESCRIPTION:Christian education is a class taught mainly by Matt Kennedy with occasional guest teachers.   \nWe are currently working on a series of discussions on Carl Trueman’s ‘The Rise and Triumph of the Modern Self’. \nThis class meets online and in person in the parish hall of the church.  It can be viewed at https://www.facebook.com/groups/CoGSMedia/  
URL:https://goodshepherdbinghamton.org/event/christian-ed-14/
END:VEVENT
BEGIN:VEVENT
DTSTART;TZID=America/New_York:20231105T080000
DTEND;TZID=America/New_York:20231105T090000
DTSTAMP:20260425T070614
CREATED:20230905T140008Z
LAST-MODIFIED:20231113T182149Z
UID:25069-1699171200-1699174800@goodshepherdbinghamton.org
SUMMARY:First Service
DESCRIPTION:This is an early\, more quiet version of the service at 10:30. \nThe 8am service is not currently being live-streamed. \nThis service involves readings from the Bible\, a sermon\, offering\, confession\, and communion.  There is no music during this service.
URL:https://goodshepherdbinghamton.org/event/first-service-15/
END:VEVENT
BEGIN:VEVENT
DTSTART;TZID=America/New_York:20231103T063000
DTEND;TZID=America/New_York:20231103T080000
DTSTAMP:20260425T070614
CREATED:20230905T135244Z
LAST-MODIFIED:20231113T182111Z
UID:24966-1698993000-1698998400@goodshepherdbinghamton.org
SUMMARY:Men's Breakfast and Bible Study
DESCRIPTION:Every Friday morning at 6:30am men from Good Shepherd\, other area churches\, and the community gather to share a warm breakfast and study the bible. The study is expositional\, moving verse by verse through one book of the bible at a time\, with the purpose of coming to a better understanding of God and his word. \nThere is plenty of discussion\, question and answer time\, prayer\, and fellowship. You do not have to be a member of Good Shepherd or any other church to attend. The study meets at Good Shepherd\, downstairs in the parish hall. It usually ends at 8:00am but men come and go during the study according to their work schedules. Men of all ages are welcome to come\, eat\, and learn from the scriptures. \nThis class is currently studying the book ofJeremiah.If you’d like more information\, please contact Jonathan Groves for a link to access the class @ jg.arrowhead@gmail.com
URL:https://goodshepherdbinghamton.org/event/mens-breakfast-and-bible-study-15/
END:VEVENT
BEGIN:VEVENT
DTSTART;TZID=America/New_York:20231102T180000
DTEND;TZID=America/New_York:20231102T190000
DTSTAMP:20260425T070614
CREATED:20230905T154413Z
LAST-MODIFIED:20231113T182317Z
UID:25291-1698948000-1698951600@goodshepherdbinghamton.org
SUMMARY:Beginner's Bible Study
DESCRIPTION:Every Thursday evening directly following the Shepherd’s Bowl Community Dinner\, there is a beginner’s bible study at Good Shepherd.  All are welcome! \nThis is a great place to connect with others and learn more about what God has to say to us through his word.  The class is taught by The Rev. Jonathan Groves\, and the class is currently studying the book of Mark. 
URL:https://goodshepherdbinghamton.org/event/beginners-bible-study-15/
END:VEVENT
BEGIN:VEVENT
DTSTART;TZID=America/New_York:20231102T173000
DTEND;TZID=America/New_York:20231102T183000
DTSTAMP:20260425T070614
CREATED:20230905T135122Z
LAST-MODIFIED:20231113T182048Z
UID:24922-1698946200-1698949800@goodshepherdbinghamton.org
SUMMARY:Shepherd's Bowl Community Meal
DESCRIPTION:Each Thursday evening\, Good Shepherd offers a free nutritious meal to thepeople of Good Shepherd and the wider community. If you are able\, this is a great time to get to know others and enjoya free and delicious meal. \nThe Rev. Jonathan Groves leads a beginners Bible study at 6:00 and anyone is welcome to attend.  The study is currently working on the book of Judges. \nPlease find our page on Facebook\, Shepherd’s Bowl Free Community Meal\, and follow\, like and share posts\, and invite friends. 
URL:https://goodshepherdbinghamton.org/event/shepherds-bowl-community-meal-28/
END:VEVENT
BEGIN:VEVENT
DTSTART;TZID=America/New_York:20231031T170000
DTEND;TZID=America/New_York:20231031T190000
DTSTAMP:20260425T070614
CREATED:20230905T135605Z
LAST-MODIFIED:20230905T135605Z
UID:25044-1698771600-1698778800@goodshepherdbinghamton.org
SUMMARY:Trunk n Treat
DESCRIPTION: Good Shepherd’s annual Trunk or Treat event will be held from 5-7pm.   \nPlease join us for a fun evening of snacks\, fun\, and fellowship.  There will be many car trunks decorated and filled with treats in the parking lot.  All are invited to this free event.  Please invite your family and friends.
URL:https://goodshepherdbinghamton.org/event/trunk-n-treat-2/
END:VEVENT
BEGIN:VEVENT
DTSTART;TZID=America/New_York:20231031T090000
DTEND;TZID=America/New_York:20231031T100000
DTSTAMP:20260425T070614
CREATED:20230905T154011Z
LAST-MODIFIED:20230905T154011Z
UID:25158-1698742800-1698746400@goodshepherdbinghamton.org
SUMMARY:Tuesday Morning Bible Study
DESCRIPTION:Tuesday Morning Bible Study meets at 9:05am to walk through different books of the bible\, verse by verse.  Taught by a member of the pastoral staff in the main room of the parish hall.  This class can be viewed in person or online each week by livestream.  \nThis class is currently working on a study focusing the book of 1 Samuel. \nThis class is meeting online and in person in the parish hall.  It can be viewed at https://www.facebook.com/groups/CoGSMedia/
URL:https://goodshepherdbinghamton.org/event/tuesday-morning-bible-study-15/
END:VEVENT
BEGIN:VEVENT
DTSTART;TZID=America/New_York:20231029T180000
DTEND;TZID=America/New_York:20231029T193000
DTSTAMP:20260425T070614
CREATED:20230905T154312Z
LAST-MODIFIED:20230905T154312Z
UID:25246-1698602400-1698607800@goodshepherdbinghamton.org
SUMMARY:Youth Group
DESCRIPTION:The Good Shepherd Youth Group serves high school aged young adultsby providing an engaging context for them to grow in: \n1) Maturity in doctrine \n2) Faithfulness to Christ \n3) Service to others \nYouth Group meets Sunday evenings from 6-7:30pm\, and is led by The Rev. Jonathan Groves\, with assistance from William (Bill) Lane\, and Katie Whaley. \nThe youth group is currently finishing up a study on the book of Hebrews.
URL:https://goodshepherdbinghamton.org/event/youth-group-8/
END:VEVENT
BEGIN:VEVENT
DTSTART;TZID=America/New_York:20231029T163000
DTEND;TZID=America/New_York:20231029T180000
DTSTAMP:20260425T070614
CREATED:20230905T154129Z
LAST-MODIFIED:20230905T154129Z
UID:25197-1698597000-1698602400@goodshepherdbinghamton.org
SUMMARY:Choir Rehearsal
DESCRIPTION:All choir members are welcome to come for an additional rehearsal on Sunday evenings.
URL:https://goodshepherdbinghamton.org/event/choir-rehearsal-8/
END:VEVENT
BEGIN:VEVENT
DTSTART;TZID=America/New_York:20231029T103000
DTEND;TZID=America/New_York:20231029T120000
DTSTAMP:20260425T070614
CREATED:20230905T135443Z
LAST-MODIFIED:20230905T135443Z
UID:25012-1698575400-1698580800@goodshepherdbinghamton.org
SUMMARY:2nd Service
DESCRIPTION:This is the main service at Good Shepherd.   \nAt this service\, there is a blend of both contemporary and traditional worship music\, bible readings\, a sermon\, confession\, and communion.   \nAt Good Shepherd you will find friendly people\,engaging sermons\, joyful worship\, practical teaching\, and lots of kids. All are welcome! \nThe bulletin is available as a digital download at www.goodshepherdbinghamton.org.   \nThe service is currently open to the public and is being livestreamed at https://www.facebook.com/groups/CoGSMedia/ 
URL:https://goodshepherdbinghamton.org/event/2nd-service-13/
END:VEVENT
BEGIN:VEVENT
DTSTART;TZID=America/New_York:20231029T091500
DTEND;TZID=America/New_York:20231029T101500
DTSTAMP:20260425T070614
CREATED:20230905T143327Z
LAST-MODIFIED:20230905T143327Z
UID:25112-1698570900-1698574500@goodshepherdbinghamton.org
SUMMARY:Christian Ed
DESCRIPTION:Christian education is a class taught mainly by Matt Kennedy with occasional guest teachers.   \nWe are currently working on a series of discussions on Carl Trueman’s ‘The Rise and Triumph of the Modern Self’. \nThis class meets online and in person in the parish hall of the church.  It can be viewed at https://www.facebook.com/groups/CoGSMedia/  
URL:https://goodshepherdbinghamton.org/event/christian-ed-13/
END:VEVENT
BEGIN:VEVENT
DTSTART;TZID=America/New_York:20231029T080000
DTEND;TZID=America/New_York:20231029T090000
DTSTAMP:20260425T070614
CREATED:20230905T140008Z
LAST-MODIFIED:20230905T140008Z
UID:25068-1698566400-1698570000@goodshepherdbinghamton.org
SUMMARY:First Service
DESCRIPTION:This is an early\, more quiet version of the service at 10:30. \nThe 8am service is not currently being live-streamed. \nThis service involves readings from the Bible\, a sermon\, offering\, confession\, and communion.  There is no music during this service.
URL:https://goodshepherdbinghamton.org/event/first-service-14/
END:VEVENT
BEGIN:VEVENT
DTSTART;TZID=America/New_York:20231027T063000
DTEND;TZID=America/New_York:20231027T080000
DTSTAMP:20260425T070614
CREATED:20230905T135233Z
LAST-MODIFIED:20230905T135233Z
UID:24965-1698388200-1698393600@goodshepherdbinghamton.org
SUMMARY:Men's Breakfast and Bible Study
DESCRIPTION:Every Friday morning at 6:30am men from Good Shepherd\, other area churches\, and the community gather to share a warm breakfast and study the bible. The study is expositional\, moving verse by verse through one book of the bible at a time\, with the purpose of coming to a better understanding of God and his word. \nThere is plenty of discussion\, question and answer time\, prayer\, and fellowship. You do not have to be a member of Good Shepherd or any other church to attend. The study meets at Good Shepherd\, downstairs in the parish hall. It usually ends at 8:00am but men come and go during the study according to their work schedules. Men of all ages are welcome to come\, eat\, and learn from the scriptures. \nThis class is currently studying the book ofJeremiah.If you’d like more information\, please contact Jonathan Groves for a link to access the class @ jg.arrowhead@gmail.com
URL:https://goodshepherdbinghamton.org/event/mens-breakfast-and-bible-study-14/
END:VEVENT
BEGIN:VEVENT
DTSTART;TZID=America/New_York:20231026T180000
DTEND;TZID=America/New_York:20231026T190000
DTSTAMP:20260425T070614
CREATED:20230905T154411Z
LAST-MODIFIED:20230905T154411Z
UID:25290-1698343200-1698346800@goodshepherdbinghamton.org
SUMMARY:Beginner's Bible Study
DESCRIPTION:Every Thursday evening directly following the Shepherd’s Bowl Community Dinner\, there is a beginner’s bible study at Good Shepherd.  All are welcome! \nThis is a great place to connect with others and learn more about what God has to say to us through his word.  The class is taught by The Rev. Jonathan Groves\, and the class is currently studying the book of Mark. 
URL:https://goodshepherdbinghamton.org/event/beginners-bible-study-13/
END:VEVENT
BEGIN:VEVENT
DTSTART;TZID=America/New_York:20231026T173000
DTEND;TZID=America/New_York:20231026T183000
DTSTAMP:20260425T070614
CREATED:20230905T135122Z
LAST-MODIFIED:20230905T135122Z
UID:24921-1698341400-1698345000@goodshepherdbinghamton.org
SUMMARY:Shepherd's Bowl Community Meal
DESCRIPTION:Each Thursday evening\, Good Shepherd offers a free nutritious meal to thepeople of Good Shepherd and the wider community. If you are able\, this is a great time to get to know others and enjoya free and delicious meal. \nThe Rev. Jonathan Groves leads a beginners Bible study at 6:00 and anyone is welcome to attend.  The study is currently working on the book of Judges. \nPlease find our page on Facebook\, Shepherd’s Bowl Free Community Meal\, and follow\, like and share posts\, and invite friends. 
URL:https://goodshepherdbinghamton.org/event/shepherds-bowl-community-meal-27/
END:VEVENT
BEGIN:VEVENT
DTSTART;TZID=America/New_York:20231024T090000
DTEND;TZID=America/New_York:20231024T100000
DTSTAMP:20260425T070614
CREATED:20230905T154011Z
LAST-MODIFIED:20230905T154011Z
UID:25157-1698138000-1698141600@goodshepherdbinghamton.org
SUMMARY:Tuesday Morning Bible Study
DESCRIPTION:Tuesday Morning Bible Study meets at 9:05am to walk through different books of the bible\, verse by verse.  Taught by a member of the pastoral staff in the main room of the parish hall.  This class can be viewed in person or online each week by livestream.  \nThis class is currently working on a study focusing the book of 1 Samuel. \nThis class is meeting online and in person in the parish hall.  It can be viewed at https://www.facebook.com/groups/CoGSMedia/
URL:https://goodshepherdbinghamton.org/event/tuesday-morning-bible-study-14/
END:VEVENT
BEGIN:VEVENT
DTSTART;TZID=America/New_York:20231022T180000
DTEND;TZID=America/New_York:20231022T193000
DTSTAMP:20260425T070614
CREATED:20230905T154304Z
LAST-MODIFIED:20230905T154304Z
UID:25245-1697997600-1698003000@goodshepherdbinghamton.org
SUMMARY:Youth Group
DESCRIPTION:The Good Shepherd Youth Group serves high school aged young adultsby providing an engaging context for them to grow in: \n1) Maturity in doctrine \n2) Faithfulness to Christ \n3) Service to others \nYouth Group meets Sunday evenings from 6-7:30pm\, and is led by The Rev. Jonathan Groves\, with assistance from William (Bill) Lane\, and Katie Whaley. \nThe youth group is currently finishing up a study on the book of Hebrews.
URL:https://goodshepherdbinghamton.org/event/youth-group-7/
END:VEVENT
BEGIN:VEVENT
DTSTART;TZID=America/New_York:20231022T163000
DTEND;TZID=America/New_York:20231022T180000
DTSTAMP:20260425T070614
CREATED:20230905T154129Z
LAST-MODIFIED:20230905T154129Z
UID:25196-1697992200-1697997600@goodshepherdbinghamton.org
SUMMARY:Choir Rehearsal
DESCRIPTION:All choir members are welcome to come for an additional rehearsal on Sunday evenings.
URL:https://goodshepherdbinghamton.org/event/choir-rehearsal-7/
END:VEVENT
BEGIN:VEVENT
DTSTART;TZID=America/New_York:20231022T103000
DTEND;TZID=America/New_York:20231022T120000
DTSTAMP:20260425T070614
CREATED:20230905T135443Z
LAST-MODIFIED:20230905T135443Z
UID:25011-1697970600-1697976000@goodshepherdbinghamton.org
SUMMARY:2nd Service
DESCRIPTION:This is the main service at Good Shepherd.   \nAt this service\, there is a blend of both contemporary and traditional worship music\, bible readings\, a sermon\, confession\, and communion.   \nAt Good Shepherd you will find friendly people\,engaging sermons\, joyful worship\, practical teaching\, and lots of kids. All are welcome! \nThe bulletin is available as a digital download at www.goodshepherdbinghamton.org.   \nThe service is currently open to the public and is being livestreamed at https://www.facebook.com/groups/CoGSMedia/ 
URL:https://goodshepherdbinghamton.org/event/2nd-service-12/
END:VEVENT
BEGIN:VEVENT
DTSTART;TZID=America/New_York:20231022T091500
DTEND;TZID=America/New_York:20231022T101500
DTSTAMP:20260425T070614
CREATED:20230905T143327Z
LAST-MODIFIED:20230905T143327Z
UID:25111-1697966100-1697969700@goodshepherdbinghamton.org
SUMMARY:Christian Ed
DESCRIPTION:Christian education is a class taught mainly by Matt Kennedy with occasional guest teachers.   \nWe are currently working on a series of discussions on Carl Trueman’s ‘The Rise and Triumph of the Modern Self’. \nThis class meets online and in person in the parish hall of the church.  It can be viewed at https://www.facebook.com/groups/CoGSMedia/  
URL:https://goodshepherdbinghamton.org/event/christian-ed-12/
END:VEVENT
BEGIN:VEVENT
DTSTART;TZID=America/New_York:20231022T080000
DTEND;TZID=America/New_York:20231022T090000
DTSTAMP:20260425T070614
CREATED:20230905T140008Z
LAST-MODIFIED:20230905T140008Z
UID:25067-1697961600-1697965200@goodshepherdbinghamton.org
SUMMARY:First Service
DESCRIPTION:This is an early\, more quiet version of the service at 10:30. \nThe 8am service is not currently being live-streamed. \nThis service involves readings from the Bible\, a sermon\, offering\, confession\, and communion.  There is no music during this service.
URL:https://goodshepherdbinghamton.org/event/first-service-13/
END:VEVENT
BEGIN:VEVENT
DTSTART;TZID=America/New_York:20231020T063000
DTEND;TZID=America/New_York:20231020T080000
DTSTAMP:20260425T070614
CREATED:20230905T135233Z
LAST-MODIFIED:20230905T135233Z
UID:24964-1697783400-1697788800@goodshepherdbinghamton.org
SUMMARY:Men's Breakfast and Bible Study
DESCRIPTION:Every Friday morning at 6:30am men from Good Shepherd\, other area churches\, and the community gather to share a warm breakfast and study the bible. The study is expositional\, moving verse by verse through one book of the bible at a time\, with the purpose of coming to a better understanding of God and his word. \nThere is plenty of discussion\, question and answer time\, prayer\, and fellowship. You do not have to be a member of Good Shepherd or any other church to attend. The study meets at Good Shepherd\, downstairs in the parish hall. It usually ends at 8:00am but men come and go during the study according to their work schedules. Men of all ages are welcome to come\, eat\, and learn from the scriptures. \nThis class is currently studying the book ofJeremiah.If you’d like more information\, please contact Jonathan Groves for a link to access the class @ jg.arrowhead@gmail.com
URL:https://goodshepherdbinghamton.org/event/mens-breakfast-and-bible-study-13/
END:VEVENT
BEGIN:VEVENT
DTSTART;TZID=America/New_York:20231019T180000
DTEND;TZID=America/New_York:20231019T190000
DTSTAMP:20260425T070614
CREATED:20230905T154411Z
LAST-MODIFIED:20230905T154411Z
UID:25289-1697738400-1697742000@goodshepherdbinghamton.org
SUMMARY:Beginner's Bible Study
DESCRIPTION:Every Thursday evening directly following the Shepherd’s Bowl Community Dinner\, there is a beginner’s bible study at Good Shepherd.  All are welcome! \nThis is a great place to connect with others and learn more about what God has to say to us through his word.  The class is taught by The Rev. Jonathan Groves\, and the class is currently studying the book of Mark. 
URL:https://goodshepherdbinghamton.org/event/beginners-bible-study-12/
END:VEVENT
BEGIN:VEVENT
DTSTART;TZID=America/New_York:20231019T173000
DTEND;TZID=America/New_York:20231019T183000
DTSTAMP:20260425T070614
CREATED:20230905T135115Z
LAST-MODIFIED:20230905T135115Z
UID:24920-1697736600-1697740200@goodshepherdbinghamton.org
SUMMARY:Shepherd's Bowl Community Meal
DESCRIPTION:Each Thursday evening\, Good Shepherd offers a free nutritious meal to thepeople of Good Shepherd and the wider community. If you are able\, this is a great time to get to know others and enjoya free and delicious meal. \nThe Rev. Jonathan Groves leads a beginners Bible study at 6:00 and anyone is welcome to attend.  The study is currently working on the book of Judges. \nPlease find our page on Facebook\, Shepherd’s Bowl Free Community Meal\, and follow\, like and share posts\, and invite friends. 
URL:https://goodshepherdbinghamton.org/event/shepherds-bowl-community-meal-26/
END:VEVENT
BEGIN:VEVENT
DTSTART;TZID=America/New_York:20231017T090000
DTEND;TZID=America/New_York:20231017T100000
DTSTAMP:20260425T070614
CREATED:20230905T154011Z
LAST-MODIFIED:20230905T154011Z
UID:25156-1697533200-1697536800@goodshepherdbinghamton.org
SUMMARY:Tuesday Morning Bible Study
DESCRIPTION:Tuesday Morning Bible Study meets at 9:05am to walk through different books of the bible\, verse by verse.  Taught by a member of the pastoral staff in the main room of the parish hall.  This class can be viewed in person or online each week by livestream.  \nThis class is currently working on a study focusing the book of 1 Samuel. \nThis class is meeting online and in person in the parish hall.  It can be viewed at https://www.facebook.com/groups/CoGSMedia/
URL:https://goodshepherdbinghamton.org/event/tuesday-morning-bible-study-12/
END:VEVENT
BEGIN:VEVENT
DTSTART;TZID=America/New_York:20231015T180000
DTEND;TZID=America/New_York:20231015T193000
DTSTAMP:20260425T070614
CREATED:20230905T154304Z
LAST-MODIFIED:20230905T154304Z
UID:25244-1697392800-1697398200@goodshepherdbinghamton.org
SUMMARY:Youth Group
DESCRIPTION:The Good Shepherd Youth Group serves high school aged young adultsby providing an engaging context for them to grow in: \n1) Maturity in doctrine \n2) Faithfulness to Christ \n3) Service to others \nYouth Group meets Sunday evenings from 6-7:30pm\, and is led by The Rev. Jonathan Groves\, with assistance from William (Bill) Lane\, and Katie Whaley. \nThe youth group is currently finishing up a study on the book of Hebrews.
URL:https://goodshepherdbinghamton.org/event/youth-group-6/
END:VEVENT
END:VCALENDAR