BEGIN:VCALENDAR
VERSION:2.0
PRODID:-//Church of the Good Shepherd - ECPv6.15.20//NONSGML v1.0//EN
CALSCALE:GREGORIAN
METHOD:PUBLISH
X-ORIGINAL-URL:https://goodshepherdbinghamton.org
X-WR-CALDESC:Events for Church of the Good Shepherd
REFRESH-INTERVAL;VALUE=DURATION:PT1H
X-Robots-Tag:noindex
X-PUBLISHED-TTL:PT1H
BEGIN:VTIMEZONE
TZID:America/New_York
BEGIN:DAYLIGHT
TZOFFSETFROM:-0500
TZOFFSETTO:-0400
TZNAME:EDT
DTSTART:20230312T070000
END:DAYLIGHT
BEGIN:STANDARD
TZOFFSETFROM:-0400
TZOFFSETTO:-0500
TZNAME:EST
DTSTART:20231105T060000
END:STANDARD
BEGIN:DAYLIGHT
TZOFFSETFROM:-0500
TZOFFSETTO:-0400
TZNAME:EDT
DTSTART:20240310T070000
END:DAYLIGHT
BEGIN:STANDARD
TZOFFSETFROM:-0400
TZOFFSETTO:-0500
TZNAME:EST
DTSTART:20241103T060000
END:STANDARD
BEGIN:DAYLIGHT
TZOFFSETFROM:-0500
TZOFFSETTO:-0400
TZNAME:EDT
DTSTART:20250309T070000
END:DAYLIGHT
BEGIN:STANDARD
TZOFFSETFROM:-0400
TZOFFSETTO:-0500
TZNAME:EST
DTSTART:20251102T060000
END:STANDARD
END:VTIMEZONE
BEGIN:VEVENT
DTSTART;TZID=America/New_York:20240920T063000
DTEND;TZID=America/New_York:20240920T080000
DTSTAMP:20260425T071153
CREATED:20240702T181743Z
LAST-MODIFIED:20241028T191111Z
UID:32196-1726813800-1726819200@goodshepherdbinghamton.org
SUMMARY:Men's Breakfast and Bible Study
DESCRIPTION:Every Friday morning at 6:30am men from Good Shepherd\, other area churches\, and the community gather to share a warm breakfast and study the bible. The study is expositional\, moving verse by verse through one book of the bible at a time\, with the purpose of coming to a better understanding of God and his word. \nThere is plenty of discussion\, question and answer time\, prayer\, and fellowship. You do not have to be a member of Good Shepherd or any other church to attend. The study meets at Good Shepherd\, downstairs in the parish hall. It usually ends at 8:00am but men come and go during the study according to their work schedules. Men of all ages are welcome to come\, eat\, and learn from the scriptures.This class is currently studying the book of Revelation.If you’d like more information\, please contact Jonathan Groves for a link to access the class @ jg.arrowhead@gmail.com
URL:https://goodshepherdbinghamton.org/event/mens-breakfast-and-bible-study-61/
CATEGORIES:Celebration
END:VEVENT
BEGIN:VEVENT
DTSTART;TZID=America/New_York:20240920T070000
DTEND;TZID=America/New_York:20240920T080000
DTSTAMP:20260425T071153
CREATED:20241014T181455Z
LAST-MODIFIED:20241028T191109Z
UID:33071-1726815600-1726819200@goodshepherdbinghamton.org
SUMMARY:Morning Prayer
DESCRIPTION:Morning Prayer meets online by Zoom at 7am Monday through Friday. Theliturgy and readings are available at www.dailyoffice2019.com.  \nJoin the parishemail list and look for a weekly email invitation in your inbox.
URL:https://goodshepherdbinghamton.org/event/morning-prayer-5/
CATEGORIES:Celebration
END:VEVENT
BEGIN:VEVENT
DTSTART;TZID=America/New_York:20240923T070000
DTEND;TZID=America/New_York:20240923T080000
DTSTAMP:20260425T071153
CREATED:20241014T181510Z
LAST-MODIFIED:20241028T191109Z
UID:33075-1727074800-1727078400@goodshepherdbinghamton.org
SUMMARY:Morning Prayer
DESCRIPTION:Morning Prayer meets online by Zoom at 7am Monday through Friday. Theliturgy and readings are available at www.dailyoffice2019.com.  \nJoin the parishemail list and look for a weekly email invitation in your inbox.
URL:https://goodshepherdbinghamton.org/event/morning-prayer-6/
CATEGORIES:Celebration
END:VEVENT
BEGIN:VEVENT
DTSTART;TZID=America/New_York:20240924T070000
DTEND;TZID=America/New_York:20240924T080000
DTSTAMP:20260425T071153
CREATED:20241014T181510Z
LAST-MODIFIED:20241028T191109Z
UID:33076-1727161200-1727164800@goodshepherdbinghamton.org
SUMMARY:Morning Prayer
DESCRIPTION:Morning Prayer meets online by Zoom at 7am Monday through Friday. Theliturgy and readings are available at www.dailyoffice2019.com.  \nJoin the parishemail list and look for a weekly email invitation in your inbox.
URL:https://goodshepherdbinghamton.org/event/morning-prayer-7/
CATEGORIES:Celebration
END:VEVENT
BEGIN:VEVENT
DTSTART;TZID=America/New_York:20240925T070000
DTEND;TZID=America/New_York:20240925T080000
DTSTAMP:20260425T071153
CREATED:20241014T181510Z
LAST-MODIFIED:20241028T191109Z
UID:33077-1727247600-1727251200@goodshepherdbinghamton.org
SUMMARY:Morning Prayer
DESCRIPTION:Morning Prayer meets online by Zoom at 7am Monday through Friday. Theliturgy and readings are available at www.dailyoffice2019.com.  \nJoin the parishemail list and look for a weekly email invitation in your inbox.
URL:https://goodshepherdbinghamton.org/event/morning-prayer-8/
CATEGORIES:Celebration
END:VEVENT
BEGIN:VEVENT
DTSTART;TZID=America/New_York:20240926T070000
DTEND;TZID=America/New_York:20240926T080000
DTSTAMP:20260425T071153
CREATED:20241014T181510Z
LAST-MODIFIED:20241028T191109Z
UID:33078-1727334000-1727337600@goodshepherdbinghamton.org
SUMMARY:Morning Prayer
DESCRIPTION:Morning Prayer meets online by Zoom at 7am Monday through Friday. Theliturgy and readings are available at www.dailyoffice2019.com.  \nJoin the parishemail list and look for a weekly email invitation in your inbox.
URL:https://goodshepherdbinghamton.org/event/morning-prayer-9/
CATEGORIES:Celebration
END:VEVENT
BEGIN:VEVENT
DTSTART;TZID=America/New_York:20240927T063000
DTEND;TZID=America/New_York:20240927T080000
DTSTAMP:20260425T071153
CREATED:20240702T181743Z
LAST-MODIFIED:20241028T191111Z
UID:32197-1727418600-1727424000@goodshepherdbinghamton.org
SUMMARY:Men's Breakfast and Bible Study
DESCRIPTION:Every Friday morning at 6:30am men from Good Shepherd\, other area churches\, and the community gather to share a warm breakfast and study the bible. The study is expositional\, moving verse by verse through one book of the bible at a time\, with the purpose of coming to a better understanding of God and his word. \nThere is plenty of discussion\, question and answer time\, prayer\, and fellowship. You do not have to be a member of Good Shepherd or any other church to attend. The study meets at Good Shepherd\, downstairs in the parish hall. It usually ends at 8:00am but men come and go during the study according to their work schedules. Men of all ages are welcome to come\, eat\, and learn from the scriptures.This class is currently studying the book of Revelation.If you’d like more information\, please contact Jonathan Groves for a link to access the class @ jg.arrowhead@gmail.com
URL:https://goodshepherdbinghamton.org/event/mens-breakfast-and-bible-study-62/
CATEGORIES:Celebration
END:VEVENT
BEGIN:VEVENT
DTSTART;TZID=America/New_York:20240927T070000
DTEND;TZID=America/New_York:20240927T080000
DTSTAMP:20260425T071153
CREATED:20241014T181510Z
LAST-MODIFIED:20241028T191109Z
UID:33079-1727420400-1727424000@goodshepherdbinghamton.org
SUMMARY:Morning Prayer
DESCRIPTION:Morning Prayer meets online by Zoom at 7am Monday through Friday. Theliturgy and readings are available at www.dailyoffice2019.com.  \nJoin the parishemail list and look for a weekly email invitation in your inbox.
URL:https://goodshepherdbinghamton.org/event/morning-prayer-10/
CATEGORIES:Celebration
END:VEVENT
BEGIN:VEVENT
DTSTART;TZID=America/New_York:20240930T070000
DTEND;TZID=America/New_York:20240930T080000
DTSTAMP:20260425T071153
CREATED:20241014T181525Z
LAST-MODIFIED:20241028T191109Z
UID:33080-1727679600-1727683200@goodshepherdbinghamton.org
SUMMARY:Morning Prayer
DESCRIPTION:Morning Prayer meets online by Zoom at 7am Monday through Friday. Theliturgy and readings are available at www.dailyoffice2019.com.  \nJoin the parishemail list and look for a weekly email invitation in your inbox.
URL:https://goodshepherdbinghamton.org/event/morning-prayer-11/
CATEGORIES:Celebration
END:VEVENT
BEGIN:VEVENT
DTSTART;TZID=America/New_York:20241001T070000
DTEND;TZID=America/New_York:20241001T080000
DTSTAMP:20260425T071153
CREATED:20241014T181525Z
LAST-MODIFIED:20241028T191109Z
UID:33081-1727766000-1727769600@goodshepherdbinghamton.org
SUMMARY:Morning Prayer
DESCRIPTION:Morning Prayer meets online by Zoom at 7am Monday through Friday. Theliturgy and readings are available at www.dailyoffice2019.com.  \nJoin the parishemail list and look for a weekly email invitation in your inbox.
URL:https://goodshepherdbinghamton.org/event/morning-prayer-12/
CATEGORIES:Celebration
END:VEVENT
BEGIN:VEVENT
DTSTART;TZID=America/New_York:20241002T070000
DTEND;TZID=America/New_York:20241002T080000
DTSTAMP:20260425T071153
CREATED:20241014T181525Z
LAST-MODIFIED:20241028T191109Z
UID:33082-1727852400-1727856000@goodshepherdbinghamton.org
SUMMARY:Morning Prayer
DESCRIPTION:Morning Prayer meets online by Zoom at 7am Monday through Friday. Theliturgy and readings are available at www.dailyoffice2019.com.  \nJoin the parishemail list and look for a weekly email invitation in your inbox.
URL:https://goodshepherdbinghamton.org/event/morning-prayer-13/
CATEGORIES:Celebration
END:VEVENT
BEGIN:VEVENT
DTSTART;TZID=America/New_York:20241003T070000
DTEND;TZID=America/New_York:20241003T080000
DTSTAMP:20260425T071153
CREATED:20241014T181525Z
LAST-MODIFIED:20241028T191109Z
UID:33083-1727938800-1727942400@goodshepherdbinghamton.org
SUMMARY:Morning Prayer
DESCRIPTION:Morning Prayer meets online by Zoom at 7am Monday through Friday. Theliturgy and readings are available at www.dailyoffice2019.com.  \nJoin the parishemail list and look for a weekly email invitation in your inbox.
URL:https://goodshepherdbinghamton.org/event/morning-prayer-14/
CATEGORIES:Celebration
END:VEVENT
BEGIN:VEVENT
DTSTART;TZID=America/New_York:20241004T063000
DTEND;TZID=America/New_York:20241004T080000
DTSTAMP:20260425T071153
CREATED:20241007T194118Z
LAST-MODIFIED:20241028T191111Z
UID:32789-1728023400-1728028800@goodshepherdbinghamton.org
SUMMARY:Men's Breakfast and Bible Study
DESCRIPTION:Every Friday morning at 6:30am men from Good Shepherd\, other area churches\, and the community gather to share a warm breakfast and study the bible. The study is expositional\, moving verse by verse through one book of the bible at a time\, with the purpose of coming to a better understanding of God and his word. \nThere is plenty of discussion\, question and answer time\, prayer\, and fellowship. You do not have to be a member of Good Shepherd or any other church to attend. The study meets at Good Shepherd\, downstairs in the parish hall. It usually ends at 8:00am but men come and go during the study according to their work schedules. Men of all ages are welcome to come\, eat\, and learn from the scriptures.This class is currently studying the book of Revelation.If you’d like more information\, please contact Jonathan Groves for a link to access the class @ jg.arrowhead@gmail.com
URL:https://goodshepherdbinghamton.org/event/mens-breakfast-and-bible-study-63/
CATEGORIES:Celebration
END:VEVENT
BEGIN:VEVENT
DTSTART;TZID=America/New_York:20241004T070000
DTEND;TZID=America/New_York:20241004T080000
DTSTAMP:20260425T071153
CREATED:20241014T181526Z
LAST-MODIFIED:20241028T191108Z
UID:33084-1728025200-1728028800@goodshepherdbinghamton.org
SUMMARY:Morning Prayer
DESCRIPTION:Morning Prayer meets online by Zoom at 7am Monday through Friday. Theliturgy and readings are available at www.dailyoffice2019.com.  \nJoin the parishemail list and look for a weekly email invitation in your inbox.
URL:https://goodshepherdbinghamton.org/event/morning-prayer-15/
CATEGORIES:Celebration
END:VEVENT
BEGIN:VEVENT
DTSTART;TZID=America/New_York:20241007T070000
DTEND;TZID=America/New_York:20241007T080000
DTSTAMP:20260425T071153
CREATED:20241014T181539Z
LAST-MODIFIED:20241028T191108Z
UID:33085-1728284400-1728288000@goodshepherdbinghamton.org
SUMMARY:Morning Prayer
DESCRIPTION:Morning Prayer meets online by Zoom at 7am Monday through Friday. Theliturgy and readings are available at www.dailyoffice2019.com.  \nJoin the parishemail list and look for a weekly email invitation in your inbox.
URL:https://goodshepherdbinghamton.org/event/morning-prayer-16/
CATEGORIES:Celebration
END:VEVENT
BEGIN:VEVENT
DTSTART;TZID=America/New_York:20241008T070000
DTEND;TZID=America/New_York:20241008T080000
DTSTAMP:20260425T071153
CREATED:20241014T181540Z
LAST-MODIFIED:20241028T191108Z
UID:33086-1728370800-1728374400@goodshepherdbinghamton.org
SUMMARY:Morning Prayer
DESCRIPTION:Morning Prayer meets online by Zoom at 7am Monday through Friday. Theliturgy and readings are available at www.dailyoffice2019.com.  \nJoin the parishemail list and look for a weekly email invitation in your inbox.
URL:https://goodshepherdbinghamton.org/event/morning-prayer-17/
CATEGORIES:Celebration
END:VEVENT
BEGIN:VEVENT
DTSTART;TZID=America/New_York:20241009T070000
DTEND;TZID=America/New_York:20241009T080000
DTSTAMP:20260425T071153
CREATED:20241014T181540Z
LAST-MODIFIED:20241028T191108Z
UID:33087-1728457200-1728460800@goodshepherdbinghamton.org
SUMMARY:Morning Prayer
DESCRIPTION:Morning Prayer meets online by Zoom at 7am Monday through Friday. Theliturgy and readings are available at www.dailyoffice2019.com.  \nJoin the parishemail list and look for a weekly email invitation in your inbox.
URL:https://goodshepherdbinghamton.org/event/morning-prayer-18/
CATEGORIES:Celebration
END:VEVENT
BEGIN:VEVENT
DTSTART;TZID=America/New_York:20241010T070000
DTEND;TZID=America/New_York:20241010T080000
DTSTAMP:20260425T071153
CREATED:20241014T181540Z
LAST-MODIFIED:20241028T191108Z
UID:33088-1728543600-1728547200@goodshepherdbinghamton.org
SUMMARY:Morning Prayer
DESCRIPTION:Morning Prayer meets online by Zoom at 7am Monday through Friday. Theliturgy and readings are available at www.dailyoffice2019.com.  \nJoin the parishemail list and look for a weekly email invitation in your inbox.
URL:https://goodshepherdbinghamton.org/event/morning-prayer-19/
CATEGORIES:Celebration
END:VEVENT
BEGIN:VEVENT
DTSTART;TZID=America/New_York:20241011T063000
DTEND;TZID=America/New_York:20241011T080000
DTSTAMP:20260425T071153
CREATED:20241007T194118Z
LAST-MODIFIED:20241028T191111Z
UID:32790-1728628200-1728633600@goodshepherdbinghamton.org
SUMMARY:Men's Breakfast and Bible Study
DESCRIPTION:Every Friday morning at 6:30am men from Good Shepherd\, other area churches\, and the community gather to share a warm breakfast and study the bible. The study is expositional\, moving verse by verse through one book of the bible at a time\, with the purpose of coming to a better understanding of God and his word. \nThere is plenty of discussion\, question and answer time\, prayer\, and fellowship. You do not have to be a member of Good Shepherd or any other church to attend. The study meets at Good Shepherd\, downstairs in the parish hall. It usually ends at 8:00am but men come and go during the study according to their work schedules. Men of all ages are welcome to come\, eat\, and learn from the scriptures.This class is currently studying the book of Revelation.If you’d like more information\, please contact Jonathan Groves for a link to access the class @ jg.arrowhead@gmail.com
URL:https://goodshepherdbinghamton.org/event/mens-breakfast-and-bible-study-64/
CATEGORIES:Celebration
END:VEVENT
BEGIN:VEVENT
DTSTART;TZID=America/New_York:20241011T070000
DTEND;TZID=America/New_York:20241011T080000
DTSTAMP:20260425T071153
CREATED:20241014T181541Z
LAST-MODIFIED:20241028T191108Z
UID:33089-1728630000-1728633600@goodshepherdbinghamton.org
SUMMARY:Morning Prayer
DESCRIPTION:Morning Prayer meets online by Zoom at 7am Monday through Friday. Theliturgy and readings are available at www.dailyoffice2019.com.  \nJoin the parishemail list and look for a weekly email invitation in your inbox.
URL:https://goodshepherdbinghamton.org/event/morning-prayer-20/
CATEGORIES:Celebration
END:VEVENT
BEGIN:VEVENT
DTSTART;TZID=America/New_York:20241014T070000
DTEND;TZID=America/New_York:20241014T080000
DTSTAMP:20260425T071153
CREATED:20241014T181554Z
LAST-MODIFIED:20241028T191108Z
UID:33090-1728889200-1728892800@goodshepherdbinghamton.org
SUMMARY:Morning Prayer
DESCRIPTION:Morning Prayer meets online by Zoom at 7am Monday through Friday. Theliturgy and readings are available at www.dailyoffice2019.com.  \nJoin the parishemail list and look for a weekly email invitation in your inbox.
URL:https://goodshepherdbinghamton.org/event/morning-prayer-21/
CATEGORIES:Celebration
END:VEVENT
BEGIN:VEVENT
DTSTART;TZID=America/New_York:20241015T070000
DTEND;TZID=America/New_York:20241015T080000
DTSTAMP:20260425T071153
CREATED:20241014T181555Z
LAST-MODIFIED:20241028T191108Z
UID:33091-1728975600-1728979200@goodshepherdbinghamton.org
SUMMARY:Morning Prayer
DESCRIPTION:Morning Prayer meets online by Zoom at 7am Monday through Friday. Theliturgy and readings are available at www.dailyoffice2019.com.  \nJoin the parishemail list and look for a weekly email invitation in your inbox.
URL:https://goodshepherdbinghamton.org/event/morning-prayer-22/
CATEGORIES:Celebration
END:VEVENT
BEGIN:VEVENT
DTSTART;TZID=America/New_York:20241016T070000
DTEND;TZID=America/New_York:20241016T080000
DTSTAMP:20260425T071153
CREATED:20241014T181555Z
LAST-MODIFIED:20241028T191108Z
UID:33092-1729062000-1729065600@goodshepherdbinghamton.org
SUMMARY:Morning Prayer
DESCRIPTION:Morning Prayer meets online by Zoom at 7am Monday through Friday. Theliturgy and readings are available at www.dailyoffice2019.com.  \nJoin the parishemail list and look for a weekly email invitation in your inbox.
URL:https://goodshepherdbinghamton.org/event/morning-prayer-23/
CATEGORIES:Celebration
END:VEVENT
BEGIN:VEVENT
DTSTART;TZID=America/New_York:20241017T070000
DTEND;TZID=America/New_York:20241017T080000
DTSTAMP:20260425T071153
CREATED:20241014T181555Z
LAST-MODIFIED:20241028T191108Z
UID:33093-1729148400-1729152000@goodshepherdbinghamton.org
SUMMARY:Morning Prayer
DESCRIPTION:Morning Prayer meets online by Zoom at 7am Monday through Friday. Theliturgy and readings are available at www.dailyoffice2019.com.  \nJoin the parishemail list and look for a weekly email invitation in your inbox.
URL:https://goodshepherdbinghamton.org/event/morning-prayer-24/
CATEGORIES:Celebration
END:VEVENT
BEGIN:VEVENT
DTSTART;TZID=America/New_York:20241018T063000
DTEND;TZID=America/New_York:20241018T080000
DTSTAMP:20260425T071153
CREATED:20241007T194118Z
LAST-MODIFIED:20241028T191111Z
UID:32791-1729233000-1729238400@goodshepherdbinghamton.org
SUMMARY:Men's Breakfast and Bible Study
DESCRIPTION:Every Friday morning at 6:30am men from Good Shepherd\, other area churches\, and the community gather to share a warm breakfast and study the bible. The study is expositional\, moving verse by verse through one book of the bible at a time\, with the purpose of coming to a better understanding of God and his word. \nThere is plenty of discussion\, question and answer time\, prayer\, and fellowship. You do not have to be a member of Good Shepherd or any other church to attend. The study meets at Good Shepherd\, downstairs in the parish hall. It usually ends at 8:00am but men come and go during the study according to their work schedules. Men of all ages are welcome to come\, eat\, and learn from the scriptures.This class is currently studying the book of Revelation.If you’d like more information\, please contact Jonathan Groves for a link to access the class @ jg.arrowhead@gmail.com
URL:https://goodshepherdbinghamton.org/event/mens-breakfast-and-bible-study-65/
CATEGORIES:Celebration
END:VEVENT
BEGIN:VEVENT
DTSTART;TZID=America/New_York:20241018T070000
DTEND;TZID=America/New_York:20241018T080000
DTSTAMP:20260425T071153
CREATED:20241014T181556Z
LAST-MODIFIED:20241028T191108Z
UID:33094-1729234800-1729238400@goodshepherdbinghamton.org
SUMMARY:Morning Prayer
DESCRIPTION:Morning Prayer meets online by Zoom at 7am Monday through Friday. Theliturgy and readings are available at www.dailyoffice2019.com.  \nJoin the parishemail list and look for a weekly email invitation in your inbox.
URL:https://goodshepherdbinghamton.org/event/morning-prayer-25/
CATEGORIES:Celebration
END:VEVENT
BEGIN:VEVENT
DTSTART;TZID=America/New_York:20241021T070000
DTEND;TZID=America/New_York:20241021T080000
DTSTAMP:20260425T071153
CREATED:20241014T181610Z
LAST-MODIFIED:20241028T191107Z
UID:33095-1729494000-1729497600@goodshepherdbinghamton.org
SUMMARY:Morning Prayer
DESCRIPTION:Morning Prayer meets online by Zoom at 7am Monday through Friday. Theliturgy and readings are available at www.dailyoffice2019.com.  \nJoin the parishemail list and look for a weekly email invitation in your inbox.
URL:https://goodshepherdbinghamton.org/event/morning-prayer-26/
CATEGORIES:Celebration
END:VEVENT
BEGIN:VEVENT
DTSTART;TZID=America/New_York:20241022T070000
DTEND;TZID=America/New_York:20241022T080000
DTSTAMP:20260425T071153
CREATED:20241014T181610Z
LAST-MODIFIED:20241028T191107Z
UID:33096-1729580400-1729584000@goodshepherdbinghamton.org
SUMMARY:Morning Prayer
DESCRIPTION:Morning Prayer meets online by Zoom at 7am Monday through Friday. Theliturgy and readings are available at www.dailyoffice2019.com.  \nJoin the parishemail list and look for a weekly email invitation in your inbox.
URL:https://goodshepherdbinghamton.org/event/morning-prayer-27/
CATEGORIES:Celebration
END:VEVENT
BEGIN:VEVENT
DTSTART;TZID=America/New_York:20241023T070000
DTEND;TZID=America/New_York:20241023T080000
DTSTAMP:20260425T071153
CREATED:20241014T181610Z
LAST-MODIFIED:20241028T191107Z
UID:33097-1729666800-1729670400@goodshepherdbinghamton.org
SUMMARY:Morning Prayer
DESCRIPTION:Morning Prayer meets online by Zoom at 7am Monday through Friday. Theliturgy and readings are available at www.dailyoffice2019.com.  \nJoin the parishemail list and look for a weekly email invitation in your inbox.
URL:https://goodshepherdbinghamton.org/event/morning-prayer-28/
CATEGORIES:Celebration
END:VEVENT
BEGIN:VEVENT
DTSTART;TZID=America/New_York:20241024T070000
DTEND;TZID=America/New_York:20241024T080000
DTSTAMP:20260425T071153
CREATED:20241014T181611Z
LAST-MODIFIED:20241028T191107Z
UID:33098-1729753200-1729756800@goodshepherdbinghamton.org
SUMMARY:Morning Prayer
DESCRIPTION:Morning Prayer meets online by Zoom at 7am Monday through Friday. Theliturgy and readings are available at www.dailyoffice2019.com.  \nJoin the parishemail list and look for a weekly email invitation in your inbox.
URL:https://goodshepherdbinghamton.org/event/morning-prayer-29/
CATEGORIES:Celebration
END:VEVENT
END:VCALENDAR