BEGIN:VCALENDAR
VERSION:2.0
PRODID:-//Church of the Good Shepherd - ECPv6.15.20//NONSGML v1.0//EN
CALSCALE:GREGORIAN
METHOD:PUBLISH
X-ORIGINAL-URL:https://goodshepherdbinghamton.org
X-WR-CALDESC:Events for Church of the Good Shepherd
REFRESH-INTERVAL;VALUE=DURATION:PT1H
X-Robots-Tag:noindex
X-PUBLISHED-TTL:PT1H
BEGIN:VTIMEZONE
TZID:America/New_York
BEGIN:DAYLIGHT
TZOFFSETFROM:-0500
TZOFFSETTO:-0400
TZNAME:EDT
DTSTART:20230312T070000
END:DAYLIGHT
BEGIN:STANDARD
TZOFFSETFROM:-0400
TZOFFSETTO:-0500
TZNAME:EST
DTSTART:20231105T060000
END:STANDARD
BEGIN:DAYLIGHT
TZOFFSETFROM:-0500
TZOFFSETTO:-0400
TZNAME:EDT
DTSTART:20240310T070000
END:DAYLIGHT
BEGIN:STANDARD
TZOFFSETFROM:-0400
TZOFFSETTO:-0500
TZNAME:EST
DTSTART:20241103T060000
END:STANDARD
BEGIN:DAYLIGHT
TZOFFSETFROM:-0500
TZOFFSETTO:-0400
TZNAME:EDT
DTSTART:20250309T070000
END:DAYLIGHT
BEGIN:STANDARD
TZOFFSETFROM:-0400
TZOFFSETTO:-0500
TZNAME:EST
DTSTART:20251102T060000
END:STANDARD
BEGIN:DAYLIGHT
TZOFFSETFROM:-0500
TZOFFSETTO:-0400
TZNAME:EDT
DTSTART:20260308T070000
END:DAYLIGHT
BEGIN:STANDARD
TZOFFSETFROM:-0400
TZOFFSETTO:-0500
TZNAME:EST
DTSTART:20261101T060000
END:STANDARD
END:VTIMEZONE
BEGIN:VEVENT
DTSTART;TZID=America/New_York:20250101T070000
DTEND;TZID=America/New_York:20250101T080000
DTSTAMP:20260423T081958
CREATED:20241014T181831Z
LAST-MODIFIED:20241028T191103Z
UID:33143-1735714800-1735718400@goodshepherdbinghamton.org
SUMMARY:Morning Prayer
DESCRIPTION:Morning Prayer meets online by Zoom at 7am Monday through Friday. Theliturgy and readings are available at www.dailyoffice2019.com.  \nJoin the parishemail list and look for a weekly email invitation in your inbox.
URL:https://goodshepherdbinghamton.org/event/morning-prayer-71/
CATEGORIES:Celebration
END:VEVENT
BEGIN:VEVENT
DTSTART;TZID=America/New_York:20241231T070000
DTEND;TZID=America/New_York:20241231T080000
DTSTAMP:20260423T081958
CREATED:20241014T181821Z
LAST-MODIFIED:20241028T191103Z
UID:33142-1735628400-1735632000@goodshepherdbinghamton.org
SUMMARY:Morning Prayer
DESCRIPTION:Morning Prayer meets online by Zoom at 7am Monday through Friday. Theliturgy and readings are available at www.dailyoffice2019.com.  \nJoin the parishemail list and look for a weekly email invitation in your inbox.
URL:https://goodshepherdbinghamton.org/event/morning-prayer-70/
CATEGORIES:Celebration
END:VEVENT
BEGIN:VEVENT
DTSTART;TZID=America/New_York:20241230T070000
DTEND;TZID=America/New_York:20241230T080000
DTSTAMP:20260423T081958
CREATED:20241014T181821Z
LAST-MODIFIED:20241028T191104Z
UID:33141-1735542000-1735545600@goodshepherdbinghamton.org
SUMMARY:Morning Prayer
DESCRIPTION:Morning Prayer meets online by Zoom at 7am Monday through Friday. Theliturgy and readings are available at www.dailyoffice2019.com.  \nJoin the parishemail list and look for a weekly email invitation in your inbox.
URL:https://goodshepherdbinghamton.org/event/morning-prayer-69/
CATEGORIES:Celebration
END:VEVENT
BEGIN:VEVENT
DTSTART;TZID=America/New_York:20241227T063000
DTEND;TZID=America/New_York:20241227T080000
DTSTAMP:20260423T081958
CREATED:20241007T194148Z
LAST-MODIFIED:20241028T191110Z
UID:32801-1735281000-1735286400@goodshepherdbinghamton.org
SUMMARY:Men's Breakfast and Bible Study
DESCRIPTION:Every Friday morning at 6:30am men from Good Shepherd\, other area churches\, and the community gather to share a warm breakfast and study the bible. The study is expositional\, moving verse by verse through one book of the bible at a time\, with the purpose of coming to a better understanding of God and his word. \nThere is plenty of discussion\, question and answer time\, prayer\, and fellowship. You do not have to be a member of Good Shepherd or any other church to attend. The study meets at Good Shepherd\, downstairs in the parish hall. It usually ends at 8:00am but men come and go during the study according to their work schedules. Men of all ages are welcome to come\, eat\, and learn from the scriptures.This class is currently studying the book of Revelation.If you’d like more information\, please contact Jonathan Groves for a link to access the class @ jg.arrowhead@gmail.com
URL:https://goodshepherdbinghamton.org/event/mens-breakfast-and-bible-study-75/
CATEGORIES:Celebration
END:VEVENT
BEGIN:VEVENT
DTSTART;TZID=America/New_York:20241223T070000
DTEND;TZID=America/New_York:20241223T080000
DTSTAMP:20260423T081958
CREATED:20241014T181820Z
LAST-MODIFIED:20241028T191104Z
UID:33140-1734937200-1734940800@goodshepherdbinghamton.org
SUMMARY:Morning Prayer
DESCRIPTION:Morning Prayer meets online by Zoom at 7am Monday through Friday. Theliturgy and readings are available at www.dailyoffice2019.com.  \nJoin the parishemail list and look for a weekly email invitation in your inbox.
URL:https://goodshepherdbinghamton.org/event/morning-prayer-68/
CATEGORIES:Celebration
END:VEVENT
BEGIN:VEVENT
DTSTART;TZID=America/New_York:20241220T070000
DTEND;TZID=America/New_York:20241220T080000
DTSTAMP:20260423T081958
CREATED:20241014T181817Z
LAST-MODIFIED:20241028T191104Z
UID:33139-1734678000-1734681600@goodshepherdbinghamton.org
SUMMARY:Morning Prayer
DESCRIPTION:Morning Prayer meets online by Zoom at 7am Monday through Friday. Theliturgy and readings are available at www.dailyoffice2019.com.  \nJoin the parishemail list and look for a weekly email invitation in your inbox.
URL:https://goodshepherdbinghamton.org/event/morning-prayer-67/
CATEGORIES:Celebration
END:VEVENT
BEGIN:VEVENT
DTSTART;TZID=America/New_York:20241220T063000
DTEND;TZID=America/New_York:20241220T080000
DTSTAMP:20260423T081958
CREATED:20241007T194148Z
LAST-MODIFIED:20241028T191110Z
UID:32800-1734676200-1734681600@goodshepherdbinghamton.org
SUMMARY:Men's Breakfast and Bible Study
DESCRIPTION:Every Friday morning at 6:30am men from Good Shepherd\, other area churches\, and the community gather to share a warm breakfast and study the bible. The study is expositional\, moving verse by verse through one book of the bible at a time\, with the purpose of coming to a better understanding of God and his word. \nThere is plenty of discussion\, question and answer time\, prayer\, and fellowship. You do not have to be a member of Good Shepherd or any other church to attend. The study meets at Good Shepherd\, downstairs in the parish hall. It usually ends at 8:00am but men come and go during the study according to their work schedules. Men of all ages are welcome to come\, eat\, and learn from the scriptures.This class is currently studying the book of Revelation.If you’d like more information\, please contact Jonathan Groves for a link to access the class @ jg.arrowhead@gmail.com
URL:https://goodshepherdbinghamton.org/event/mens-breakfast-and-bible-study-74/
CATEGORIES:Celebration
END:VEVENT
BEGIN:VEVENT
DTSTART;TZID=America/New_York:20241219T070000
DTEND;TZID=America/New_York:20241219T080000
DTSTAMP:20260423T081958
CREATED:20241014T181816Z
LAST-MODIFIED:20241028T191104Z
UID:33138-1734591600-1734595200@goodshepherdbinghamton.org
SUMMARY:Morning Prayer
DESCRIPTION:Morning Prayer meets online by Zoom at 7am Monday through Friday. Theliturgy and readings are available at www.dailyoffice2019.com.  \nJoin the parishemail list and look for a weekly email invitation in your inbox.
URL:https://goodshepherdbinghamton.org/event/morning-prayer-66/
CATEGORIES:Celebration
END:VEVENT
BEGIN:VEVENT
DTSTART;TZID=America/New_York:20241218T070000
DTEND;TZID=America/New_York:20241218T080000
DTSTAMP:20260423T081958
CREATED:20241014T181808Z
LAST-MODIFIED:20241028T191104Z
UID:33137-1734505200-1734508800@goodshepherdbinghamton.org
SUMMARY:Morning Prayer
DESCRIPTION:Morning Prayer meets online by Zoom at 7am Monday through Friday. Theliturgy and readings are available at www.dailyoffice2019.com.  \nJoin the parishemail list and look for a weekly email invitation in your inbox.
URL:https://goodshepherdbinghamton.org/event/morning-prayer-65/
CATEGORIES:Celebration
END:VEVENT
BEGIN:VEVENT
DTSTART;TZID=America/New_York:20241217T070000
DTEND;TZID=America/New_York:20241217T080000
DTSTAMP:20260423T081958
CREATED:20241014T181805Z
LAST-MODIFIED:20241028T191104Z
UID:33136-1734418800-1734422400@goodshepherdbinghamton.org
SUMMARY:Morning Prayer
DESCRIPTION:Morning Prayer meets online by Zoom at 7am Monday through Friday. Theliturgy and readings are available at www.dailyoffice2019.com.  \nJoin the parishemail list and look for a weekly email invitation in your inbox.
URL:https://goodshepherdbinghamton.org/event/morning-prayer-64/
CATEGORIES:Celebration
END:VEVENT
BEGIN:VEVENT
DTSTART;TZID=America/New_York:20241216T070000
DTEND;TZID=America/New_York:20241216T080000
DTSTAMP:20260423T081958
CREATED:20241014T181801Z
LAST-MODIFIED:20241028T191104Z
UID:33135-1734332400-1734336000@goodshepherdbinghamton.org
SUMMARY:Morning Prayer
DESCRIPTION:Morning Prayer meets online by Zoom at 7am Monday through Friday. Theliturgy and readings are available at www.dailyoffice2019.com.  \nJoin the parishemail list and look for a weekly email invitation in your inbox.
URL:https://goodshepherdbinghamton.org/event/morning-prayer-63/
CATEGORIES:Celebration
END:VEVENT
BEGIN:VEVENT
DTSTART;TZID=America/New_York:20241213T070000
DTEND;TZID=America/New_York:20241213T080000
DTSTAMP:20260423T081958
CREATED:20241014T181756Z
LAST-MODIFIED:20241028T191104Z
UID:33134-1734073200-1734076800@goodshepherdbinghamton.org
SUMMARY:Morning Prayer
DESCRIPTION:Morning Prayer meets online by Zoom at 7am Monday through Friday. Theliturgy and readings are available at www.dailyoffice2019.com.  \nJoin the parishemail list and look for a weekly email invitation in your inbox.
URL:https://goodshepherdbinghamton.org/event/morning-prayer-62/
CATEGORIES:Celebration
END:VEVENT
BEGIN:VEVENT
DTSTART;TZID=America/New_York:20241213T063000
DTEND;TZID=America/New_York:20241213T080000
DTSTAMP:20260423T081958
CREATED:20241007T194148Z
LAST-MODIFIED:20241028T191110Z
UID:32799-1734071400-1734076800@goodshepherdbinghamton.org
SUMMARY:Men's Breakfast and Bible Study
DESCRIPTION:Every Friday morning at 6:30am men from Good Shepherd\, other area churches\, and the community gather to share a warm breakfast and study the bible. The study is expositional\, moving verse by verse through one book of the bible at a time\, with the purpose of coming to a better understanding of God and his word. \nThere is plenty of discussion\, question and answer time\, prayer\, and fellowship. You do not have to be a member of Good Shepherd or any other church to attend. The study meets at Good Shepherd\, downstairs in the parish hall. It usually ends at 8:00am but men come and go during the study according to their work schedules. Men of all ages are welcome to come\, eat\, and learn from the scriptures.This class is currently studying the book of Revelation.If you’d like more information\, please contact Jonathan Groves for a link to access the class @ jg.arrowhead@gmail.com
URL:https://goodshepherdbinghamton.org/event/mens-breakfast-and-bible-study-73/
CATEGORIES:Celebration
END:VEVENT
BEGIN:VEVENT
DTSTART;TZID=America/New_York:20241212T070000
DTEND;TZID=America/New_York:20241212T080000
DTSTAMP:20260423T081958
CREATED:20241014T181755Z
LAST-MODIFIED:20241028T191104Z
UID:33133-1733986800-1733990400@goodshepherdbinghamton.org
SUMMARY:Morning Prayer
DESCRIPTION:Morning Prayer meets online by Zoom at 7am Monday through Friday. Theliturgy and readings are available at www.dailyoffice2019.com.  \nJoin the parishemail list and look for a weekly email invitation in your inbox.
URL:https://goodshepherdbinghamton.org/event/morning-prayer-61/
CATEGORIES:Celebration
END:VEVENT
BEGIN:VEVENT
DTSTART;TZID=America/New_York:20241211T070000
DTEND;TZID=America/New_York:20241211T080000
DTSTAMP:20260423T081958
CREATED:20241014T181741Z
LAST-MODIFIED:20241028T191104Z
UID:33132-1733900400-1733904000@goodshepherdbinghamton.org
SUMMARY:Morning Prayer
DESCRIPTION:Morning Prayer meets online by Zoom at 7am Monday through Friday. Theliturgy and readings are available at www.dailyoffice2019.com.  \nJoin the parishemail list and look for a weekly email invitation in your inbox.
URL:https://goodshepherdbinghamton.org/event/morning-prayer-60/
CATEGORIES:Celebration
END:VEVENT
BEGIN:VEVENT
DTSTART;TZID=America/New_York:20241210T070000
DTEND;TZID=America/New_York:20241210T080000
DTSTAMP:20260423T081958
CREATED:20241014T181740Z
LAST-MODIFIED:20241028T191105Z
UID:33131-1733814000-1733817600@goodshepherdbinghamton.org
SUMMARY:Morning Prayer
DESCRIPTION:Morning Prayer meets online by Zoom at 7am Monday through Friday. Theliturgy and readings are available at www.dailyoffice2019.com.  \nJoin the parishemail list and look for a weekly email invitation in your inbox.
URL:https://goodshepherdbinghamton.org/event/morning-prayer-59/
CATEGORIES:Celebration
END:VEVENT
BEGIN:VEVENT
DTSTART;TZID=America/New_York:20241209T070000
DTEND;TZID=America/New_York:20241209T080000
DTSTAMP:20260423T081958
CREATED:20241014T181740Z
LAST-MODIFIED:20241028T191105Z
UID:33130-1733727600-1733731200@goodshepherdbinghamton.org
SUMMARY:Morning Prayer
DESCRIPTION:Morning Prayer meets online by Zoom at 7am Monday through Friday. Theliturgy and readings are available at www.dailyoffice2019.com.  \nJoin the parishemail list and look for a weekly email invitation in your inbox.
URL:https://goodshepherdbinghamton.org/event/morning-prayer-58/
CATEGORIES:Celebration
END:VEVENT
BEGIN:VEVENT
DTSTART;TZID=America/New_York:20241206T070000
DTEND;TZID=America/New_York:20241206T080000
DTSTAMP:20260423T081958
CREATED:20241014T181740Z
LAST-MODIFIED:20241028T191105Z
UID:33129-1733468400-1733472000@goodshepherdbinghamton.org
SUMMARY:Morning Prayer
DESCRIPTION:Morning Prayer meets online by Zoom at 7am Monday through Friday. Theliturgy and readings are available at www.dailyoffice2019.com.  \nJoin the parishemail list and look for a weekly email invitation in your inbox.
URL:https://goodshepherdbinghamton.org/event/morning-prayer-57/
CATEGORIES:Celebration
END:VEVENT
BEGIN:VEVENT
DTSTART;TZID=America/New_York:20241206T063000
DTEND;TZID=America/New_York:20241206T080000
DTSTAMP:20260423T081958
CREATED:20241007T194134Z
LAST-MODIFIED:20241028T191110Z
UID:32798-1733466600-1733472000@goodshepherdbinghamton.org
SUMMARY:Men's Breakfast and Bible Study
DESCRIPTION:Every Friday morning at 6:30am men from Good Shepherd\, other area churches\, and the community gather to share a warm breakfast and study the bible. The study is expositional\, moving verse by verse through one book of the bible at a time\, with the purpose of coming to a better understanding of God and his word. \nThere is plenty of discussion\, question and answer time\, prayer\, and fellowship. You do not have to be a member of Good Shepherd or any other church to attend. The study meets at Good Shepherd\, downstairs in the parish hall. It usually ends at 8:00am but men come and go during the study according to their work schedules. Men of all ages are welcome to come\, eat\, and learn from the scriptures.This class is currently studying the book of Revelation.If you’d like more information\, please contact Jonathan Groves for a link to access the class @ jg.arrowhead@gmail.com
URL:https://goodshepherdbinghamton.org/event/mens-breakfast-and-bible-study-72/
CATEGORIES:Celebration
END:VEVENT
BEGIN:VEVENT
DTSTART;TZID=America/New_York:20241205T070000
DTEND;TZID=America/New_York:20241205T080000
DTSTAMP:20260423T081958
CREATED:20241014T181740Z
LAST-MODIFIED:20241028T191105Z
UID:33128-1733382000-1733385600@goodshepherdbinghamton.org
SUMMARY:Morning Prayer
DESCRIPTION:Morning Prayer meets online by Zoom at 7am Monday through Friday. Theliturgy and readings are available at www.dailyoffice2019.com.  \nJoin the parishemail list and look for a weekly email invitation in your inbox.
URL:https://goodshepherdbinghamton.org/event/morning-prayer-56/
CATEGORIES:Celebration
END:VEVENT
BEGIN:VEVENT
DTSTART;TZID=America/New_York:20241204T070000
DTEND;TZID=America/New_York:20241204T080000
DTSTAMP:20260423T081958
CREATED:20241014T181732Z
LAST-MODIFIED:20241028T191105Z
UID:33127-1733295600-1733299200@goodshepherdbinghamton.org
SUMMARY:Morning Prayer
DESCRIPTION:Morning Prayer meets online by Zoom at 7am Monday through Friday. Theliturgy and readings are available at www.dailyoffice2019.com.  \nJoin the parishemail list and look for a weekly email invitation in your inbox.
URL:https://goodshepherdbinghamton.org/event/morning-prayer-55/
CATEGORIES:Celebration
END:VEVENT
BEGIN:VEVENT
DTSTART;TZID=America/New_York:20241203T070000
DTEND;TZID=America/New_York:20241203T080000
DTSTAMP:20260423T081958
CREATED:20241014T181731Z
LAST-MODIFIED:20241028T191105Z
UID:33126-1733209200-1733212800@goodshepherdbinghamton.org
SUMMARY:Morning Prayer
DESCRIPTION:Morning Prayer meets online by Zoom at 7am Monday through Friday. Theliturgy and readings are available at www.dailyoffice2019.com.  \nJoin the parishemail list and look for a weekly email invitation in your inbox.
URL:https://goodshepherdbinghamton.org/event/morning-prayer-54/
CATEGORIES:Celebration
END:VEVENT
BEGIN:VEVENT
DTSTART;TZID=America/New_York:20241202T070000
DTEND;TZID=America/New_York:20241202T080000
DTSTAMP:20260423T081958
CREATED:20241014T181729Z
LAST-MODIFIED:20241028T191105Z
UID:33125-1733122800-1733126400@goodshepherdbinghamton.org
SUMMARY:Morning Prayer
DESCRIPTION:Morning Prayer meets online by Zoom at 7am Monday through Friday. Theliturgy and readings are available at www.dailyoffice2019.com.  \nJoin the parishemail list and look for a weekly email invitation in your inbox.
URL:https://goodshepherdbinghamton.org/event/morning-prayer-53/
CATEGORIES:Celebration
END:VEVENT
BEGIN:VEVENT
DTSTART;TZID=America/New_York:20241129T063000
DTEND;TZID=America/New_York:20241129T080000
DTSTAMP:20260423T081958
CREATED:20241007T194134Z
LAST-MODIFIED:20241028T191110Z
UID:32797-1732861800-1732867200@goodshepherdbinghamton.org
SUMMARY:Men's Breakfast and Bible Study
DESCRIPTION:Every Friday morning at 6:30am men from Good Shepherd\, other area churches\, and the community gather to share a warm breakfast and study the bible. The study is expositional\, moving verse by verse through one book of the bible at a time\, with the purpose of coming to a better understanding of God and his word. \nThere is plenty of discussion\, question and answer time\, prayer\, and fellowship. You do not have to be a member of Good Shepherd or any other church to attend. The study meets at Good Shepherd\, downstairs in the parish hall. It usually ends at 8:00am but men come and go during the study according to their work schedules. Men of all ages are welcome to come\, eat\, and learn from the scriptures.This class is currently studying the book of Revelation.If you’d like more information\, please contact Jonathan Groves for a link to access the class @ jg.arrowhead@gmail.com
URL:https://goodshepherdbinghamton.org/event/mens-breakfast-and-bible-study-71/
CATEGORIES:Celebration
END:VEVENT
BEGIN:VEVENT
DTSTART;TZID=America/New_York:20241126T070000
DTEND;TZID=America/New_York:20241126T080000
DTSTAMP:20260423T081958
CREATED:20241014T181726Z
LAST-MODIFIED:20241028T191105Z
UID:33124-1732604400-1732608000@goodshepherdbinghamton.org
SUMMARY:Morning Prayer
DESCRIPTION:Morning Prayer meets online by Zoom at 7am Monday through Friday. Theliturgy and readings are available at www.dailyoffice2019.com.  \nJoin the parishemail list and look for a weekly email invitation in your inbox.
URL:https://goodshepherdbinghamton.org/event/morning-prayer-52/
CATEGORIES:Celebration
END:VEVENT
BEGIN:VEVENT
DTSTART;TZID=America/New_York:20241125T070000
DTEND;TZID=America/New_York:20241125T080000
DTSTAMP:20260423T081958
CREATED:20241014T181725Z
LAST-MODIFIED:20241028T191105Z
UID:33123-1732518000-1732521600@goodshepherdbinghamton.org
SUMMARY:Morning Prayer
DESCRIPTION:Morning Prayer meets online by Zoom at 7am Monday through Friday. Theliturgy and readings are available at www.dailyoffice2019.com.  \nJoin the parishemail list and look for a weekly email invitation in your inbox.
URL:https://goodshepherdbinghamton.org/event/morning-prayer-51/
CATEGORIES:Celebration
END:VEVENT
BEGIN:VEVENT
DTSTART;TZID=America/New_York:20241122T070000
DTEND;TZID=America/New_York:20241122T080000
DTSTAMP:20260423T081958
CREATED:20241014T181710Z
LAST-MODIFIED:20241028T191105Z
UID:33122-1732258800-1732262400@goodshepherdbinghamton.org
SUMMARY:Morning Prayer
DESCRIPTION:Morning Prayer meets online by Zoom at 7am Monday through Friday. Theliturgy and readings are available at www.dailyoffice2019.com.  \nJoin the parishemail list and look for a weekly email invitation in your inbox.
URL:https://goodshepherdbinghamton.org/event/morning-prayer-50/
CATEGORIES:Celebration
END:VEVENT
BEGIN:VEVENT
DTSTART;TZID=America/New_York:20241122T063000
DTEND;TZID=America/New_York:20241122T080000
DTSTAMP:20260423T081958
CREATED:20241007T194133Z
LAST-MODIFIED:20241028T191110Z
UID:32796-1732257000-1732262400@goodshepherdbinghamton.org
SUMMARY:Men's Breakfast and Bible Study
DESCRIPTION:Every Friday morning at 6:30am men from Good Shepherd\, other area churches\, and the community gather to share a warm breakfast and study the bible. The study is expositional\, moving verse by verse through one book of the bible at a time\, with the purpose of coming to a better understanding of God and his word. \nThere is plenty of discussion\, question and answer time\, prayer\, and fellowship. You do not have to be a member of Good Shepherd or any other church to attend. The study meets at Good Shepherd\, downstairs in the parish hall. It usually ends at 8:00am but men come and go during the study according to their work schedules. Men of all ages are welcome to come\, eat\, and learn from the scriptures.This class is currently studying the book of Revelation.If you’d like more information\, please contact Jonathan Groves for a link to access the class @ jg.arrowhead@gmail.com
URL:https://goodshepherdbinghamton.org/event/mens-breakfast-and-bible-study-70/
CATEGORIES:Celebration
END:VEVENT
BEGIN:VEVENT
DTSTART;TZID=America/New_York:20241121T070000
DTEND;TZID=America/New_York:20241121T080000
DTSTAMP:20260423T081958
CREATED:20241014T181710Z
LAST-MODIFIED:20241028T191105Z
UID:33121-1732172400-1732176000@goodshepherdbinghamton.org
SUMMARY:Morning Prayer
DESCRIPTION:Morning Prayer meets online by Zoom at 7am Monday through Friday. Theliturgy and readings are available at www.dailyoffice2019.com.  \nJoin the parishemail list and look for a weekly email invitation in your inbox.
URL:https://goodshepherdbinghamton.org/event/morning-prayer-49/
CATEGORIES:Celebration
END:VEVENT
BEGIN:VEVENT
DTSTART;TZID=America/New_York:20241120T070000
DTEND;TZID=America/New_York:20241120T080000
DTSTAMP:20260423T081958
CREATED:20241014T181710Z
LAST-MODIFIED:20241028T191106Z
UID:33120-1732086000-1732089600@goodshepherdbinghamton.org
SUMMARY:Morning Prayer
DESCRIPTION:Morning Prayer meets online by Zoom at 7am Monday through Friday. Theliturgy and readings are available at www.dailyoffice2019.com.  \nJoin the parishemail list and look for a weekly email invitation in your inbox.
URL:https://goodshepherdbinghamton.org/event/morning-prayer-48/
CATEGORIES:Celebration
END:VEVENT
END:VCALENDAR