BEGIN:VCALENDAR
VERSION:2.0
PRODID:-//Church of the Good Shepherd - ECPv6.15.20//NONSGML v1.0//EN
CALSCALE:GREGORIAN
METHOD:PUBLISH
X-ORIGINAL-URL:https://goodshepherdbinghamton.org
X-WR-CALDESC:Events for Church of the Good Shepherd
REFRESH-INTERVAL;VALUE=DURATION:PT1H
X-Robots-Tag:noindex
X-PUBLISHED-TTL:PT1H
BEGIN:VTIMEZONE
TZID:America/New_York
BEGIN:DAYLIGHT
TZOFFSETFROM:-0500
TZOFFSETTO:-0400
TZNAME:EDT
DTSTART:20250309T070000
END:DAYLIGHT
BEGIN:STANDARD
TZOFFSETFROM:-0400
TZOFFSETTO:-0500
TZNAME:EST
DTSTART:20251102T060000
END:STANDARD
BEGIN:DAYLIGHT
TZOFFSETFROM:-0500
TZOFFSETTO:-0400
TZNAME:EDT
DTSTART:20260308T070000
END:DAYLIGHT
BEGIN:STANDARD
TZOFFSETFROM:-0400
TZOFFSETTO:-0500
TZNAME:EST
DTSTART:20261101T060000
END:STANDARD
BEGIN:DAYLIGHT
TZOFFSETFROM:-0500
TZOFFSETTO:-0400
TZNAME:EDT
DTSTART:20270314T070000
END:DAYLIGHT
BEGIN:STANDARD
TZOFFSETFROM:-0400
TZOFFSETTO:-0500
TZNAME:EST
DTSTART:20271107T060000
END:STANDARD
END:VTIMEZONE
BEGIN:VEVENT
DTSTART;TZID=America/New_York:20260401T193000
DTEND;TZID=America/New_York:20260401T203000
DTSTAMP:20260423T034807
CREATED:20260325T213419Z
LAST-MODIFIED:20260325T215628Z
UID:35222-1775071800-1775075400@goodshepherdbinghamton.org
SUMMARY:Tennebrae
DESCRIPTION:Tenebrae means “shadows” in Latin.  It is a service of word\, light and sound.    \n\n\n\nWhen you arrive for worship you will see two groups of candles lit on the altar table. As readings are read the candles on the altar will be gradually extinguished until the very end of the service when the last candle left lit is removed from the worship space and the whole sanctuary is left in darkness. At that point a loud crash will (should) shatter the silence of the sanctuary. Then\, after a moment\, the last candle is returned to the sanctuary\, and the worshippers depart in silence.   \n\n\n\nThe gradual darkening of the sanctuary and the crashing noise symbolizes the apparent victory of death\, darkness\, and chaos over Jesus Christ on the cross. The final candle being removed and returned\, symbolizes the truth that through Jesus’ death\, God gained victory over all the powers of evil. The Light was not overcome.
URL:https://goodshepherdbinghamton.org/event/tennebrae/
END:VEVENT
END:VCALENDAR