BEGIN:VCALENDAR
VERSION:2.0
PRODID:-//Church of the Good Shepherd - ECPv6.15.20//NONSGML v1.0//EN
CALSCALE:GREGORIAN
METHOD:PUBLISH
X-WR-CALNAME:Church of the Good Shepherd
X-ORIGINAL-URL:https://goodshepherdbinghamton.org
X-WR-CALDESC:Events for Church of the Good Shepherd
REFRESH-INTERVAL;VALUE=DURATION:PT1H
X-Robots-Tag:noindex
X-PUBLISHED-TTL:PT1H
BEGIN:VTIMEZONE
TZID:America/New_York
BEGIN:DAYLIGHT
TZOFFSETFROM:-0500
TZOFFSETTO:-0400
TZNAME:EDT
DTSTART:20240310T070000
END:DAYLIGHT
BEGIN:STANDARD
TZOFFSETFROM:-0400
TZOFFSETTO:-0500
TZNAME:EST
DTSTART:20241103T060000
END:STANDARD
BEGIN:DAYLIGHT
TZOFFSETFROM:-0500
TZOFFSETTO:-0400
TZNAME:EDT
DTSTART:20250309T070000
END:DAYLIGHT
BEGIN:STANDARD
TZOFFSETFROM:-0400
TZOFFSETTO:-0500
TZNAME:EST
DTSTART:20251102T060000
END:STANDARD
BEGIN:DAYLIGHT
TZOFFSETFROM:-0500
TZOFFSETTO:-0400
TZNAME:EDT
DTSTART:20260308T070000
END:DAYLIGHT
BEGIN:STANDARD
TZOFFSETFROM:-0400
TZOFFSETTO:-0500
TZNAME:EST
DTSTART:20261101T060000
END:STANDARD
END:VTIMEZONE
BEGIN:VEVENT
DTSTART;TZID=America/New_York:20250309T080000
DTEND;TZID=America/New_York:20250309T090000
DTSTAMP:20260424T003526
CREATED:20250224T182809Z
LAST-MODIFIED:20250225T150021Z
UID:33782-1741507200-1741510800@goodshepherdbinghamton.org
SUMMARY:First Service
DESCRIPTION:This is an early\, more quiet version of the service at 10:30. \nThe 8am service is not currently being live-streamed. \nThis service involves readings from the Bible\, a sermon\, offering\, confession\, and communion.  There is no music during this service.
URL:https://goodshepherdbinghamton.org/event/first-service-85/
END:VEVENT
BEGIN:VEVENT
DTSTART;TZID=America/New_York:20250309T091500
DTEND;TZID=America/New_York:20250309T101500
DTSTAMP:20260424T003526
CREATED:20250224T182724Z
LAST-MODIFIED:20250225T145828Z
UID:33765-1741511700-1741515300@goodshepherdbinghamton.org
SUMMARY:Christian Education for All
DESCRIPTION:Christian Education for All  \nChildren \nChildren aged 2-11 are invited to pray\, worship\, and learn in specially prepared Montessori-style rooms—The Vineyard (2-3)\, The Pasture (3-6)\, and The Tabernacle (7-11). They study the Bible\, engage with liturgy\, and gradually are oriented to a full life in the church.  \n  \nTeens \nTeens aged12 to 14 cover a range of topics—the Bible\, Liturgy\, Church History\, Apologetics\, the 39 Articles—in a three-year cycle. This is a discussion-style class that prepares kids for confirmation. \n  \nAdult Class  \nEach Sunday a member of the pastoral staff or a guest speakerfacilitates a discussion on topics ranging from Christian literature\, to socialtopics\, the 39 articles\, church history\, and more.     \nThis class meets online and in person in the parish hall of the church.  It can be viewed at https://www.facebook.com/groups/CoGSMedia/
URL:https://goodshepherdbinghamton.org/event/christian-education-for-all-41/
END:VEVENT
BEGIN:VEVENT
DTSTART;TZID=America/New_York:20250309T091500
DTEND;TZID=America/New_York:20250309T101500
DTSTAMP:20260424T003526
CREATED:20250225T151116Z
LAST-MODIFIED:20250225T151116Z
UID:33980-1741511700-1741515300@goodshepherdbinghamton.org
SUMMARY:Christian Education for Everyone
DESCRIPTION:Children \nFor children aged 1-12. Good Shepherd offers Catechesis of the Good Shepherd—a program of prayer\, worship\, and scripture in specially prepared Montessori-style rooms—The Pen (1-3)\,The Pasture (3-6)\, The Vineyard (6-9)\, and The Tabernacle (9-12).  \n  \nTeens \nTeens aged 12 to 14 cover a range of topics—the Bible\, Liturgy\, Church History\, Apologetics\, the 39 Articles—in a three-year cycle. This is a discussion-style class that prepares kids for confirmation. \n  \nAdult Class  \nDiscussion and study on topics ranging from Christian literature\, the 39 articles\, church history\, difficult passages of the bible\, and more.     \nPlease contact the Good Shepherd office for more information.
URL:https://goodshepherdbinghamton.org/event/christian-education-for-everyone-7/
END:VEVENT
BEGIN:VEVENT
DTSTART;TZID=America/New_York:20250309T103000
DTEND;TZID=America/New_York:20250309T120000
DTSTAMP:20260424T003526
CREATED:20250225T151046Z
LAST-MODIFIED:20250225T151046Z
UID:33967-1741516200-1741521600@goodshepherdbinghamton.org
SUMMARY:2nd Service
DESCRIPTION:This is the main service at Good Shepherd.   \nAt this service\, there is a blend of both contemporary and traditional worship music\, Bible readings\, a sermon\, confession\, and communion.   \nAt Good Shepherd you will find friendly people\, engaging sermons\, joyful worship\, practical teaching\, and lots of kids. All are welcome! \nThe bulletin is available as a digital download at www.goodshepherdbinghamton.org.   \nThe service is currently open to the public and is being livestreamed at https://www.facebook.com/groups/CoGSMedia/
URL:https://goodshepherdbinghamton.org/event/2nd-service-81/
END:VEVENT
BEGIN:VEVENT
DTSTART;TZID=America/New_York:20250309T163000
DTEND;TZID=America/New_York:20250309T180000
DTSTAMP:20260424T003526
CREATED:20250224T182854Z
LAST-MODIFIED:20250225T150406Z
UID:33799-1741537800-1741543200@goodshepherdbinghamton.org
SUMMARY:Good Shepherd Choir Rehearsal
DESCRIPTION:The Good Shepherd Choir gathers to rehearse three times a week on Sunday\, Tuesday\, and Wednesday.   \nIf you would like more information about the music program at Good Shepherd\, please contact Michael Berman.
URL:https://goodshepherdbinghamton.org/event/good-shepherd-choir-rehearsal-51/
END:VEVENT
BEGIN:VEVENT
DTSTART;TZID=America/New_York:20250309T180000
DTEND;TZID=America/New_York:20250309T193000
DTSTAMP:20260424T003526
CREATED:20250225T150530Z
LAST-MODIFIED:20250225T150530Z
UID:33865-1741543200-1741548600@goodshepherdbinghamton.org
SUMMARY:Good Shepherd Youth Group
DESCRIPTION:Good Shepherd Youth Group meets Sundays at 6pm. This is an engagingcontext for kids to grow in: \n1) Knowledge of scripture and doctrine \n2) Faithfulness to Christ \n3) Service to others
URL:https://goodshepherdbinghamton.org/event/good-shepherd-youth-group-25/
END:VEVENT
BEGIN:VEVENT
DTSTART;TZID=America/New_York:20250309T180000
DTEND;TZID=America/New_York:20250309T193000
DTSTAMP:20260424T003526
CREATED:20250225T150615Z
LAST-MODIFIED:20250225T150615Z
UID:33878-1741543200-1741548600@goodshepherdbinghamton.org
SUMMARY:Holy Group Squad
DESCRIPTION:Holy Group Squad is a meeting of college aged young adults. They read and discuss literature through a Christian worldview. \nIf you would like more information about Holy Group Squad\, please contact Jonathan Groves.
URL:https://goodshepherdbinghamton.org/event/holy-group-squad-21/
END:VEVENT
END:VCALENDAR