BEGIN:VCALENDAR
VERSION:2.0
PRODID:-//Church of the Good Shepherd - ECPv6.15.20//NONSGML v1.0//EN
CALSCALE:GREGORIAN
METHOD:PUBLISH
X-WR-CALNAME:Church of the Good Shepherd
X-ORIGINAL-URL:https://goodshepherdbinghamton.org
X-WR-CALDESC:Events for Church of the Good Shepherd
REFRESH-INTERVAL;VALUE=DURATION:PT1H
X-Robots-Tag:noindex
X-PUBLISHED-TTL:PT1H
BEGIN:VTIMEZONE
TZID:America/New_York
BEGIN:DAYLIGHT
TZOFFSETFROM:-0500
TZOFFSETTO:-0400
TZNAME:EDT
DTSTART:20240310T070000
END:DAYLIGHT
BEGIN:STANDARD
TZOFFSETFROM:-0400
TZOFFSETTO:-0500
TZNAME:EST
DTSTART:20241103T060000
END:STANDARD
BEGIN:DAYLIGHT
TZOFFSETFROM:-0500
TZOFFSETTO:-0400
TZNAME:EDT
DTSTART:20250309T070000
END:DAYLIGHT
BEGIN:STANDARD
TZOFFSETFROM:-0400
TZOFFSETTO:-0500
TZNAME:EST
DTSTART:20251102T060000
END:STANDARD
BEGIN:DAYLIGHT
TZOFFSETFROM:-0500
TZOFFSETTO:-0400
TZNAME:EDT
DTSTART:20260308T070000
END:DAYLIGHT
BEGIN:STANDARD
TZOFFSETFROM:-0400
TZOFFSETTO:-0500
TZNAME:EST
DTSTART:20261101T060000
END:STANDARD
END:VTIMEZONE
BEGIN:VEVENT
DTSTART;TZID=America/New_York:20250304T070000
DTEND;TZID=America/New_York:20250304T080000
DTSTAMP:20260424T003600
CREATED:20250225T151330Z
LAST-MODIFIED:20250225T151330Z
UID:34022-1741071600-1741075200@goodshepherdbinghamton.org
SUMMARY:Morning Prayer
DESCRIPTION:Morning Prayer meets online by Zoom at 7am Monday through Friday. Theliturgy and readings are available at www.dailyoffice2019.com.  \nJoin the parishemail list and look for a weekly email invitation in your inbox.
URL:https://goodshepherdbinghamton.org/event/morning-prayer-93/
END:VEVENT
BEGIN:VEVENT
DTSTART;TZID=America/New_York:20250304T090000
DTEND;TZID=America/New_York:20250304T100000
DTSTAMP:20260424T003600
CREATED:20250225T151000Z
LAST-MODIFIED:20250225T151000Z
UID:33953-1741078800-1741082400@goodshepherdbinghamton.org
SUMMARY:Tuesday Morning Bible Study
DESCRIPTION:Tuesday Morning Bible Study meets at 9:05am to walk through different books of the bible\, verse by verse.  Taught by a member of the pastoral staff in the main room of the parish hall.  This class can be viewed in person or online each week by livestream.  \nThis class is currently working on a study focusing the book of 2 Samuel. \nThis class is meeting online and in person in the parish hall.  It can be viewed at https://www.facebook.com/groups/CoGSMedia/
URL:https://goodshepherdbinghamton.org/event/tuesday-morning-bible-study-82/
END:VEVENT
BEGIN:VEVENT
DTSTART;TZID=America/New_York:20250304T153000
DTEND;TZID=America/New_York:20250304T164500
DTSTAMP:20260424T003600
CREATED:20250225T150730Z
LAST-MODIFIED:20250225T150730Z
UID:33903-1741102200-1741106700@goodshepherdbinghamton.org
SUMMARY:Good Shepherd Choir Rehearsal
DESCRIPTION:If you would like more information about the music program at Good Shepherd\, please contact Michael Berman.
URL:https://goodshepherdbinghamton.org/event/good-shepherd-choir-rehearsal-63/
END:VEVENT
BEGIN:VEVENT
DTSTART;TZID=America/New_York:20250304T163000
DTEND;TZID=America/New_York:20250304T180000
DTSTAMP:20260424T003600
CREATED:20250222T035029Z
LAST-MODIFIED:20250225T151545Z
UID:33733-1741105800-1741111200@goodshepherdbinghamton.org
SUMMARY:Shrove Tuesday Pancake Supper
DESCRIPTION:Shrove Tuesday (known in some countries as ‘Pancake Day’ or ‘Fat Tuesday’) is the Tuesday before Ash Wednesday. This year it falls on March 4. \n\n\n\n‘Shrove’ comes from the Latin word ‘shrive’\, and means ‘absolution’.  It is thought that the tradition started when families would eat all of the fatty\, rich foods in the house so as not to be tempted during the penitent season of Lent.  \n\n\n\nGood Shepherd hosts a free pancake and sausage supper from 4:30 to 6pm to mark the day\, which is followed immediately by a short ceremony in which all of the palm fronds of the previous year are burned to produce the ashes that are used for Ash Wednesday’s services.  If you would like to help\, please contact Angel Groves.
URL:https://goodshepherdbinghamton.org/event/shrove-tuesday-pancake-supper/
END:VEVENT
END:VCALENDAR