BEGIN:VCALENDAR
VERSION:2.0
PRODID:-//Church of the Good Shepherd - ECPv6.15.20//NONSGML v1.0//EN
CALSCALE:GREGORIAN
METHOD:PUBLISH
X-ORIGINAL-URL:https://goodshepherdbinghamton.org
X-WR-CALDESC:Events for Church of the Good Shepherd
REFRESH-INTERVAL;VALUE=DURATION:PT1H
X-Robots-Tag:noindex
X-PUBLISHED-TTL:PT1H
BEGIN:VTIMEZONE
TZID:America/New_York
BEGIN:DAYLIGHT
TZOFFSETFROM:-0500
TZOFFSETTO:-0400
TZNAME:EDT
DTSTART:20230312T070000
END:DAYLIGHT
BEGIN:STANDARD
TZOFFSETFROM:-0400
TZOFFSETTO:-0500
TZNAME:EST
DTSTART:20231105T060000
END:STANDARD
BEGIN:DAYLIGHT
TZOFFSETFROM:-0500
TZOFFSETTO:-0400
TZNAME:EDT
DTSTART:20240310T070000
END:DAYLIGHT
BEGIN:STANDARD
TZOFFSETFROM:-0400
TZOFFSETTO:-0500
TZNAME:EST
DTSTART:20241103T060000
END:STANDARD
BEGIN:DAYLIGHT
TZOFFSETFROM:-0500
TZOFFSETTO:-0400
TZNAME:EDT
DTSTART:20250309T070000
END:DAYLIGHT
BEGIN:STANDARD
TZOFFSETFROM:-0400
TZOFFSETTO:-0500
TZNAME:EST
DTSTART:20251102T060000
END:STANDARD
END:VTIMEZONE
BEGIN:VEVENT
DTSTART;TZID=America/New_York:20241031T070000
DTEND;TZID=America/New_York:20241031T080000
DTSTAMP:20260424T072234
CREATED:20241014T181625Z
LAST-MODIFIED:20241028T191107Z
UID:33103-1730358000-1730361600@goodshepherdbinghamton.org
SUMMARY:Morning Prayer
DESCRIPTION:Morning Prayer meets online by Zoom at 7am Monday through Friday. Theliturgy and readings are available at www.dailyoffice2019.com.  \nJoin the parishemail list and look for a weekly email invitation in your inbox.
URL:https://goodshepherdbinghamton.org/event/morning-prayer-34/
CATEGORIES:Celebration
END:VEVENT
BEGIN:VEVENT
DTSTART;TZID=America/New_York:20241031T170000
DTEND;TZID=America/New_York:20241031T183000
DTSTAMP:20260424T072234
CREATED:20241007T194016Z
LAST-MODIFIED:20241028T175328Z
UID:32776-1730394000-1730399400@goodshepherdbinghamton.org
SUMMARY:Trunk-N-Treat (No Shepherd's Bowl)
DESCRIPTION:All are invited to Church of the Good Shepherd’s Trunk or Treat in the parking lot.\nShepherd’s Bowl will not be held on October 31\, but our guests are welcome to still come for Trunk-N-Treat.\nPlease find our page on Facebook\, Shepherd’s Bowl Free Community Meal\, and follow\, like and share posts\, and invite friends. 
URL:https://goodshepherdbinghamton.org/event/shepherds-bowl-community-meal-68/
ATTACH;FMTTYPE=image/jpeg:https://goodshepherdbinghamton.org/wp-content/uploads/2024/10/4U2A1572.jpg
END:VEVENT
BEGIN:VEVENT
DTSTART;TZID=America/New_York:20241031T170000
DTEND;TZID=America/New_York:20241031T190000
DTSTAMP:20260424T072234
CREATED:20241007T193810Z
LAST-MODIFIED:20241014T191918Z
UID:32727-1730394000-1730401200@goodshepherdbinghamton.org
SUMMARY:Trunk n Treat
DESCRIPTION: Good Shepherd’s annual Trunk or Treat event will be held from 5-7pm.   \nPlease join us for a fun evening of snacks\, fun\, and fellowship.  There will be many car trunks decorated and filled with treats in the parking lot.  All are invited to this free event.  Please invite your family and friends.
URL:https://goodshepherdbinghamton.org/event/trunk-n-treat-3/
END:VEVENT
END:VCALENDAR