BEGIN:VCALENDAR
VERSION:2.0
PRODID:-//Church of the Good Shepherd - ECPv6.15.20//NONSGML v1.0//EN
CALSCALE:GREGORIAN
METHOD:PUBLISH
X-ORIGINAL-URL:https://goodshepherdbinghamton.org
X-WR-CALDESC:Events for Church of the Good Shepherd
REFRESH-INTERVAL;VALUE=DURATION:PT1H
X-Robots-Tag:noindex
X-PUBLISHED-TTL:PT1H
BEGIN:VTIMEZONE
TZID:America/New_York
BEGIN:DAYLIGHT
TZOFFSETFROM:-0500
TZOFFSETTO:-0400
TZNAME:EDT
DTSTART:20230312T070000
END:DAYLIGHT
BEGIN:STANDARD
TZOFFSETFROM:-0400
TZOFFSETTO:-0500
TZNAME:EST
DTSTART:20231105T060000
END:STANDARD
BEGIN:DAYLIGHT
TZOFFSETFROM:-0500
TZOFFSETTO:-0400
TZNAME:EDT
DTSTART:20240310T070000
END:DAYLIGHT
BEGIN:STANDARD
TZOFFSETFROM:-0400
TZOFFSETTO:-0500
TZNAME:EST
DTSTART:20241103T060000
END:STANDARD
BEGIN:DAYLIGHT
TZOFFSETFROM:-0500
TZOFFSETTO:-0400
TZNAME:EDT
DTSTART:20250309T070000
END:DAYLIGHT
BEGIN:STANDARD
TZOFFSETFROM:-0400
TZOFFSETTO:-0500
TZNAME:EST
DTSTART:20251102T060000
END:STANDARD
END:VTIMEZONE
BEGIN:VEVENT
DTSTART;TZID=America/New_York:20240815T173000
DTEND;TZID=America/New_York:20240815T183000
DTSTAMP:20260424T121213
CREATED:20240702T181303Z
LAST-MODIFIED:20240708T183207Z
UID:32174-1723743000-1723746600@goodshepherdbinghamton.org
SUMMARY:Shepherd's Bowl Community Meal
DESCRIPTION:Each Thursday evening\, Good Shepherd offers a free nutritious meal to thepeople of Good Shepherd and the wider community. If you are able\, this is a great time to get to know others and enjoya free and delicious meal. \nThe Rev. Jonathan Groves leads a beginners Bible study at 6:00 and anyone is welcome to attend.  The study is currently working on the book of Judges. \nPlease find our page on Facebook\, Shepherd’s Bowl Free Community Meal\, and follow\, like and share posts\, and invite friends. 
URL:https://goodshepherdbinghamton.org/event/shepherds-bowl-community-meal-57/
END:VEVENT
END:VCALENDAR