BEGIN:VCALENDAR
VERSION:2.0
PRODID:-//Church of the Good Shepherd - ECPv6.15.20//NONSGML v1.0//EN
CALSCALE:GREGORIAN
METHOD:PUBLISH
X-ORIGINAL-URL:https://goodshepherdbinghamton.org
X-WR-CALDESC:Events for Church of the Good Shepherd
REFRESH-INTERVAL;VALUE=DURATION:PT1H
X-Robots-Tag:noindex
X-PUBLISHED-TTL:PT1H
BEGIN:VTIMEZONE
TZID:America/New_York
BEGIN:DAYLIGHT
TZOFFSETFROM:-0500
TZOFFSETTO:-0400
TZNAME:EDT
DTSTART:20220313T070000
END:DAYLIGHT
BEGIN:STANDARD
TZOFFSETFROM:-0400
TZOFFSETTO:-0500
TZNAME:EST
DTSTART:20221106T060000
END:STANDARD
BEGIN:DAYLIGHT
TZOFFSETFROM:-0500
TZOFFSETTO:-0400
TZNAME:EDT
DTSTART:20230312T070000
END:DAYLIGHT
BEGIN:STANDARD
TZOFFSETFROM:-0400
TZOFFSETTO:-0500
TZNAME:EST
DTSTART:20231105T060000
END:STANDARD
BEGIN:DAYLIGHT
TZOFFSETFROM:-0500
TZOFFSETTO:-0400
TZNAME:EDT
DTSTART:20240310T070000
END:DAYLIGHT
BEGIN:STANDARD
TZOFFSETFROM:-0400
TZOFFSETTO:-0500
TZNAME:EST
DTSTART:20241103T060000
END:STANDARD
END:VTIMEZONE
BEGIN:VEVENT
DTSTART;TZID=America/New_York:20230817T173000
DTEND;TZID=America/New_York:20230817T183000
DTSTAMP:20260425T083835
CREATED:20230905T135105Z
LAST-MODIFIED:20230905T135107Z
UID:24906-1692293400-1692297000@goodshepherdbinghamton.org
SUMMARY:Shepherd's Bowl Community Meal
DESCRIPTION:Each Thursday evening\, Good Shepherd offers a free nutritious meal to thepeople of Good Shepherd and the wider community. If you are able\, this is a great time to get to know others and enjoya free and delicious meal. \nThe Rev. Jonathan Groves leads a beginners Bible study at 6:00 and anyone is welcome to attend.  The study is currently working on the book of Judges. \nPlease find our page on Facebook\, Shepherd’s Bowl Free Community Meal\, and follow\, like and share posts\, and invite friends. 
URL:https://goodshepherdbinghamton.org/event/shepherds-bowl-community-meal-17/
END:VEVENT
BEGIN:VEVENT
DTSTART;TZID=America/New_York:20230817T180000
DTEND;TZID=America/New_York:20230817T190000
DTSTAMP:20260425T083835
CREATED:20230905T154352Z
LAST-MODIFIED:20230905T154352Z
UID:25280-1692295200-1692298800@goodshepherdbinghamton.org
SUMMARY:Beginner's Bible Study
DESCRIPTION:Every Thursday evening directly following the Shepherd’s Bowl Community Dinner\, there is a beginner’s bible study at Good Shepherd.  All are welcome! \nThis is a great place to connect with others and learn more about what God has to say to us through his word.  The class is taught by The Rev. Jonathan Groves\, and the class is currently studying the book of Mark. 
URL:https://goodshepherdbinghamton.org/event/beginners-bible-study-3/
END:VEVENT
END:VCALENDAR